BEGIN:VCALENDAR
VERSION:2.0
PRODID:-//Zushi&#039;s List - ECPv6.15.20//NONSGML v1.0//EN
CALSCALE:GREGORIAN
METHOD:PUBLISH
X-WR-CALNAME:Zushi&#039;s List
X-ORIGINAL-URL:https://zushislist.com
X-WR-CALDESC:Events for Zushi&#039;s List
REFRESH-INTERVAL;VALUE=DURATION:PT1H
X-Robots-Tag:noindex
X-PUBLISHED-TTL:PT1H
BEGIN:VTIMEZONE
TZID:America/New_York
BEGIN:DAYLIGHT
TZOFFSETFROM:-0500
TZOFFSETTO:-0400
TZNAME:EDT
DTSTART:20250309T070000
END:DAYLIGHT
BEGIN:STANDARD
TZOFFSETFROM:-0400
TZOFFSETTO:-0500
TZNAME:EST
DTSTART:20251102T060000
END:STANDARD
BEGIN:DAYLIGHT
TZOFFSETFROM:-0500
TZOFFSETTO:-0400
TZNAME:EDT
DTSTART:20260308T070000
END:DAYLIGHT
BEGIN:STANDARD
TZOFFSETFROM:-0400
TZOFFSETTO:-0500
TZNAME:EST
DTSTART:20261101T060000
END:STANDARD
BEGIN:DAYLIGHT
TZOFFSETFROM:-0500
TZOFFSETTO:-0400
TZNAME:EDT
DTSTART:20270314T070000
END:DAYLIGHT
BEGIN:STANDARD
TZOFFSETFROM:-0400
TZOFFSETTO:-0500
TZNAME:EST
DTSTART:20271107T060000
END:STANDARD
END:VTIMEZONE
BEGIN:VEVENT
DTSTART;TZID=America/New_York:20260427T190000
DTEND;TZID=America/New_York:20260427T201500
DTSTAMP:20260423T125445
CREATED:20260422T171350Z
LAST-MODIFIED:20260422T171350Z
UID:10014896-1777316400-1777320900@zushislist.com
SUMMARY:MONDAYS WİTH YEHUDİ TAMPA
DESCRIPTION:MONDAYS WİTH YEHUDİ TAMPA \nEVERY MONDAY NIGHT 7-8:15 PM \nDINNER | LEARNING | DESSERTS \nFLOM FAMILY HOME IN TAMPA \n(ADDRESS WILL BE GIVEN UPON RSVP)
URL:https://zushislist.com/single-event/mondays-with-yehudi-tampa/2026-04-27/
CATEGORIES:Community
ATTACH;FMTTYPE=image/png:https://zushislist.com/wp-content/uploads/2026/04/Every-Monday.png
END:VEVENT
BEGIN:VEVENT
DTSTART;TZID=America/New_York:20260504T190000
DTEND;TZID=America/New_York:20260504T201500
DTSTAMP:20260423T125445
CREATED:20260422T171350Z
LAST-MODIFIED:20260422T171350Z
UID:10014897-1777921200-1777925700@zushislist.com
SUMMARY:MONDAYS WİTH YEHUDİ TAMPA
DESCRIPTION:MONDAYS WİTH YEHUDİ TAMPA \nEVERY MONDAY NIGHT 7-8:15 PM \nDINNER | LEARNING | DESSERTS \nFLOM FAMILY HOME IN TAMPA \n(ADDRESS WILL BE GIVEN UPON RSVP)
URL:https://zushislist.com/single-event/mondays-with-yehudi-tampa/2026-05-04/
CATEGORIES:Community
ATTACH;FMTTYPE=image/png:https://zushislist.com/wp-content/uploads/2026/04/Every-Monday.png
END:VEVENT
BEGIN:VEVENT
DTSTART;TZID=America/New_York:20260511T190000
DTEND;TZID=America/New_York:20260511T201500
DTSTAMP:20260423T125445
CREATED:20260422T171350Z
LAST-MODIFIED:20260422T171350Z
UID:10014898-1778526000-1778530500@zushislist.com
SUMMARY:MONDAYS WİTH YEHUDİ TAMPA
DESCRIPTION:MONDAYS WİTH YEHUDİ TAMPA \nEVERY MONDAY NIGHT 7-8:15 PM \nDINNER | LEARNING | DESSERTS \nFLOM FAMILY HOME IN TAMPA \n(ADDRESS WILL BE GIVEN UPON RSVP)
URL:https://zushislist.com/single-event/mondays-with-yehudi-tampa/2026-05-11/
CATEGORIES:Community
ATTACH;FMTTYPE=image/png:https://zushislist.com/wp-content/uploads/2026/04/Every-Monday.png
END:VEVENT
BEGIN:VEVENT
DTSTART;TZID=America/New_York:20260518T190000
DTEND;TZID=America/New_York:20260518T201500
DTSTAMP:20260423T125445
CREATED:20260422T171350Z
LAST-MODIFIED:20260422T171350Z
UID:10014899-1779130800-1779135300@zushislist.com
SUMMARY:MONDAYS WİTH YEHUDİ TAMPA
DESCRIPTION:MONDAYS WİTH YEHUDİ TAMPA \nEVERY MONDAY NIGHT 7-8:15 PM \nDINNER | LEARNING | DESSERTS \nFLOM FAMILY HOME IN TAMPA \n(ADDRESS WILL BE GIVEN UPON RSVP)
URL:https://zushislist.com/single-event/mondays-with-yehudi-tampa/2026-05-18/
CATEGORIES:Community
ATTACH;FMTTYPE=image/png:https://zushislist.com/wp-content/uploads/2026/04/Every-Monday.png
END:VEVENT
BEGIN:VEVENT
DTSTART;TZID=America/New_York:20260525T190000
DTEND;TZID=America/New_York:20260525T201500
DTSTAMP:20260423T125445
CREATED:20260422T171350Z
LAST-MODIFIED:20260422T171350Z
UID:10014900-1779735600-1779740100@zushislist.com
SUMMARY:MONDAYS WİTH YEHUDİ TAMPA
DESCRIPTION:MONDAYS WİTH YEHUDİ TAMPA \nEVERY MONDAY NIGHT 7-8:15 PM \nDINNER | LEARNING | DESSERTS \nFLOM FAMILY HOME IN TAMPA \n(ADDRESS WILL BE GIVEN UPON RSVP)
URL:https://zushislist.com/single-event/mondays-with-yehudi-tampa/2026-05-25/
CATEGORIES:Community
ATTACH;FMTTYPE=image/png:https://zushislist.com/wp-content/uploads/2026/04/Every-Monday.png
END:VEVENT
BEGIN:VEVENT
DTSTART;TZID=America/New_York:20260601T190000
DTEND;TZID=America/New_York:20260601T201500
DTSTAMP:20260423T125445
CREATED:20260422T171350Z
LAST-MODIFIED:20260422T171350Z
UID:10014901-1780340400-1780344900@zushislist.com
SUMMARY:MONDAYS WİTH YEHUDİ TAMPA
DESCRIPTION:MONDAYS WİTH YEHUDİ TAMPA \nEVERY MONDAY NIGHT 7-8:15 PM \nDINNER | LEARNING | DESSERTS \nFLOM FAMILY HOME IN TAMPA \n(ADDRESS WILL BE GIVEN UPON RSVP)
URL:https://zushislist.com/single-event/mondays-with-yehudi-tampa/2026-06-01/
CATEGORIES:Community
ATTACH;FMTTYPE=image/png:https://zushislist.com/wp-content/uploads/2026/04/Every-Monday.png
END:VEVENT
BEGIN:VEVENT
DTSTART;TZID=America/New_York:20260608T190000
DTEND;TZID=America/New_York:20260608T201500
DTSTAMP:20260423T125445
CREATED:20260422T171350Z
LAST-MODIFIED:20260422T171350Z
UID:10014902-1780945200-1780949700@zushislist.com
SUMMARY:MONDAYS WİTH YEHUDİ TAMPA
DESCRIPTION:MONDAYS WİTH YEHUDİ TAMPA \nEVERY MONDAY NIGHT 7-8:15 PM \nDINNER | LEARNING | DESSERTS \nFLOM FAMILY HOME IN TAMPA \n(ADDRESS WILL BE GIVEN UPON RSVP)
URL:https://zushislist.com/single-event/mondays-with-yehudi-tampa/2026-06-08/
CATEGORIES:Community
ATTACH;FMTTYPE=image/png:https://zushislist.com/wp-content/uploads/2026/04/Every-Monday.png
END:VEVENT
BEGIN:VEVENT
DTSTART;TZID=America/New_York:20260615T190000
DTEND;TZID=America/New_York:20260615T201500
DTSTAMP:20260423T125445
CREATED:20260422T171350Z
LAST-MODIFIED:20260422T171350Z
UID:10014903-1781550000-1781554500@zushislist.com
SUMMARY:MONDAYS WİTH YEHUDİ TAMPA
DESCRIPTION:MONDAYS WİTH YEHUDİ TAMPA \nEVERY MONDAY NIGHT 7-8:15 PM \nDINNER | LEARNING | DESSERTS \nFLOM FAMILY HOME IN TAMPA \n(ADDRESS WILL BE GIVEN UPON RSVP)
URL:https://zushislist.com/single-event/mondays-with-yehudi-tampa/2026-06-15/
CATEGORIES:Community
ATTACH;FMTTYPE=image/png:https://zushislist.com/wp-content/uploads/2026/04/Every-Monday.png
END:VEVENT
BEGIN:VEVENT
DTSTART;TZID=America/New_York:20260622T190000
DTEND;TZID=America/New_York:20260622T201500
DTSTAMP:20260423T125445
CREATED:20260422T171350Z
LAST-MODIFIED:20260422T171350Z
UID:10014904-1782154800-1782159300@zushislist.com
SUMMARY:MONDAYS WİTH YEHUDİ TAMPA
DESCRIPTION:MONDAYS WİTH YEHUDİ TAMPA \nEVERY MONDAY NIGHT 7-8:15 PM \nDINNER | LEARNING | DESSERTS \nFLOM FAMILY HOME IN TAMPA \n(ADDRESS WILL BE GIVEN UPON RSVP)
URL:https://zushislist.com/single-event/mondays-with-yehudi-tampa/2026-06-22/
CATEGORIES:Community
ATTACH;FMTTYPE=image/png:https://zushislist.com/wp-content/uploads/2026/04/Every-Monday.png
END:VEVENT
BEGIN:VEVENT
DTSTART;TZID=America/New_York:20260629T190000
DTEND;TZID=America/New_York:20260629T201500
DTSTAMP:20260423T125445
CREATED:20260422T171350Z
LAST-MODIFIED:20260422T171350Z
UID:10014905-1782759600-1782764100@zushislist.com
SUMMARY:MONDAYS WİTH YEHUDİ TAMPA
DESCRIPTION:MONDAYS WİTH YEHUDİ TAMPA \nEVERY MONDAY NIGHT 7-8:15 PM \nDINNER | LEARNING | DESSERTS \nFLOM FAMILY HOME IN TAMPA \n(ADDRESS WILL BE GIVEN UPON RSVP)
URL:https://zushislist.com/single-event/mondays-with-yehudi-tampa/2026-06-29/
CATEGORIES:Community
ATTACH;FMTTYPE=image/png:https://zushislist.com/wp-content/uploads/2026/04/Every-Monday.png
END:VEVENT
BEGIN:VEVENT
DTSTART;TZID=America/New_York:20260706T190000
DTEND;TZID=America/New_York:20260706T201500
DTSTAMP:20260423T125445
CREATED:20260422T171350Z
LAST-MODIFIED:20260422T171350Z
UID:10014906-1783364400-1783368900@zushislist.com
SUMMARY:MONDAYS WİTH YEHUDİ TAMPA
DESCRIPTION:MONDAYS WİTH YEHUDİ TAMPA \nEVERY MONDAY NIGHT 7-8:15 PM \nDINNER | LEARNING | DESSERTS \nFLOM FAMILY HOME IN TAMPA \n(ADDRESS WILL BE GIVEN UPON RSVP)
URL:https://zushislist.com/single-event/mondays-with-yehudi-tampa/2026-07-06/
CATEGORIES:Community
ATTACH;FMTTYPE=image/png:https://zushislist.com/wp-content/uploads/2026/04/Every-Monday.png
END:VEVENT
BEGIN:VEVENT
DTSTART;TZID=America/New_York:20260713T190000
DTEND;TZID=America/New_York:20260713T201500
DTSTAMP:20260423T125445
CREATED:20260422T171350Z
LAST-MODIFIED:20260422T171350Z
UID:10014907-1783969200-1783973700@zushislist.com
SUMMARY:MONDAYS WİTH YEHUDİ TAMPA
DESCRIPTION:MONDAYS WİTH YEHUDİ TAMPA \nEVERY MONDAY NIGHT 7-8:15 PM \nDINNER | LEARNING | DESSERTS \nFLOM FAMILY HOME IN TAMPA \n(ADDRESS WILL BE GIVEN UPON RSVP)
URL:https://zushislist.com/single-event/mondays-with-yehudi-tampa/2026-07-13/
CATEGORIES:Community
ATTACH;FMTTYPE=image/png:https://zushislist.com/wp-content/uploads/2026/04/Every-Monday.png
END:VEVENT
BEGIN:VEVENT
DTSTART;TZID=America/New_York:20260720T190000
DTEND;TZID=America/New_York:20260720T201500
DTSTAMP:20260423T125445
CREATED:20260422T171350Z
LAST-MODIFIED:20260422T171350Z
UID:10014908-1784574000-1784578500@zushislist.com
SUMMARY:MONDAYS WİTH YEHUDİ TAMPA
DESCRIPTION:MONDAYS WİTH YEHUDİ TAMPA \nEVERY MONDAY NIGHT 7-8:15 PM \nDINNER | LEARNING | DESSERTS \nFLOM FAMILY HOME IN TAMPA \n(ADDRESS WILL BE GIVEN UPON RSVP)
URL:https://zushislist.com/single-event/mondays-with-yehudi-tampa/2026-07-20/
CATEGORIES:Community
ATTACH;FMTTYPE=image/png:https://zushislist.com/wp-content/uploads/2026/04/Every-Monday.png
END:VEVENT
BEGIN:VEVENT
DTSTART;TZID=America/New_York:20260727T190000
DTEND;TZID=America/New_York:20260727T201500
DTSTAMP:20260423T125445
CREATED:20260422T171350Z
LAST-MODIFIED:20260422T171350Z
UID:10014909-1785178800-1785183300@zushislist.com
SUMMARY:MONDAYS WİTH YEHUDİ TAMPA
DESCRIPTION:MONDAYS WİTH YEHUDİ TAMPA \nEVERY MONDAY NIGHT 7-8:15 PM \nDINNER | LEARNING | DESSERTS \nFLOM FAMILY HOME IN TAMPA \n(ADDRESS WILL BE GIVEN UPON RSVP)
URL:https://zushislist.com/single-event/mondays-with-yehudi-tampa/2026-07-27/
CATEGORIES:Community
ATTACH;FMTTYPE=image/png:https://zushislist.com/wp-content/uploads/2026/04/Every-Monday.png
END:VEVENT
BEGIN:VEVENT
DTSTART;TZID=America/New_York:20260803T190000
DTEND;TZID=America/New_York:20260803T201500
DTSTAMP:20260423T125445
CREATED:20260422T171350Z
LAST-MODIFIED:20260422T171350Z
UID:10014910-1785783600-1785788100@zushislist.com
SUMMARY:MONDAYS WİTH YEHUDİ TAMPA
DESCRIPTION:MONDAYS WİTH YEHUDİ TAMPA \nEVERY MONDAY NIGHT 7-8:15 PM \nDINNER | LEARNING | DESSERTS \nFLOM FAMILY HOME IN TAMPA \n(ADDRESS WILL BE GIVEN UPON RSVP)
URL:https://zushislist.com/single-event/mondays-with-yehudi-tampa/2026-08-03/
CATEGORIES:Community
ATTACH;FMTTYPE=image/png:https://zushislist.com/wp-content/uploads/2026/04/Every-Monday.png
END:VEVENT
BEGIN:VEVENT
DTSTART;TZID=America/New_York:20260810T190000
DTEND;TZID=America/New_York:20260810T201500
DTSTAMP:20260423T125445
CREATED:20260422T171350Z
LAST-MODIFIED:20260422T171350Z
UID:10014911-1786388400-1786392900@zushislist.com
SUMMARY:MONDAYS WİTH YEHUDİ TAMPA
DESCRIPTION:MONDAYS WİTH YEHUDİ TAMPA \nEVERY MONDAY NIGHT 7-8:15 PM \nDINNER | LEARNING | DESSERTS \nFLOM FAMILY HOME IN TAMPA \n(ADDRESS WILL BE GIVEN UPON RSVP)
URL:https://zushislist.com/single-event/mondays-with-yehudi-tampa/2026-08-10/
CATEGORIES:Community
ATTACH;FMTTYPE=image/png:https://zushislist.com/wp-content/uploads/2026/04/Every-Monday.png
END:VEVENT
BEGIN:VEVENT
DTSTART;TZID=America/New_York:20260817T190000
DTEND;TZID=America/New_York:20260817T201500
DTSTAMP:20260423T125445
CREATED:20260422T171350Z
LAST-MODIFIED:20260422T171350Z
UID:10014912-1786993200-1786997700@zushislist.com
SUMMARY:MONDAYS WİTH YEHUDİ TAMPA
DESCRIPTION:MONDAYS WİTH YEHUDİ TAMPA \nEVERY MONDAY NIGHT 7-8:15 PM \nDINNER | LEARNING | DESSERTS \nFLOM FAMILY HOME IN TAMPA \n(ADDRESS WILL BE GIVEN UPON RSVP)
URL:https://zushislist.com/single-event/mondays-with-yehudi-tampa/2026-08-17/
CATEGORIES:Community
ATTACH;FMTTYPE=image/png:https://zushislist.com/wp-content/uploads/2026/04/Every-Monday.png
END:VEVENT
BEGIN:VEVENT
DTSTART;TZID=America/New_York:20260824T190000
DTEND;TZID=America/New_York:20260824T201500
DTSTAMP:20260423T125445
CREATED:20260422T171350Z
LAST-MODIFIED:20260422T171350Z
UID:10014913-1787598000-1787602500@zushislist.com
SUMMARY:MONDAYS WİTH YEHUDİ TAMPA
DESCRIPTION:MONDAYS WİTH YEHUDİ TAMPA \nEVERY MONDAY NIGHT 7-8:15 PM \nDINNER | LEARNING | DESSERTS \nFLOM FAMILY HOME IN TAMPA \n(ADDRESS WILL BE GIVEN UPON RSVP)
URL:https://zushislist.com/single-event/mondays-with-yehudi-tampa/2026-08-24/
CATEGORIES:Community
ATTACH;FMTTYPE=image/png:https://zushislist.com/wp-content/uploads/2026/04/Every-Monday.png
END:VEVENT
BEGIN:VEVENT
DTSTART;TZID=America/New_York:20260831T190000
DTEND;TZID=America/New_York:20260831T201500
DTSTAMP:20260423T125445
CREATED:20260422T171350Z
LAST-MODIFIED:20260422T171350Z
UID:10014914-1788202800-1788207300@zushislist.com
SUMMARY:MONDAYS WİTH YEHUDİ TAMPA
DESCRIPTION:MONDAYS WİTH YEHUDİ TAMPA \nEVERY MONDAY NIGHT 7-8:15 PM \nDINNER | LEARNING | DESSERTS \nFLOM FAMILY HOME IN TAMPA \n(ADDRESS WILL BE GIVEN UPON RSVP)
URL:https://zushislist.com/single-event/mondays-with-yehudi-tampa/2026-08-31/
CATEGORIES:Community
ATTACH;FMTTYPE=image/png:https://zushislist.com/wp-content/uploads/2026/04/Every-Monday.png
END:VEVENT
BEGIN:VEVENT
DTSTART;TZID=America/New_York:20260907T190000
DTEND;TZID=America/New_York:20260907T201500
DTSTAMP:20260423T125445
CREATED:20260422T171350Z
LAST-MODIFIED:20260422T171350Z
UID:10014915-1788807600-1788812100@zushislist.com
SUMMARY:MONDAYS WİTH YEHUDİ TAMPA
DESCRIPTION:MONDAYS WİTH YEHUDİ TAMPA \nEVERY MONDAY NIGHT 7-8:15 PM \nDINNER | LEARNING | DESSERTS \nFLOM FAMILY HOME IN TAMPA \n(ADDRESS WILL BE GIVEN UPON RSVP)
URL:https://zushislist.com/single-event/mondays-with-yehudi-tampa/2026-09-07/
CATEGORIES:Community
ATTACH;FMTTYPE=image/png:https://zushislist.com/wp-content/uploads/2026/04/Every-Monday.png
END:VEVENT
BEGIN:VEVENT
DTSTART;TZID=America/New_York:20260914T190000
DTEND;TZID=America/New_York:20260914T201500
DTSTAMP:20260423T125445
CREATED:20260422T171350Z
LAST-MODIFIED:20260422T171350Z
UID:10014916-1789412400-1789416900@zushislist.com
SUMMARY:MONDAYS WİTH YEHUDİ TAMPA
DESCRIPTION:MONDAYS WİTH YEHUDİ TAMPA \nEVERY MONDAY NIGHT 7-8:15 PM \nDINNER | LEARNING | DESSERTS \nFLOM FAMILY HOME IN TAMPA \n(ADDRESS WILL BE GIVEN UPON RSVP)
URL:https://zushislist.com/single-event/mondays-with-yehudi-tampa/2026-09-14/
CATEGORIES:Community
ATTACH;FMTTYPE=image/png:https://zushislist.com/wp-content/uploads/2026/04/Every-Monday.png
END:VEVENT
BEGIN:VEVENT
DTSTART;TZID=America/New_York:20260921T190000
DTEND;TZID=America/New_York:20260921T201500
DTSTAMP:20260423T125445
CREATED:20260422T171350Z
LAST-MODIFIED:20260422T171350Z
UID:10014917-1790017200-1790021700@zushislist.com
SUMMARY:MONDAYS WİTH YEHUDİ TAMPA
DESCRIPTION:MONDAYS WİTH YEHUDİ TAMPA \nEVERY MONDAY NIGHT 7-8:15 PM \nDINNER | LEARNING | DESSERTS \nFLOM FAMILY HOME IN TAMPA \n(ADDRESS WILL BE GIVEN UPON RSVP)
URL:https://zushislist.com/single-event/mondays-with-yehudi-tampa/2026-09-21/
CATEGORIES:Community
ATTACH;FMTTYPE=image/png:https://zushislist.com/wp-content/uploads/2026/04/Every-Monday.png
END:VEVENT
BEGIN:VEVENT
DTSTART;TZID=America/New_York:20260928T190000
DTEND;TZID=America/New_York:20260928T201500
DTSTAMP:20260423T125445
CREATED:20260422T171350Z
LAST-MODIFIED:20260422T171350Z
UID:10014918-1790622000-1790626500@zushislist.com
SUMMARY:MONDAYS WİTH YEHUDİ TAMPA
DESCRIPTION:MONDAYS WİTH YEHUDİ TAMPA \nEVERY MONDAY NIGHT 7-8:15 PM \nDINNER | LEARNING | DESSERTS \nFLOM FAMILY HOME IN TAMPA \n(ADDRESS WILL BE GIVEN UPON RSVP)
URL:https://zushislist.com/single-event/mondays-with-yehudi-tampa/2026-09-28/
CATEGORIES:Community
ATTACH;FMTTYPE=image/png:https://zushislist.com/wp-content/uploads/2026/04/Every-Monday.png
END:VEVENT
BEGIN:VEVENT
DTSTART;TZID=America/New_York:20261005T190000
DTEND;TZID=America/New_York:20261005T201500
DTSTAMP:20260423T125445
CREATED:20260422T171350Z
LAST-MODIFIED:20260422T171350Z
UID:10014919-1791226800-1791231300@zushislist.com
SUMMARY:MONDAYS WİTH YEHUDİ TAMPA
DESCRIPTION:MONDAYS WİTH YEHUDİ TAMPA \nEVERY MONDAY NIGHT 7-8:15 PM \nDINNER | LEARNING | DESSERTS \nFLOM FAMILY HOME IN TAMPA \n(ADDRESS WILL BE GIVEN UPON RSVP)
URL:https://zushislist.com/single-event/mondays-with-yehudi-tampa/2026-10-05/
CATEGORIES:Community
ATTACH;FMTTYPE=image/png:https://zushislist.com/wp-content/uploads/2026/04/Every-Monday.png
END:VEVENT
BEGIN:VEVENT
DTSTART;TZID=America/New_York:20261012T190000
DTEND;TZID=America/New_York:20261012T201500
DTSTAMP:20260423T125445
CREATED:20260422T171350Z
LAST-MODIFIED:20260422T171350Z
UID:10014920-1791831600-1791836100@zushislist.com
SUMMARY:MONDAYS WİTH YEHUDİ TAMPA
DESCRIPTION:MONDAYS WİTH YEHUDİ TAMPA \nEVERY MONDAY NIGHT 7-8:15 PM \nDINNER | LEARNING | DESSERTS \nFLOM FAMILY HOME IN TAMPA \n(ADDRESS WILL BE GIVEN UPON RSVP)
URL:https://zushislist.com/single-event/mondays-with-yehudi-tampa/2026-10-12/
CATEGORIES:Community
ATTACH;FMTTYPE=image/png:https://zushislist.com/wp-content/uploads/2026/04/Every-Monday.png
END:VEVENT
BEGIN:VEVENT
DTSTART;TZID=America/New_York:20261019T190000
DTEND;TZID=America/New_York:20261019T201500
DTSTAMP:20260423T125445
CREATED:20260422T171350Z
LAST-MODIFIED:20260422T171350Z
UID:10014921-1792436400-1792440900@zushislist.com
SUMMARY:MONDAYS WİTH YEHUDİ TAMPA
DESCRIPTION:MONDAYS WİTH YEHUDİ TAMPA \nEVERY MONDAY NIGHT 7-8:15 PM \nDINNER | LEARNING | DESSERTS \nFLOM FAMILY HOME IN TAMPA \n(ADDRESS WILL BE GIVEN UPON RSVP)
URL:https://zushislist.com/single-event/mondays-with-yehudi-tampa/2026-10-19/
CATEGORIES:Community
ATTACH;FMTTYPE=image/png:https://zushislist.com/wp-content/uploads/2026/04/Every-Monday.png
END:VEVENT
BEGIN:VEVENT
DTSTART;TZID=America/New_York:20261026T190000
DTEND;TZID=America/New_York:20261026T201500
DTSTAMP:20260423T125445
CREATED:20260422T171350Z
LAST-MODIFIED:20260422T171350Z
UID:10014922-1793041200-1793045700@zushislist.com
SUMMARY:MONDAYS WİTH YEHUDİ TAMPA
DESCRIPTION:MONDAYS WİTH YEHUDİ TAMPA \nEVERY MONDAY NIGHT 7-8:15 PM \nDINNER | LEARNING | DESSERTS \nFLOM FAMILY HOME IN TAMPA \n(ADDRESS WILL BE GIVEN UPON RSVP)
URL:https://zushislist.com/single-event/mondays-with-yehudi-tampa/2026-10-26/
CATEGORIES:Community
ATTACH;FMTTYPE=image/png:https://zushislist.com/wp-content/uploads/2026/04/Every-Monday.png
END:VEVENT
BEGIN:VEVENT
DTSTART;TZID=America/New_York:20261102T190000
DTEND;TZID=America/New_York:20261102T201500
DTSTAMP:20260423T125445
CREATED:20260422T171350Z
LAST-MODIFIED:20260422T171350Z
UID:10014923-1793646000-1793650500@zushislist.com
SUMMARY:MONDAYS WİTH YEHUDİ TAMPA
DESCRIPTION:MONDAYS WİTH YEHUDİ TAMPA \nEVERY MONDAY NIGHT 7-8:15 PM \nDINNER | LEARNING | DESSERTS \nFLOM FAMILY HOME IN TAMPA \n(ADDRESS WILL BE GIVEN UPON RSVP)
URL:https://zushislist.com/single-event/mondays-with-yehudi-tampa/2026-11-02/
CATEGORIES:Community
ATTACH;FMTTYPE=image/png:https://zushislist.com/wp-content/uploads/2026/04/Every-Monday.png
END:VEVENT
BEGIN:VEVENT
DTSTART;TZID=America/New_York:20261109T190000
DTEND;TZID=America/New_York:20261109T201500
DTSTAMP:20260423T125445
CREATED:20260422T171350Z
LAST-MODIFIED:20260422T171350Z
UID:10014924-1794250800-1794255300@zushislist.com
SUMMARY:MONDAYS WİTH YEHUDİ TAMPA
DESCRIPTION:MONDAYS WİTH YEHUDİ TAMPA \nEVERY MONDAY NIGHT 7-8:15 PM \nDINNER | LEARNING | DESSERTS \nFLOM FAMILY HOME IN TAMPA \n(ADDRESS WILL BE GIVEN UPON RSVP)
URL:https://zushislist.com/single-event/mondays-with-yehudi-tampa/2026-11-09/
CATEGORIES:Community
ATTACH;FMTTYPE=image/png:https://zushislist.com/wp-content/uploads/2026/04/Every-Monday.png
END:VEVENT
BEGIN:VEVENT
DTSTART;TZID=America/New_York:20261116T190000
DTEND;TZID=America/New_York:20261116T201500
DTSTAMP:20260423T125445
CREATED:20260422T171350Z
LAST-MODIFIED:20260422T171350Z
UID:10014925-1794855600-1794860100@zushislist.com
SUMMARY:MONDAYS WİTH YEHUDİ TAMPA
DESCRIPTION:MONDAYS WİTH YEHUDİ TAMPA \nEVERY MONDAY NIGHT 7-8:15 PM \nDINNER | LEARNING | DESSERTS \nFLOM FAMILY HOME IN TAMPA \n(ADDRESS WILL BE GIVEN UPON RSVP)
URL:https://zushislist.com/single-event/mondays-with-yehudi-tampa/2026-11-16/
CATEGORIES:Community
ATTACH;FMTTYPE=image/png:https://zushislist.com/wp-content/uploads/2026/04/Every-Monday.png
END:VEVENT
END:VCALENDAR