BEGIN:VCALENDAR
VERSION:2.0
PRODID:-//Zushi&#039;s List - ECPv6.15.20//NONSGML v1.0//EN
CALSCALE:GREGORIAN
METHOD:PUBLISH
X-WR-CALNAME:Zushi&#039;s List
X-ORIGINAL-URL:https://zushislist.com
X-WR-CALDESC:Events for Zushi&#039;s List
REFRESH-INTERVAL;VALUE=DURATION:PT1H
X-Robots-Tag:noindex
X-PUBLISHED-TTL:PT1H
BEGIN:VTIMEZONE
TZID:America/New_York
BEGIN:DAYLIGHT
TZOFFSETFROM:-0500
TZOFFSETTO:-0400
TZNAME:EDT
DTSTART:20250309T070000
END:DAYLIGHT
BEGIN:STANDARD
TZOFFSETFROM:-0400
TZOFFSETTO:-0500
TZNAME:EST
DTSTART:20251102T060000
END:STANDARD
BEGIN:DAYLIGHT
TZOFFSETFROM:-0500
TZOFFSETTO:-0400
TZNAME:EDT
DTSTART:20260308T070000
END:DAYLIGHT
BEGIN:STANDARD
TZOFFSETFROM:-0400
TZOFFSETTO:-0500
TZNAME:EST
DTSTART:20261101T060000
END:STANDARD
BEGIN:DAYLIGHT
TZOFFSETFROM:-0500
TZOFFSETTO:-0400
TZNAME:EDT
DTSTART:20270314T070000
END:DAYLIGHT
BEGIN:STANDARD
TZOFFSETFROM:-0400
TZOFFSETTO:-0500
TZNAME:EST
DTSTART:20271107T060000
END:STANDARD
END:VTIMEZONE
BEGIN:VEVENT
DTSTART;TZID=America/New_York:20260521T194500
DTEND;TZID=America/New_York:20260521T220000
DTSTAMP:20260423T143347
CREATED:20260422T180357Z
LAST-MODIFIED:20260422T180357Z
UID:10015684-1779392700-1779400800@zushislist.com
SUMMARY:Shavuot 2026
DESCRIPTION:Shavuot 2026 \nMay 21\, 2026 – May 23\, 2026 \nThursday May 21\, 2026: \n\n\n\n\nCANDLE LIGHTING \n\n\n7:45 PM \n\n\n\n\nARVIT \n\n\n8:50 PM \n\n\n\n\nDINNER \n\n\n9 PM \n\n\n\n\n12 AM: KSPACE TALKS FOLLOWED BY TORAH LEARNING ALL NIGHT \nFriday May 22\, 2026 \n\n\n\n\nLUNCH \n\n\n2 PM \n\n\n\n\n10 COMMANDMENTS \n\n\n5 PM \n\n\n\n\nCANDLE LIGHTING \n\n\n7:45 PM \n\n\n\n\nKABBALAT SHABBAT \n\n\n8 PM \n\n\n\n\nDINNER \n\n\n9:30 PM \n\n\n\n\nSaturday\, May 23\, 2026 \n\n\n\n\nShacharit \n\n\n11:00 AM \n\n\n\n\nLunch \n\n\n3Pm \n\n\n\n\nREGISTRATION REQUIRED VISIT KSPACE.ORG/SHAVUOT \nEXCLUSIVELY FOR YOUNG JEWISH SINGLES AGES 21-58 \nKSPACE RESERVES ITS RIGHT OF ADMISSION SUGGESTED DONATIONS
URL:https://zushislist.com/single-event/shavuot-2026/2026-05-21/
CATEGORIES:Young Professionals
ATTACH;FMTTYPE=image/png:https://zushislist.com/wp-content/uploads/2026/04/Shavout.png
END:VEVENT
BEGIN:VEVENT
DTSTART;TZID=America/New_York:20260522T140000
DTEND;TZID=America/New_York:20260522T223000
DTSTAMP:20260423T143347
CREATED:20260422T180357Z
LAST-MODIFIED:20260422T180357Z
UID:10015685-1779458400-1779489000@zushislist.com
SUMMARY:Shavuot 2026
DESCRIPTION:Shavuot 2026 \nMay 21\, 2026 – May 23\, 2026 \nThursday May 21\, 2026: \n\n\n\n\nCANDLE LIGHTING \n\n\n7:45 PM \n\n\n\n\nARVIT \n\n\n8:50 PM \n\n\n\n\nDINNER \n\n\n9 PM \n\n\n\n\n12 AM: KSPACE TALKS FOLLOWED BY TORAH LEARNING ALL NIGHT \nFriday May 22\, 2026 \n\n\n\n\nLUNCH \n\n\n2 PM \n\n\n\n\n10 COMMANDMENTS \n\n\n5 PM \n\n\n\n\nCANDLE LIGHTING \n\n\n7:45 PM \n\n\n\n\nKABBALAT SHABBAT \n\n\n8 PM \n\n\n\n\nDINNER \n\n\n9:30 PM \n\n\n\n\nSaturday\, May 23\, 2026 \n\n\n\n\nShacharit \n\n\n11:00 AM \n\n\n\n\nLunch \n\n\n3Pm \n\n\n\n\nREGISTRATION REQUIRED VISIT KSPACE.ORG/SHAVUOT \nEXCLUSIVELY FOR YOUNG JEWISH SINGLES AGES 21-58 \nKSPACE RESERVES ITS RIGHT OF ADMISSION SUGGESTED DONATIONS
URL:https://zushislist.com/single-event/shavuot-2026/2026-05-22/
CATEGORIES:Young Professionals
ATTACH;FMTTYPE=image/png:https://zushislist.com/wp-content/uploads/2026/04/Shavout.png
END:VEVENT
BEGIN:VEVENT
DTSTART;TZID=America/New_York:20260523T110000
DTEND;TZID=America/New_York:20260523T163000
DTSTAMP:20260423T143347
CREATED:20260422T180357Z
LAST-MODIFIED:20260422T180357Z
UID:10015686-1779534000-1779553800@zushislist.com
SUMMARY:Shavuot 2026
DESCRIPTION:Shavuot 2026 \nMay 21\, 2026 – May 23\, 2026 \nThursday May 21\, 2026: \n\n\n\n\nCANDLE LIGHTING \n\n\n7:45 PM \n\n\n\n\nARVIT \n\n\n8:50 PM \n\n\n\n\nDINNER \n\n\n9 PM \n\n\n\n\n12 AM: KSPACE TALKS FOLLOWED BY TORAH LEARNING ALL NIGHT \nFriday May 22\, 2026 \n\n\n\n\nLUNCH \n\n\n2 PM \n\n\n\n\n10 COMMANDMENTS \n\n\n5 PM \n\n\n\n\nCANDLE LIGHTING \n\n\n7:45 PM \n\n\n\n\nKABBALAT SHABBAT \n\n\n8 PM \n\n\n\n\nDINNER \n\n\n9:30 PM \n\n\n\n\nSaturday\, May 23\, 2026 \n\n\n\n\nShacharit \n\n\n11:00 AM \n\n\n\n\nLunch \n\n\n3Pm \n\n\n\n\nREGISTRATION REQUIRED VISIT KSPACE.ORG/SHAVUOT \nEXCLUSIVELY FOR YOUNG JEWISH SINGLES AGES 21-58 \nKSPACE RESERVES ITS RIGHT OF ADMISSION SUGGESTED DONATIONS
URL:https://zushislist.com/single-event/shavuot-2026/2026-05-23/
CATEGORIES:Young Professionals
ATTACH;FMTTYPE=image/png:https://zushislist.com/wp-content/uploads/2026/04/Shavout.png
END:VEVENT
END:VCALENDAR