BEGIN:VCALENDAR
VERSION:2.0
PRODID:-//Zushi&#039;s List - ECPv6.15.20//NONSGML v1.0//EN
CALSCALE:GREGORIAN
METHOD:PUBLISH
X-WR-CALNAME:Zushi&#039;s List
X-ORIGINAL-URL:https://zushislist.com
X-WR-CALDESC:Events for Zushi&#039;s List
REFRESH-INTERVAL;VALUE=DURATION:PT1H
X-Robots-Tag:noindex
X-PUBLISHED-TTL:PT1H
BEGIN:VTIMEZONE
TZID:America/New_York
BEGIN:DAYLIGHT
TZOFFSETFROM:-0500
TZOFFSETTO:-0400
TZNAME:EDT
DTSTART:20250309T070000
END:DAYLIGHT
BEGIN:STANDARD
TZOFFSETFROM:-0400
TZOFFSETTO:-0500
TZNAME:EST
DTSTART:20251102T060000
END:STANDARD
BEGIN:DAYLIGHT
TZOFFSETFROM:-0500
TZOFFSETTO:-0400
TZNAME:EDT
DTSTART:20260308T070000
END:DAYLIGHT
BEGIN:STANDARD
TZOFFSETFROM:-0400
TZOFFSETTO:-0500
TZNAME:EST
DTSTART:20261101T060000
END:STANDARD
BEGIN:DAYLIGHT
TZOFFSETFROM:-0500
TZOFFSETTO:-0400
TZNAME:EDT
DTSTART:20270314T070000
END:DAYLIGHT
BEGIN:STANDARD
TZOFFSETFROM:-0400
TZOFFSETTO:-0500
TZNAME:EST
DTSTART:20271107T060000
END:STANDARD
END:VTIMEZONE
BEGIN:VEVENT
DTSTART;TZID=America/New_York:20260428T200000
DTEND;TZID=America/New_York:20260428T210000
DTSTAMP:20260423T161904
CREATED:20260423T153602Z
LAST-MODIFIED:20260423T153602Z
UID:10015696-1777406400-1777410000@zushislist.com
SUMMARY:YEHUDI GAINESVILLE PRESENTS TUESDAY.TALKS SUPPER CLUB
DESCRIPTION:YEHUDI GAINESVILLE PRESENTS \nTUESDAY.TALKS SUPPER CLUB \nFOOD | FRIENDS | WISDOM \n8PM | RSVP: bit.ly/TuesRSVP \n 
URL:https://zushislist.com/single-event/yehudi-gainesville-presents-tuesday-talks-supper-club/2026-04-28/
ATTACH;FMTTYPE=image/png:https://zushislist.com/wp-content/uploads/2026/04/Tuesday-talks.png
END:VEVENT
BEGIN:VEVENT
DTSTART;TZID=America/New_York:20260505T200000
DTEND;TZID=America/New_York:20260505T210000
DTSTAMP:20260423T161904
CREATED:20260423T153602Z
LAST-MODIFIED:20260423T153602Z
UID:10015697-1778011200-1778014800@zushislist.com
SUMMARY:YEHUDI GAINESVILLE PRESENTS TUESDAY.TALKS SUPPER CLUB
DESCRIPTION:YEHUDI GAINESVILLE PRESENTS \nTUESDAY.TALKS SUPPER CLUB \nFOOD | FRIENDS | WISDOM \n8PM | RSVP: bit.ly/TuesRSVP \n 
URL:https://zushislist.com/single-event/yehudi-gainesville-presents-tuesday-talks-supper-club/2026-05-05/
ATTACH;FMTTYPE=image/png:https://zushislist.com/wp-content/uploads/2026/04/Tuesday-talks.png
END:VEVENT
BEGIN:VEVENT
DTSTART;TZID=America/New_York:20260512T200000
DTEND;TZID=America/New_York:20260512T210000
DTSTAMP:20260423T161904
CREATED:20260423T153602Z
LAST-MODIFIED:20260423T153602Z
UID:10015698-1778616000-1778619600@zushislist.com
SUMMARY:YEHUDI GAINESVILLE PRESENTS TUESDAY.TALKS SUPPER CLUB
DESCRIPTION:YEHUDI GAINESVILLE PRESENTS \nTUESDAY.TALKS SUPPER CLUB \nFOOD | FRIENDS | WISDOM \n8PM | RSVP: bit.ly/TuesRSVP \n 
URL:https://zushislist.com/single-event/yehudi-gainesville-presents-tuesday-talks-supper-club/2026-05-12/
ATTACH;FMTTYPE=image/png:https://zushislist.com/wp-content/uploads/2026/04/Tuesday-talks.png
END:VEVENT
BEGIN:VEVENT
DTSTART;TZID=America/New_York:20260519T200000
DTEND;TZID=America/New_York:20260519T210000
DTSTAMP:20260423T161904
CREATED:20260423T153602Z
LAST-MODIFIED:20260423T153602Z
UID:10015699-1779220800-1779224400@zushislist.com
SUMMARY:YEHUDI GAINESVILLE PRESENTS TUESDAY.TALKS SUPPER CLUB
DESCRIPTION:YEHUDI GAINESVILLE PRESENTS \nTUESDAY.TALKS SUPPER CLUB \nFOOD | FRIENDS | WISDOM \n8PM | RSVP: bit.ly/TuesRSVP \n 
URL:https://zushislist.com/single-event/yehudi-gainesville-presents-tuesday-talks-supper-club/2026-05-19/
ATTACH;FMTTYPE=image/png:https://zushislist.com/wp-content/uploads/2026/04/Tuesday-talks.png
END:VEVENT
BEGIN:VEVENT
DTSTART;TZID=America/New_York:20260526T200000
DTEND;TZID=America/New_York:20260526T210000
DTSTAMP:20260423T161904
CREATED:20260423T153602Z
LAST-MODIFIED:20260423T153602Z
UID:10015700-1779825600-1779829200@zushislist.com
SUMMARY:YEHUDI GAINESVILLE PRESENTS TUESDAY.TALKS SUPPER CLUB
DESCRIPTION:YEHUDI GAINESVILLE PRESENTS \nTUESDAY.TALKS SUPPER CLUB \nFOOD | FRIENDS | WISDOM \n8PM | RSVP: bit.ly/TuesRSVP \n 
URL:https://zushislist.com/single-event/yehudi-gainesville-presents-tuesday-talks-supper-club/2026-05-26/
ATTACH;FMTTYPE=image/png:https://zushislist.com/wp-content/uploads/2026/04/Tuesday-talks.png
END:VEVENT
BEGIN:VEVENT
DTSTART;TZID=America/New_York:20260602T200000
DTEND;TZID=America/New_York:20260602T210000
DTSTAMP:20260423T161904
CREATED:20260423T153602Z
LAST-MODIFIED:20260423T153602Z
UID:10015701-1780430400-1780434000@zushislist.com
SUMMARY:YEHUDI GAINESVILLE PRESENTS TUESDAY.TALKS SUPPER CLUB
DESCRIPTION:YEHUDI GAINESVILLE PRESENTS \nTUESDAY.TALKS SUPPER CLUB \nFOOD | FRIENDS | WISDOM \n8PM | RSVP: bit.ly/TuesRSVP \n 
URL:https://zushislist.com/single-event/yehudi-gainesville-presents-tuesday-talks-supper-club/2026-06-02/
ATTACH;FMTTYPE=image/png:https://zushislist.com/wp-content/uploads/2026/04/Tuesday-talks.png
END:VEVENT
BEGIN:VEVENT
DTSTART;TZID=America/New_York:20260609T200000
DTEND;TZID=America/New_York:20260609T210000
DTSTAMP:20260423T161904
CREATED:20260423T153602Z
LAST-MODIFIED:20260423T153602Z
UID:10015702-1781035200-1781038800@zushislist.com
SUMMARY:YEHUDI GAINESVILLE PRESENTS TUESDAY.TALKS SUPPER CLUB
DESCRIPTION:YEHUDI GAINESVILLE PRESENTS \nTUESDAY.TALKS SUPPER CLUB \nFOOD | FRIENDS | WISDOM \n8PM | RSVP: bit.ly/TuesRSVP \n 
URL:https://zushislist.com/single-event/yehudi-gainesville-presents-tuesday-talks-supper-club/2026-06-09/
ATTACH;FMTTYPE=image/png:https://zushislist.com/wp-content/uploads/2026/04/Tuesday-talks.png
END:VEVENT
BEGIN:VEVENT
DTSTART;TZID=America/New_York:20260616T200000
DTEND;TZID=America/New_York:20260616T210000
DTSTAMP:20260423T161904
CREATED:20260423T153602Z
LAST-MODIFIED:20260423T153602Z
UID:10015703-1781640000-1781643600@zushislist.com
SUMMARY:YEHUDI GAINESVILLE PRESENTS TUESDAY.TALKS SUPPER CLUB
DESCRIPTION:YEHUDI GAINESVILLE PRESENTS \nTUESDAY.TALKS SUPPER CLUB \nFOOD | FRIENDS | WISDOM \n8PM | RSVP: bit.ly/TuesRSVP \n 
URL:https://zushislist.com/single-event/yehudi-gainesville-presents-tuesday-talks-supper-club/2026-06-16/
ATTACH;FMTTYPE=image/png:https://zushislist.com/wp-content/uploads/2026/04/Tuesday-talks.png
END:VEVENT
BEGIN:VEVENT
DTSTART;TZID=America/New_York:20260623T200000
DTEND;TZID=America/New_York:20260623T210000
DTSTAMP:20260423T161904
CREATED:20260423T153602Z
LAST-MODIFIED:20260423T153602Z
UID:10015704-1782244800-1782248400@zushislist.com
SUMMARY:YEHUDI GAINESVILLE PRESENTS TUESDAY.TALKS SUPPER CLUB
DESCRIPTION:YEHUDI GAINESVILLE PRESENTS \nTUESDAY.TALKS SUPPER CLUB \nFOOD | FRIENDS | WISDOM \n8PM | RSVP: bit.ly/TuesRSVP \n 
URL:https://zushislist.com/single-event/yehudi-gainesville-presents-tuesday-talks-supper-club/2026-06-23/
ATTACH;FMTTYPE=image/png:https://zushislist.com/wp-content/uploads/2026/04/Tuesday-talks.png
END:VEVENT
BEGIN:VEVENT
DTSTART;TZID=America/New_York:20260630T200000
DTEND;TZID=America/New_York:20260630T210000
DTSTAMP:20260423T161904
CREATED:20260423T153602Z
LAST-MODIFIED:20260423T153602Z
UID:10015705-1782849600-1782853200@zushislist.com
SUMMARY:YEHUDI GAINESVILLE PRESENTS TUESDAY.TALKS SUPPER CLUB
DESCRIPTION:YEHUDI GAINESVILLE PRESENTS \nTUESDAY.TALKS SUPPER CLUB \nFOOD | FRIENDS | WISDOM \n8PM | RSVP: bit.ly/TuesRSVP \n 
URL:https://zushislist.com/single-event/yehudi-gainesville-presents-tuesday-talks-supper-club/2026-06-30/
ATTACH;FMTTYPE=image/png:https://zushislist.com/wp-content/uploads/2026/04/Tuesday-talks.png
END:VEVENT
BEGIN:VEVENT
DTSTART;TZID=America/New_York:20260707T200000
DTEND;TZID=America/New_York:20260707T210000
DTSTAMP:20260423T161904
CREATED:20260423T153602Z
LAST-MODIFIED:20260423T153602Z
UID:10015706-1783454400-1783458000@zushislist.com
SUMMARY:YEHUDI GAINESVILLE PRESENTS TUESDAY.TALKS SUPPER CLUB
DESCRIPTION:YEHUDI GAINESVILLE PRESENTS \nTUESDAY.TALKS SUPPER CLUB \nFOOD | FRIENDS | WISDOM \n8PM | RSVP: bit.ly/TuesRSVP \n 
URL:https://zushislist.com/single-event/yehudi-gainesville-presents-tuesday-talks-supper-club/2026-07-07/
ATTACH;FMTTYPE=image/png:https://zushislist.com/wp-content/uploads/2026/04/Tuesday-talks.png
END:VEVENT
BEGIN:VEVENT
DTSTART;TZID=America/New_York:20260714T200000
DTEND;TZID=America/New_York:20260714T210000
DTSTAMP:20260423T161904
CREATED:20260423T153602Z
LAST-MODIFIED:20260423T153602Z
UID:10015707-1784059200-1784062800@zushislist.com
SUMMARY:YEHUDI GAINESVILLE PRESENTS TUESDAY.TALKS SUPPER CLUB
DESCRIPTION:YEHUDI GAINESVILLE PRESENTS \nTUESDAY.TALKS SUPPER CLUB \nFOOD | FRIENDS | WISDOM \n8PM | RSVP: bit.ly/TuesRSVP \n 
URL:https://zushislist.com/single-event/yehudi-gainesville-presents-tuesday-talks-supper-club/2026-07-14/
ATTACH;FMTTYPE=image/png:https://zushislist.com/wp-content/uploads/2026/04/Tuesday-talks.png
END:VEVENT
BEGIN:VEVENT
DTSTART;TZID=America/New_York:20260721T200000
DTEND;TZID=America/New_York:20260721T210000
DTSTAMP:20260423T161904
CREATED:20260423T153602Z
LAST-MODIFIED:20260423T153602Z
UID:10015708-1784664000-1784667600@zushislist.com
SUMMARY:YEHUDI GAINESVILLE PRESENTS TUESDAY.TALKS SUPPER CLUB
DESCRIPTION:YEHUDI GAINESVILLE PRESENTS \nTUESDAY.TALKS SUPPER CLUB \nFOOD | FRIENDS | WISDOM \n8PM | RSVP: bit.ly/TuesRSVP \n 
URL:https://zushislist.com/single-event/yehudi-gainesville-presents-tuesday-talks-supper-club/2026-07-21/
ATTACH;FMTTYPE=image/png:https://zushislist.com/wp-content/uploads/2026/04/Tuesday-talks.png
END:VEVENT
BEGIN:VEVENT
DTSTART;TZID=America/New_York:20260728T200000
DTEND;TZID=America/New_York:20260728T210000
DTSTAMP:20260423T161904
CREATED:20260423T153602Z
LAST-MODIFIED:20260423T153602Z
UID:10015709-1785268800-1785272400@zushislist.com
SUMMARY:YEHUDI GAINESVILLE PRESENTS TUESDAY.TALKS SUPPER CLUB
DESCRIPTION:YEHUDI GAINESVILLE PRESENTS \nTUESDAY.TALKS SUPPER CLUB \nFOOD | FRIENDS | WISDOM \n8PM | RSVP: bit.ly/TuesRSVP \n 
URL:https://zushislist.com/single-event/yehudi-gainesville-presents-tuesday-talks-supper-club/2026-07-28/
ATTACH;FMTTYPE=image/png:https://zushislist.com/wp-content/uploads/2026/04/Tuesday-talks.png
END:VEVENT
BEGIN:VEVENT
DTSTART;TZID=America/New_York:20260804T200000
DTEND;TZID=America/New_York:20260804T210000
DTSTAMP:20260423T161904
CREATED:20260423T153602Z
LAST-MODIFIED:20260423T153602Z
UID:10015710-1785873600-1785877200@zushislist.com
SUMMARY:YEHUDI GAINESVILLE PRESENTS TUESDAY.TALKS SUPPER CLUB
DESCRIPTION:YEHUDI GAINESVILLE PRESENTS \nTUESDAY.TALKS SUPPER CLUB \nFOOD | FRIENDS | WISDOM \n8PM | RSVP: bit.ly/TuesRSVP \n 
URL:https://zushislist.com/single-event/yehudi-gainesville-presents-tuesday-talks-supper-club/2026-08-04/
ATTACH;FMTTYPE=image/png:https://zushislist.com/wp-content/uploads/2026/04/Tuesday-talks.png
END:VEVENT
BEGIN:VEVENT
DTSTART;TZID=America/New_York:20260811T200000
DTEND;TZID=America/New_York:20260811T210000
DTSTAMP:20260423T161904
CREATED:20260423T153602Z
LAST-MODIFIED:20260423T153602Z
UID:10015711-1786478400-1786482000@zushislist.com
SUMMARY:YEHUDI GAINESVILLE PRESENTS TUESDAY.TALKS SUPPER CLUB
DESCRIPTION:YEHUDI GAINESVILLE PRESENTS \nTUESDAY.TALKS SUPPER CLUB \nFOOD | FRIENDS | WISDOM \n8PM | RSVP: bit.ly/TuesRSVP \n 
URL:https://zushislist.com/single-event/yehudi-gainesville-presents-tuesday-talks-supper-club/2026-08-11/
ATTACH;FMTTYPE=image/png:https://zushislist.com/wp-content/uploads/2026/04/Tuesday-talks.png
END:VEVENT
BEGIN:VEVENT
DTSTART;TZID=America/New_York:20260818T200000
DTEND;TZID=America/New_York:20260818T210000
DTSTAMP:20260423T161904
CREATED:20260423T153602Z
LAST-MODIFIED:20260423T153602Z
UID:10015712-1787083200-1787086800@zushislist.com
SUMMARY:YEHUDI GAINESVILLE PRESENTS TUESDAY.TALKS SUPPER CLUB
DESCRIPTION:YEHUDI GAINESVILLE PRESENTS \nTUESDAY.TALKS SUPPER CLUB \nFOOD | FRIENDS | WISDOM \n8PM | RSVP: bit.ly/TuesRSVP \n 
URL:https://zushislist.com/single-event/yehudi-gainesville-presents-tuesday-talks-supper-club/2026-08-18/
ATTACH;FMTTYPE=image/png:https://zushislist.com/wp-content/uploads/2026/04/Tuesday-talks.png
END:VEVENT
BEGIN:VEVENT
DTSTART;TZID=America/New_York:20260825T200000
DTEND;TZID=America/New_York:20260825T210000
DTSTAMP:20260423T161904
CREATED:20260423T153602Z
LAST-MODIFIED:20260423T153602Z
UID:10015713-1787688000-1787691600@zushislist.com
SUMMARY:YEHUDI GAINESVILLE PRESENTS TUESDAY.TALKS SUPPER CLUB
DESCRIPTION:YEHUDI GAINESVILLE PRESENTS \nTUESDAY.TALKS SUPPER CLUB \nFOOD | FRIENDS | WISDOM \n8PM | RSVP: bit.ly/TuesRSVP \n 
URL:https://zushislist.com/single-event/yehudi-gainesville-presents-tuesday-talks-supper-club/2026-08-25/
ATTACH;FMTTYPE=image/png:https://zushislist.com/wp-content/uploads/2026/04/Tuesday-talks.png
END:VEVENT
BEGIN:VEVENT
DTSTART;TZID=America/New_York:20260901T200000
DTEND;TZID=America/New_York:20260901T210000
DTSTAMP:20260423T161904
CREATED:20260423T153602Z
LAST-MODIFIED:20260423T153602Z
UID:10015714-1788292800-1788296400@zushislist.com
SUMMARY:YEHUDI GAINESVILLE PRESENTS TUESDAY.TALKS SUPPER CLUB
DESCRIPTION:YEHUDI GAINESVILLE PRESENTS \nTUESDAY.TALKS SUPPER CLUB \nFOOD | FRIENDS | WISDOM \n8PM | RSVP: bit.ly/TuesRSVP \n 
URL:https://zushislist.com/single-event/yehudi-gainesville-presents-tuesday-talks-supper-club/2026-09-01/
ATTACH;FMTTYPE=image/png:https://zushislist.com/wp-content/uploads/2026/04/Tuesday-talks.png
END:VEVENT
BEGIN:VEVENT
DTSTART;TZID=America/New_York:20260908T200000
DTEND;TZID=America/New_York:20260908T210000
DTSTAMP:20260423T161904
CREATED:20260423T153602Z
LAST-MODIFIED:20260423T153602Z
UID:10015715-1788897600-1788901200@zushislist.com
SUMMARY:YEHUDI GAINESVILLE PRESENTS TUESDAY.TALKS SUPPER CLUB
DESCRIPTION:YEHUDI GAINESVILLE PRESENTS \nTUESDAY.TALKS SUPPER CLUB \nFOOD | FRIENDS | WISDOM \n8PM | RSVP: bit.ly/TuesRSVP \n 
URL:https://zushislist.com/single-event/yehudi-gainesville-presents-tuesday-talks-supper-club/2026-09-08/
ATTACH;FMTTYPE=image/png:https://zushislist.com/wp-content/uploads/2026/04/Tuesday-talks.png
END:VEVENT
BEGIN:VEVENT
DTSTART;TZID=America/New_York:20260915T200000
DTEND;TZID=America/New_York:20260915T210000
DTSTAMP:20260423T161904
CREATED:20260423T153602Z
LAST-MODIFIED:20260423T153602Z
UID:10015716-1789502400-1789506000@zushislist.com
SUMMARY:YEHUDI GAINESVILLE PRESENTS TUESDAY.TALKS SUPPER CLUB
DESCRIPTION:YEHUDI GAINESVILLE PRESENTS \nTUESDAY.TALKS SUPPER CLUB \nFOOD | FRIENDS | WISDOM \n8PM | RSVP: bit.ly/TuesRSVP \n 
URL:https://zushislist.com/single-event/yehudi-gainesville-presents-tuesday-talks-supper-club/2026-09-15/
ATTACH;FMTTYPE=image/png:https://zushislist.com/wp-content/uploads/2026/04/Tuesday-talks.png
END:VEVENT
BEGIN:VEVENT
DTSTART;TZID=America/New_York:20260922T200000
DTEND;TZID=America/New_York:20260922T210000
DTSTAMP:20260423T161904
CREATED:20260423T153602Z
LAST-MODIFIED:20260423T153602Z
UID:10015717-1790107200-1790110800@zushislist.com
SUMMARY:YEHUDI GAINESVILLE PRESENTS TUESDAY.TALKS SUPPER CLUB
DESCRIPTION:YEHUDI GAINESVILLE PRESENTS \nTUESDAY.TALKS SUPPER CLUB \nFOOD | FRIENDS | WISDOM \n8PM | RSVP: bit.ly/TuesRSVP \n 
URL:https://zushislist.com/single-event/yehudi-gainesville-presents-tuesday-talks-supper-club/2026-09-22/
ATTACH;FMTTYPE=image/png:https://zushislist.com/wp-content/uploads/2026/04/Tuesday-talks.png
END:VEVENT
BEGIN:VEVENT
DTSTART;TZID=America/New_York:20260929T200000
DTEND;TZID=America/New_York:20260929T210000
DTSTAMP:20260423T161904
CREATED:20260423T153602Z
LAST-MODIFIED:20260423T153602Z
UID:10015718-1790712000-1790715600@zushislist.com
SUMMARY:YEHUDI GAINESVILLE PRESENTS TUESDAY.TALKS SUPPER CLUB
DESCRIPTION:YEHUDI GAINESVILLE PRESENTS \nTUESDAY.TALKS SUPPER CLUB \nFOOD | FRIENDS | WISDOM \n8PM | RSVP: bit.ly/TuesRSVP \n 
URL:https://zushislist.com/single-event/yehudi-gainesville-presents-tuesday-talks-supper-club/2026-09-29/
ATTACH;FMTTYPE=image/png:https://zushislist.com/wp-content/uploads/2026/04/Tuesday-talks.png
END:VEVENT
BEGIN:VEVENT
DTSTART;TZID=America/New_York:20261006T200000
DTEND;TZID=America/New_York:20261006T210000
DTSTAMP:20260423T161904
CREATED:20260423T153602Z
LAST-MODIFIED:20260423T153602Z
UID:10015719-1791316800-1791320400@zushislist.com
SUMMARY:YEHUDI GAINESVILLE PRESENTS TUESDAY.TALKS SUPPER CLUB
DESCRIPTION:YEHUDI GAINESVILLE PRESENTS \nTUESDAY.TALKS SUPPER CLUB \nFOOD | FRIENDS | WISDOM \n8PM | RSVP: bit.ly/TuesRSVP \n 
URL:https://zushislist.com/single-event/yehudi-gainesville-presents-tuesday-talks-supper-club/2026-10-06/
ATTACH;FMTTYPE=image/png:https://zushislist.com/wp-content/uploads/2026/04/Tuesday-talks.png
END:VEVENT
BEGIN:VEVENT
DTSTART;TZID=America/New_York:20261013T200000
DTEND;TZID=America/New_York:20261013T210000
DTSTAMP:20260423T161904
CREATED:20260423T153602Z
LAST-MODIFIED:20260423T153602Z
UID:10015720-1791921600-1791925200@zushislist.com
SUMMARY:YEHUDI GAINESVILLE PRESENTS TUESDAY.TALKS SUPPER CLUB
DESCRIPTION:YEHUDI GAINESVILLE PRESENTS \nTUESDAY.TALKS SUPPER CLUB \nFOOD | FRIENDS | WISDOM \n8PM | RSVP: bit.ly/TuesRSVP \n 
URL:https://zushislist.com/single-event/yehudi-gainesville-presents-tuesday-talks-supper-club/2026-10-13/
ATTACH;FMTTYPE=image/png:https://zushislist.com/wp-content/uploads/2026/04/Tuesday-talks.png
END:VEVENT
BEGIN:VEVENT
DTSTART;TZID=America/New_York:20261020T200000
DTEND;TZID=America/New_York:20261020T210000
DTSTAMP:20260423T161904
CREATED:20260423T153602Z
LAST-MODIFIED:20260423T153602Z
UID:10015721-1792526400-1792530000@zushislist.com
SUMMARY:YEHUDI GAINESVILLE PRESENTS TUESDAY.TALKS SUPPER CLUB
DESCRIPTION:YEHUDI GAINESVILLE PRESENTS \nTUESDAY.TALKS SUPPER CLUB \nFOOD | FRIENDS | WISDOM \n8PM | RSVP: bit.ly/TuesRSVP \n 
URL:https://zushislist.com/single-event/yehudi-gainesville-presents-tuesday-talks-supper-club/2026-10-20/
ATTACH;FMTTYPE=image/png:https://zushislist.com/wp-content/uploads/2026/04/Tuesday-talks.png
END:VEVENT
BEGIN:VEVENT
DTSTART;TZID=America/New_York:20261027T200000
DTEND;TZID=America/New_York:20261027T210000
DTSTAMP:20260423T161904
CREATED:20260423T153602Z
LAST-MODIFIED:20260423T153602Z
UID:10015722-1793131200-1793134800@zushislist.com
SUMMARY:YEHUDI GAINESVILLE PRESENTS TUESDAY.TALKS SUPPER CLUB
DESCRIPTION:YEHUDI GAINESVILLE PRESENTS \nTUESDAY.TALKS SUPPER CLUB \nFOOD | FRIENDS | WISDOM \n8PM | RSVP: bit.ly/TuesRSVP \n 
URL:https://zushislist.com/single-event/yehudi-gainesville-presents-tuesday-talks-supper-club/2026-10-27/
ATTACH;FMTTYPE=image/png:https://zushislist.com/wp-content/uploads/2026/04/Tuesday-talks.png
END:VEVENT
BEGIN:VEVENT
DTSTART;TZID=America/New_York:20261103T200000
DTEND;TZID=America/New_York:20261103T210000
DTSTAMP:20260423T161904
CREATED:20260423T153602Z
LAST-MODIFIED:20260423T153602Z
UID:10015723-1793736000-1793739600@zushislist.com
SUMMARY:YEHUDI GAINESVILLE PRESENTS TUESDAY.TALKS SUPPER CLUB
DESCRIPTION:YEHUDI GAINESVILLE PRESENTS \nTUESDAY.TALKS SUPPER CLUB \nFOOD | FRIENDS | WISDOM \n8PM | RSVP: bit.ly/TuesRSVP \n 
URL:https://zushislist.com/single-event/yehudi-gainesville-presents-tuesday-talks-supper-club/2026-11-03/
ATTACH;FMTTYPE=image/png:https://zushislist.com/wp-content/uploads/2026/04/Tuesday-talks.png
END:VEVENT
BEGIN:VEVENT
DTSTART;TZID=America/New_York:20261110T200000
DTEND;TZID=America/New_York:20261110T210000
DTSTAMP:20260423T161904
CREATED:20260423T153602Z
LAST-MODIFIED:20260423T153602Z
UID:10015724-1794340800-1794344400@zushislist.com
SUMMARY:YEHUDI GAINESVILLE PRESENTS TUESDAY.TALKS SUPPER CLUB
DESCRIPTION:YEHUDI GAINESVILLE PRESENTS \nTUESDAY.TALKS SUPPER CLUB \nFOOD | FRIENDS | WISDOM \n8PM | RSVP: bit.ly/TuesRSVP \n 
URL:https://zushislist.com/single-event/yehudi-gainesville-presents-tuesday-talks-supper-club/2026-11-10/
ATTACH;FMTTYPE=image/png:https://zushislist.com/wp-content/uploads/2026/04/Tuesday-talks.png
END:VEVENT
BEGIN:VEVENT
DTSTART;TZID=America/New_York:20261117T200000
DTEND;TZID=America/New_York:20261117T210000
DTSTAMP:20260423T161904
CREATED:20260423T153602Z
LAST-MODIFIED:20260423T153602Z
UID:10015725-1794945600-1794949200@zushislist.com
SUMMARY:YEHUDI GAINESVILLE PRESENTS TUESDAY.TALKS SUPPER CLUB
DESCRIPTION:YEHUDI GAINESVILLE PRESENTS \nTUESDAY.TALKS SUPPER CLUB \nFOOD | FRIENDS | WISDOM \n8PM | RSVP: bit.ly/TuesRSVP \n 
URL:https://zushislist.com/single-event/yehudi-gainesville-presents-tuesday-talks-supper-club/2026-11-17/
ATTACH;FMTTYPE=image/png:https://zushislist.com/wp-content/uploads/2026/04/Tuesday-talks.png
END:VEVENT
END:VCALENDAR