BEGIN:VCALENDAR
VERSION:2.0
PRODID:-//Zushi&#039;s List - ECPv6.15.20//NONSGML v1.0//EN
CALSCALE:GREGORIAN
METHOD:PUBLISH
X-WR-CALNAME:Zushi&#039;s List
X-ORIGINAL-URL:https://zushislist.com
X-WR-CALDESC:Events for Zushi&#039;s List
REFRESH-INTERVAL;VALUE=DURATION:PT1H
X-Robots-Tag:noindex
X-PUBLISHED-TTL:PT1H
BEGIN:VTIMEZONE
TZID:America/New_York
BEGIN:DAYLIGHT
TZOFFSETFROM:-0500
TZOFFSETTO:-0400
TZNAME:EDT
DTSTART:20250309T070000
END:DAYLIGHT
BEGIN:STANDARD
TZOFFSETFROM:-0400
TZOFFSETTO:-0500
TZNAME:EST
DTSTART:20251102T060000
END:STANDARD
BEGIN:DAYLIGHT
TZOFFSETFROM:-0500
TZOFFSETTO:-0400
TZNAME:EDT
DTSTART:20260308T070000
END:DAYLIGHT
BEGIN:STANDARD
TZOFFSETFROM:-0400
TZOFFSETTO:-0500
TZNAME:EST
DTSTART:20261101T060000
END:STANDARD
BEGIN:DAYLIGHT
TZOFFSETFROM:-0500
TZOFFSETTO:-0400
TZNAME:EDT
DTSTART:20270314T070000
END:DAYLIGHT
BEGIN:STANDARD
TZOFFSETFROM:-0400
TZOFFSETTO:-0500
TZNAME:EST
DTSTART:20271107T060000
END:STANDARD
END:VTIMEZONE
BEGIN:VEVENT
DTSTART;TZID=America/New_York:20260429T130000
DTEND;TZID=America/New_York:20260429T150000
DTSTAMP:20260423T173047
CREATED:20260422T172130Z
LAST-MODIFIED:20260422T172130Z
UID:10015420-1777467600-1777474800@zushislist.com
SUMMARY:GIRLS LUNCH
DESCRIPTION:YEHUDI SoFlo GIRLS LUNCH \nEvery Wednesday at 1:00 PM \nFREE Sushi lunch \nMeet other Jewish girls \nJewish learning discussions \nMMC Campus \nContact Hannah Abramowitz 516.204.3509 for exact location
URL:https://zushislist.com/single-event/girls-lunch/2026-04-29/
LOCATION:MMC Campus
CATEGORIES:Women
ATTACH;FMTTYPE=image/png:https://zushislist.com/wp-content/uploads/2026/04/girls-lunch.png
END:VEVENT
BEGIN:VEVENT
DTSTART;TZID=America/New_York:20260506T130000
DTEND;TZID=America/New_York:20260506T150000
DTSTAMP:20260423T173047
CREATED:20260422T172130Z
LAST-MODIFIED:20260422T172130Z
UID:10015421-1778072400-1778079600@zushislist.com
SUMMARY:GIRLS LUNCH
DESCRIPTION:YEHUDI SoFlo GIRLS LUNCH \nEvery Wednesday at 1:00 PM \nFREE Sushi lunch \nMeet other Jewish girls \nJewish learning discussions \nMMC Campus \nContact Hannah Abramowitz 516.204.3509 for exact location
URL:https://zushislist.com/single-event/girls-lunch/2026-05-06/
LOCATION:MMC Campus
CATEGORIES:Women
ATTACH;FMTTYPE=image/png:https://zushislist.com/wp-content/uploads/2026/04/girls-lunch.png
END:VEVENT
BEGIN:VEVENT
DTSTART;TZID=America/New_York:20260513T130000
DTEND;TZID=America/New_York:20260513T150000
DTSTAMP:20260423T173047
CREATED:20260422T172130Z
LAST-MODIFIED:20260422T172130Z
UID:10015422-1778677200-1778684400@zushislist.com
SUMMARY:GIRLS LUNCH
DESCRIPTION:YEHUDI SoFlo GIRLS LUNCH \nEvery Wednesday at 1:00 PM \nFREE Sushi lunch \nMeet other Jewish girls \nJewish learning discussions \nMMC Campus \nContact Hannah Abramowitz 516.204.3509 for exact location
URL:https://zushislist.com/single-event/girls-lunch/2026-05-13/
LOCATION:MMC Campus
CATEGORIES:Women
ATTACH;FMTTYPE=image/png:https://zushislist.com/wp-content/uploads/2026/04/girls-lunch.png
END:VEVENT
BEGIN:VEVENT
DTSTART;TZID=America/New_York:20260520T130000
DTEND;TZID=America/New_York:20260520T150000
DTSTAMP:20260423T173047
CREATED:20260422T172130Z
LAST-MODIFIED:20260422T172130Z
UID:10015423-1779282000-1779289200@zushislist.com
SUMMARY:GIRLS LUNCH
DESCRIPTION:YEHUDI SoFlo GIRLS LUNCH \nEvery Wednesday at 1:00 PM \nFREE Sushi lunch \nMeet other Jewish girls \nJewish learning discussions \nMMC Campus \nContact Hannah Abramowitz 516.204.3509 for exact location
URL:https://zushislist.com/single-event/girls-lunch/2026-05-20/
LOCATION:MMC Campus
CATEGORIES:Women
ATTACH;FMTTYPE=image/png:https://zushislist.com/wp-content/uploads/2026/04/girls-lunch.png
END:VEVENT
BEGIN:VEVENT
DTSTART;TZID=America/New_York:20260527T130000
DTEND;TZID=America/New_York:20260527T150000
DTSTAMP:20260423T173047
CREATED:20260422T172130Z
LAST-MODIFIED:20260422T172130Z
UID:10015424-1779886800-1779894000@zushislist.com
SUMMARY:GIRLS LUNCH
DESCRIPTION:YEHUDI SoFlo GIRLS LUNCH \nEvery Wednesday at 1:00 PM \nFREE Sushi lunch \nMeet other Jewish girls \nJewish learning discussions \nMMC Campus \nContact Hannah Abramowitz 516.204.3509 for exact location
URL:https://zushislist.com/single-event/girls-lunch/2026-05-27/
LOCATION:MMC Campus
CATEGORIES:Women
ATTACH;FMTTYPE=image/png:https://zushislist.com/wp-content/uploads/2026/04/girls-lunch.png
END:VEVENT
BEGIN:VEVENT
DTSTART;TZID=America/New_York:20260603T130000
DTEND;TZID=America/New_York:20260603T150000
DTSTAMP:20260423T173047
CREATED:20260422T172130Z
LAST-MODIFIED:20260422T172130Z
UID:10015425-1780491600-1780498800@zushislist.com
SUMMARY:GIRLS LUNCH
DESCRIPTION:YEHUDI SoFlo GIRLS LUNCH \nEvery Wednesday at 1:00 PM \nFREE Sushi lunch \nMeet other Jewish girls \nJewish learning discussions \nMMC Campus \nContact Hannah Abramowitz 516.204.3509 for exact location
URL:https://zushislist.com/single-event/girls-lunch/2026-06-03/
LOCATION:MMC Campus
CATEGORIES:Women
ATTACH;FMTTYPE=image/png:https://zushislist.com/wp-content/uploads/2026/04/girls-lunch.png
END:VEVENT
BEGIN:VEVENT
DTSTART;TZID=America/New_York:20260610T130000
DTEND;TZID=America/New_York:20260610T150000
DTSTAMP:20260423T173047
CREATED:20260422T172130Z
LAST-MODIFIED:20260422T172130Z
UID:10015426-1781096400-1781103600@zushislist.com
SUMMARY:GIRLS LUNCH
DESCRIPTION:YEHUDI SoFlo GIRLS LUNCH \nEvery Wednesday at 1:00 PM \nFREE Sushi lunch \nMeet other Jewish girls \nJewish learning discussions \nMMC Campus \nContact Hannah Abramowitz 516.204.3509 for exact location
URL:https://zushislist.com/single-event/girls-lunch/2026-06-10/
LOCATION:MMC Campus
CATEGORIES:Women
ATTACH;FMTTYPE=image/png:https://zushislist.com/wp-content/uploads/2026/04/girls-lunch.png
END:VEVENT
BEGIN:VEVENT
DTSTART;TZID=America/New_York:20260617T130000
DTEND;TZID=America/New_York:20260617T150000
DTSTAMP:20260423T173047
CREATED:20260422T172130Z
LAST-MODIFIED:20260422T172130Z
UID:10015427-1781701200-1781708400@zushislist.com
SUMMARY:GIRLS LUNCH
DESCRIPTION:YEHUDI SoFlo GIRLS LUNCH \nEvery Wednesday at 1:00 PM \nFREE Sushi lunch \nMeet other Jewish girls \nJewish learning discussions \nMMC Campus \nContact Hannah Abramowitz 516.204.3509 for exact location
URL:https://zushislist.com/single-event/girls-lunch/2026-06-17/
LOCATION:MMC Campus
CATEGORIES:Women
ATTACH;FMTTYPE=image/png:https://zushislist.com/wp-content/uploads/2026/04/girls-lunch.png
END:VEVENT
BEGIN:VEVENT
DTSTART;TZID=America/New_York:20260624T130000
DTEND;TZID=America/New_York:20260624T150000
DTSTAMP:20260423T173047
CREATED:20260422T172130Z
LAST-MODIFIED:20260422T172130Z
UID:10015428-1782306000-1782313200@zushislist.com
SUMMARY:GIRLS LUNCH
DESCRIPTION:YEHUDI SoFlo GIRLS LUNCH \nEvery Wednesday at 1:00 PM \nFREE Sushi lunch \nMeet other Jewish girls \nJewish learning discussions \nMMC Campus \nContact Hannah Abramowitz 516.204.3509 for exact location
URL:https://zushislist.com/single-event/girls-lunch/2026-06-24/
LOCATION:MMC Campus
CATEGORIES:Women
ATTACH;FMTTYPE=image/png:https://zushislist.com/wp-content/uploads/2026/04/girls-lunch.png
END:VEVENT
BEGIN:VEVENT
DTSTART;TZID=America/New_York:20260701T130000
DTEND;TZID=America/New_York:20260701T150000
DTSTAMP:20260423T173047
CREATED:20260422T172130Z
LAST-MODIFIED:20260422T172130Z
UID:10015429-1782910800-1782918000@zushislist.com
SUMMARY:GIRLS LUNCH
DESCRIPTION:YEHUDI SoFlo GIRLS LUNCH \nEvery Wednesday at 1:00 PM \nFREE Sushi lunch \nMeet other Jewish girls \nJewish learning discussions \nMMC Campus \nContact Hannah Abramowitz 516.204.3509 for exact location
URL:https://zushislist.com/single-event/girls-lunch/2026-07-01/
LOCATION:MMC Campus
CATEGORIES:Women
ATTACH;FMTTYPE=image/png:https://zushislist.com/wp-content/uploads/2026/04/girls-lunch.png
END:VEVENT
BEGIN:VEVENT
DTSTART;TZID=America/New_York:20260708T130000
DTEND;TZID=America/New_York:20260708T150000
DTSTAMP:20260423T173047
CREATED:20260422T172130Z
LAST-MODIFIED:20260422T172130Z
UID:10015430-1783515600-1783522800@zushislist.com
SUMMARY:GIRLS LUNCH
DESCRIPTION:YEHUDI SoFlo GIRLS LUNCH \nEvery Wednesday at 1:00 PM \nFREE Sushi lunch \nMeet other Jewish girls \nJewish learning discussions \nMMC Campus \nContact Hannah Abramowitz 516.204.3509 for exact location
URL:https://zushislist.com/single-event/girls-lunch/2026-07-08/
LOCATION:MMC Campus
CATEGORIES:Women
ATTACH;FMTTYPE=image/png:https://zushislist.com/wp-content/uploads/2026/04/girls-lunch.png
END:VEVENT
BEGIN:VEVENT
DTSTART;TZID=America/New_York:20260715T130000
DTEND;TZID=America/New_York:20260715T150000
DTSTAMP:20260423T173047
CREATED:20260422T172130Z
LAST-MODIFIED:20260422T172130Z
UID:10015431-1784120400-1784127600@zushislist.com
SUMMARY:GIRLS LUNCH
DESCRIPTION:YEHUDI SoFlo GIRLS LUNCH \nEvery Wednesday at 1:00 PM \nFREE Sushi lunch \nMeet other Jewish girls \nJewish learning discussions \nMMC Campus \nContact Hannah Abramowitz 516.204.3509 for exact location
URL:https://zushislist.com/single-event/girls-lunch/2026-07-15/
LOCATION:MMC Campus
CATEGORIES:Women
ATTACH;FMTTYPE=image/png:https://zushislist.com/wp-content/uploads/2026/04/girls-lunch.png
END:VEVENT
BEGIN:VEVENT
DTSTART;TZID=America/New_York:20260722T130000
DTEND;TZID=America/New_York:20260722T150000
DTSTAMP:20260423T173047
CREATED:20260422T172130Z
LAST-MODIFIED:20260422T172130Z
UID:10015432-1784725200-1784732400@zushislist.com
SUMMARY:GIRLS LUNCH
DESCRIPTION:YEHUDI SoFlo GIRLS LUNCH \nEvery Wednesday at 1:00 PM \nFREE Sushi lunch \nMeet other Jewish girls \nJewish learning discussions \nMMC Campus \nContact Hannah Abramowitz 516.204.3509 for exact location
URL:https://zushislist.com/single-event/girls-lunch/2026-07-22/
LOCATION:MMC Campus
CATEGORIES:Women
ATTACH;FMTTYPE=image/png:https://zushislist.com/wp-content/uploads/2026/04/girls-lunch.png
END:VEVENT
BEGIN:VEVENT
DTSTART;TZID=America/New_York:20260729T130000
DTEND;TZID=America/New_York:20260729T150000
DTSTAMP:20260423T173047
CREATED:20260422T172130Z
LAST-MODIFIED:20260422T172130Z
UID:10015433-1785330000-1785337200@zushislist.com
SUMMARY:GIRLS LUNCH
DESCRIPTION:YEHUDI SoFlo GIRLS LUNCH \nEvery Wednesday at 1:00 PM \nFREE Sushi lunch \nMeet other Jewish girls \nJewish learning discussions \nMMC Campus \nContact Hannah Abramowitz 516.204.3509 for exact location
URL:https://zushislist.com/single-event/girls-lunch/2026-07-29/
LOCATION:MMC Campus
CATEGORIES:Women
ATTACH;FMTTYPE=image/png:https://zushislist.com/wp-content/uploads/2026/04/girls-lunch.png
END:VEVENT
BEGIN:VEVENT
DTSTART;TZID=America/New_York:20260805T130000
DTEND;TZID=America/New_York:20260805T150000
DTSTAMP:20260423T173047
CREATED:20260422T172130Z
LAST-MODIFIED:20260422T172130Z
UID:10015434-1785934800-1785942000@zushislist.com
SUMMARY:GIRLS LUNCH
DESCRIPTION:YEHUDI SoFlo GIRLS LUNCH \nEvery Wednesday at 1:00 PM \nFREE Sushi lunch \nMeet other Jewish girls \nJewish learning discussions \nMMC Campus \nContact Hannah Abramowitz 516.204.3509 for exact location
URL:https://zushislist.com/single-event/girls-lunch/2026-08-05/
LOCATION:MMC Campus
CATEGORIES:Women
ATTACH;FMTTYPE=image/png:https://zushislist.com/wp-content/uploads/2026/04/girls-lunch.png
END:VEVENT
BEGIN:VEVENT
DTSTART;TZID=America/New_York:20260812T130000
DTEND;TZID=America/New_York:20260812T150000
DTSTAMP:20260423T173047
CREATED:20260422T172130Z
LAST-MODIFIED:20260422T172130Z
UID:10015435-1786539600-1786546800@zushislist.com
SUMMARY:GIRLS LUNCH
DESCRIPTION:YEHUDI SoFlo GIRLS LUNCH \nEvery Wednesday at 1:00 PM \nFREE Sushi lunch \nMeet other Jewish girls \nJewish learning discussions \nMMC Campus \nContact Hannah Abramowitz 516.204.3509 for exact location
URL:https://zushislist.com/single-event/girls-lunch/2026-08-12/
LOCATION:MMC Campus
CATEGORIES:Women
ATTACH;FMTTYPE=image/png:https://zushislist.com/wp-content/uploads/2026/04/girls-lunch.png
END:VEVENT
BEGIN:VEVENT
DTSTART;TZID=America/New_York:20260819T130000
DTEND;TZID=America/New_York:20260819T150000
DTSTAMP:20260423T173047
CREATED:20260422T172130Z
LAST-MODIFIED:20260422T172130Z
UID:10015436-1787144400-1787151600@zushislist.com
SUMMARY:GIRLS LUNCH
DESCRIPTION:YEHUDI SoFlo GIRLS LUNCH \nEvery Wednesday at 1:00 PM \nFREE Sushi lunch \nMeet other Jewish girls \nJewish learning discussions \nMMC Campus \nContact Hannah Abramowitz 516.204.3509 for exact location
URL:https://zushislist.com/single-event/girls-lunch/2026-08-19/
LOCATION:MMC Campus
CATEGORIES:Women
ATTACH;FMTTYPE=image/png:https://zushislist.com/wp-content/uploads/2026/04/girls-lunch.png
END:VEVENT
BEGIN:VEVENT
DTSTART;TZID=America/New_York:20260826T130000
DTEND;TZID=America/New_York:20260826T150000
DTSTAMP:20260423T173047
CREATED:20260422T172130Z
LAST-MODIFIED:20260422T172130Z
UID:10015437-1787749200-1787756400@zushislist.com
SUMMARY:GIRLS LUNCH
DESCRIPTION:YEHUDI SoFlo GIRLS LUNCH \nEvery Wednesday at 1:00 PM \nFREE Sushi lunch \nMeet other Jewish girls \nJewish learning discussions \nMMC Campus \nContact Hannah Abramowitz 516.204.3509 for exact location
URL:https://zushislist.com/single-event/girls-lunch/2026-08-26/
LOCATION:MMC Campus
CATEGORIES:Women
ATTACH;FMTTYPE=image/png:https://zushislist.com/wp-content/uploads/2026/04/girls-lunch.png
END:VEVENT
BEGIN:VEVENT
DTSTART;TZID=America/New_York:20260902T130000
DTEND;TZID=America/New_York:20260902T150000
DTSTAMP:20260423T173047
CREATED:20260422T172130Z
LAST-MODIFIED:20260422T172130Z
UID:10015438-1788354000-1788361200@zushislist.com
SUMMARY:GIRLS LUNCH
DESCRIPTION:YEHUDI SoFlo GIRLS LUNCH \nEvery Wednesday at 1:00 PM \nFREE Sushi lunch \nMeet other Jewish girls \nJewish learning discussions \nMMC Campus \nContact Hannah Abramowitz 516.204.3509 for exact location
URL:https://zushislist.com/single-event/girls-lunch/2026-09-02/
LOCATION:MMC Campus
CATEGORIES:Women
ATTACH;FMTTYPE=image/png:https://zushislist.com/wp-content/uploads/2026/04/girls-lunch.png
END:VEVENT
BEGIN:VEVENT
DTSTART;TZID=America/New_York:20260909T130000
DTEND;TZID=America/New_York:20260909T150000
DTSTAMP:20260423T173047
CREATED:20260422T172130Z
LAST-MODIFIED:20260422T172130Z
UID:10015439-1788958800-1788966000@zushislist.com
SUMMARY:GIRLS LUNCH
DESCRIPTION:YEHUDI SoFlo GIRLS LUNCH \nEvery Wednesday at 1:00 PM \nFREE Sushi lunch \nMeet other Jewish girls \nJewish learning discussions \nMMC Campus \nContact Hannah Abramowitz 516.204.3509 for exact location
URL:https://zushislist.com/single-event/girls-lunch/2026-09-09/
LOCATION:MMC Campus
CATEGORIES:Women
ATTACH;FMTTYPE=image/png:https://zushislist.com/wp-content/uploads/2026/04/girls-lunch.png
END:VEVENT
BEGIN:VEVENT
DTSTART;TZID=America/New_York:20260916T130000
DTEND;TZID=America/New_York:20260916T150000
DTSTAMP:20260423T173047
CREATED:20260422T172130Z
LAST-MODIFIED:20260422T172130Z
UID:10015440-1789563600-1789570800@zushislist.com
SUMMARY:GIRLS LUNCH
DESCRIPTION:YEHUDI SoFlo GIRLS LUNCH \nEvery Wednesday at 1:00 PM \nFREE Sushi lunch \nMeet other Jewish girls \nJewish learning discussions \nMMC Campus \nContact Hannah Abramowitz 516.204.3509 for exact location
URL:https://zushislist.com/single-event/girls-lunch/2026-09-16/
LOCATION:MMC Campus
CATEGORIES:Women
ATTACH;FMTTYPE=image/png:https://zushislist.com/wp-content/uploads/2026/04/girls-lunch.png
END:VEVENT
BEGIN:VEVENT
DTSTART;TZID=America/New_York:20260923T130000
DTEND;TZID=America/New_York:20260923T150000
DTSTAMP:20260423T173047
CREATED:20260422T172130Z
LAST-MODIFIED:20260422T172130Z
UID:10015441-1790168400-1790175600@zushislist.com
SUMMARY:GIRLS LUNCH
DESCRIPTION:YEHUDI SoFlo GIRLS LUNCH \nEvery Wednesday at 1:00 PM \nFREE Sushi lunch \nMeet other Jewish girls \nJewish learning discussions \nMMC Campus \nContact Hannah Abramowitz 516.204.3509 for exact location
URL:https://zushislist.com/single-event/girls-lunch/2026-09-23/
LOCATION:MMC Campus
CATEGORIES:Women
ATTACH;FMTTYPE=image/png:https://zushislist.com/wp-content/uploads/2026/04/girls-lunch.png
END:VEVENT
BEGIN:VEVENT
DTSTART;TZID=America/New_York:20260930T130000
DTEND;TZID=America/New_York:20260930T150000
DTSTAMP:20260423T173047
CREATED:20260422T172130Z
LAST-MODIFIED:20260422T172130Z
UID:10015442-1790773200-1790780400@zushislist.com
SUMMARY:GIRLS LUNCH
DESCRIPTION:YEHUDI SoFlo GIRLS LUNCH \nEvery Wednesday at 1:00 PM \nFREE Sushi lunch \nMeet other Jewish girls \nJewish learning discussions \nMMC Campus \nContact Hannah Abramowitz 516.204.3509 for exact location
URL:https://zushislist.com/single-event/girls-lunch/2026-09-30/
LOCATION:MMC Campus
CATEGORIES:Women
ATTACH;FMTTYPE=image/png:https://zushislist.com/wp-content/uploads/2026/04/girls-lunch.png
END:VEVENT
BEGIN:VEVENT
DTSTART;TZID=America/New_York:20261007T130000
DTEND;TZID=America/New_York:20261007T150000
DTSTAMP:20260423T173047
CREATED:20260422T172130Z
LAST-MODIFIED:20260422T172130Z
UID:10015443-1791378000-1791385200@zushislist.com
SUMMARY:GIRLS LUNCH
DESCRIPTION:YEHUDI SoFlo GIRLS LUNCH \nEvery Wednesday at 1:00 PM \nFREE Sushi lunch \nMeet other Jewish girls \nJewish learning discussions \nMMC Campus \nContact Hannah Abramowitz 516.204.3509 for exact location
URL:https://zushislist.com/single-event/girls-lunch/2026-10-07/
LOCATION:MMC Campus
CATEGORIES:Women
ATTACH;FMTTYPE=image/png:https://zushislist.com/wp-content/uploads/2026/04/girls-lunch.png
END:VEVENT
BEGIN:VEVENT
DTSTART;TZID=America/New_York:20261014T130000
DTEND;TZID=America/New_York:20261014T150000
DTSTAMP:20260423T173047
CREATED:20260422T172130Z
LAST-MODIFIED:20260422T172130Z
UID:10015444-1791982800-1791990000@zushislist.com
SUMMARY:GIRLS LUNCH
DESCRIPTION:YEHUDI SoFlo GIRLS LUNCH \nEvery Wednesday at 1:00 PM \nFREE Sushi lunch \nMeet other Jewish girls \nJewish learning discussions \nMMC Campus \nContact Hannah Abramowitz 516.204.3509 for exact location
URL:https://zushislist.com/single-event/girls-lunch/2026-10-14/
LOCATION:MMC Campus
CATEGORIES:Women
ATTACH;FMTTYPE=image/png:https://zushislist.com/wp-content/uploads/2026/04/girls-lunch.png
END:VEVENT
BEGIN:VEVENT
DTSTART;TZID=America/New_York:20261021T130000
DTEND;TZID=America/New_York:20261021T150000
DTSTAMP:20260423T173047
CREATED:20260422T172130Z
LAST-MODIFIED:20260422T172130Z
UID:10015445-1792587600-1792594800@zushislist.com
SUMMARY:GIRLS LUNCH
DESCRIPTION:YEHUDI SoFlo GIRLS LUNCH \nEvery Wednesday at 1:00 PM \nFREE Sushi lunch \nMeet other Jewish girls \nJewish learning discussions \nMMC Campus \nContact Hannah Abramowitz 516.204.3509 for exact location
URL:https://zushislist.com/single-event/girls-lunch/2026-10-21/
LOCATION:MMC Campus
CATEGORIES:Women
ATTACH;FMTTYPE=image/png:https://zushislist.com/wp-content/uploads/2026/04/girls-lunch.png
END:VEVENT
BEGIN:VEVENT
DTSTART;TZID=America/New_York:20261028T130000
DTEND;TZID=America/New_York:20261028T150000
DTSTAMP:20260423T173047
CREATED:20260422T172130Z
LAST-MODIFIED:20260422T172130Z
UID:10015446-1793192400-1793199600@zushislist.com
SUMMARY:GIRLS LUNCH
DESCRIPTION:YEHUDI SoFlo GIRLS LUNCH \nEvery Wednesday at 1:00 PM \nFREE Sushi lunch \nMeet other Jewish girls \nJewish learning discussions \nMMC Campus \nContact Hannah Abramowitz 516.204.3509 for exact location
URL:https://zushislist.com/single-event/girls-lunch/2026-10-28/
LOCATION:MMC Campus
CATEGORIES:Women
ATTACH;FMTTYPE=image/png:https://zushislist.com/wp-content/uploads/2026/04/girls-lunch.png
END:VEVENT
BEGIN:VEVENT
DTSTART;TZID=America/New_York:20261104T130000
DTEND;TZID=America/New_York:20261104T150000
DTSTAMP:20260423T173047
CREATED:20260422T172130Z
LAST-MODIFIED:20260422T172130Z
UID:10015447-1793797200-1793804400@zushislist.com
SUMMARY:GIRLS LUNCH
DESCRIPTION:YEHUDI SoFlo GIRLS LUNCH \nEvery Wednesday at 1:00 PM \nFREE Sushi lunch \nMeet other Jewish girls \nJewish learning discussions \nMMC Campus \nContact Hannah Abramowitz 516.204.3509 for exact location
URL:https://zushislist.com/single-event/girls-lunch/2026-11-04/
LOCATION:MMC Campus
CATEGORIES:Women
ATTACH;FMTTYPE=image/png:https://zushislist.com/wp-content/uploads/2026/04/girls-lunch.png
END:VEVENT
BEGIN:VEVENT
DTSTART;TZID=America/New_York:20261111T130000
DTEND;TZID=America/New_York:20261111T150000
DTSTAMP:20260423T173047
CREATED:20260422T172130Z
LAST-MODIFIED:20260422T172130Z
UID:10015448-1794402000-1794409200@zushislist.com
SUMMARY:GIRLS LUNCH
DESCRIPTION:YEHUDI SoFlo GIRLS LUNCH \nEvery Wednesday at 1:00 PM \nFREE Sushi lunch \nMeet other Jewish girls \nJewish learning discussions \nMMC Campus \nContact Hannah Abramowitz 516.204.3509 for exact location
URL:https://zushislist.com/single-event/girls-lunch/2026-11-11/
LOCATION:MMC Campus
CATEGORIES:Women
ATTACH;FMTTYPE=image/png:https://zushislist.com/wp-content/uploads/2026/04/girls-lunch.png
END:VEVENT
BEGIN:VEVENT
DTSTART;TZID=America/New_York:20261118T130000
DTEND;TZID=America/New_York:20261118T150000
DTSTAMP:20260423T173047
CREATED:20260422T172130Z
LAST-MODIFIED:20260422T172130Z
UID:10015449-1795006800-1795014000@zushislist.com
SUMMARY:GIRLS LUNCH
DESCRIPTION:YEHUDI SoFlo GIRLS LUNCH \nEvery Wednesday at 1:00 PM \nFREE Sushi lunch \nMeet other Jewish girls \nJewish learning discussions \nMMC Campus \nContact Hannah Abramowitz 516.204.3509 for exact location
URL:https://zushislist.com/single-event/girls-lunch/2026-11-18/
LOCATION:MMC Campus
CATEGORIES:Women
ATTACH;FMTTYPE=image/png:https://zushislist.com/wp-content/uploads/2026/04/girls-lunch.png
END:VEVENT
END:VCALENDAR