BEGIN:VCALENDAR
VERSION:2.0
PRODID:-//Zushi&#039;s List - ECPv6.15.20//NONSGML v1.0//EN
CALSCALE:GREGORIAN
METHOD:PUBLISH
X-WR-CALNAME:Zushi&#039;s List
X-ORIGINAL-URL:https://zushislist.com
X-WR-CALDESC:Events for Zushi&#039;s List
REFRESH-INTERVAL;VALUE=DURATION:PT1H
X-Robots-Tag:noindex
X-PUBLISHED-TTL:PT1H
BEGIN:VTIMEZONE
TZID:America/New_York
BEGIN:DAYLIGHT
TZOFFSETFROM:-0500
TZOFFSETTO:-0400
TZNAME:EDT
DTSTART:20250309T070000
END:DAYLIGHT
BEGIN:STANDARD
TZOFFSETFROM:-0400
TZOFFSETTO:-0500
TZNAME:EST
DTSTART:20251102T060000
END:STANDARD
BEGIN:DAYLIGHT
TZOFFSETFROM:-0500
TZOFFSETTO:-0400
TZNAME:EDT
DTSTART:20260308T070000
END:DAYLIGHT
BEGIN:STANDARD
TZOFFSETFROM:-0400
TZOFFSETTO:-0500
TZNAME:EST
DTSTART:20261101T060000
END:STANDARD
BEGIN:DAYLIGHT
TZOFFSETFROM:-0500
TZOFFSETTO:-0400
TZNAME:EDT
DTSTART:20270314T070000
END:DAYLIGHT
BEGIN:STANDARD
TZOFFSETFROM:-0400
TZOFFSETTO:-0500
TZNAME:EST
DTSTART:20271107T060000
END:STANDARD
BEGIN:DAYLIGHT
TZOFFSETFROM:-0500
TZOFFSETTO:-0400
TZNAME:EDT
DTSTART:20280312T070000
END:DAYLIGHT
BEGIN:STANDARD
TZOFFSETFROM:-0400
TZOFFSETTO:-0500
TZNAME:EST
DTSTART:20281105T060000
END:STANDARD
END:VTIMEZONE
BEGIN:VEVENT
DTSTART;TZID=America/New_York:20261021T130000
DTEND;TZID=America/New_York:20261021T150000
DTSTAMP:20260423T190736
CREATED:20260422T172130Z
LAST-MODIFIED:20260422T172130Z
UID:10015445-1792587600-1792594800@zushislist.com
SUMMARY:GIRLS LUNCH
DESCRIPTION:YEHUDI SoFlo GIRLS LUNCH \nEvery Wednesday at 1:00 PM \nFREE Sushi lunch \nMeet other Jewish girls \nJewish learning discussions \nMMC Campus \nContact Hannah Abramowitz 516.204.3509 for exact location
URL:https://zushislist.com/single-event/girls-lunch/2026-10-21/
LOCATION:MMC Campus
CATEGORIES:Women
ATTACH;FMTTYPE=image/png:https://zushislist.com/wp-content/uploads/2026/04/girls-lunch.png
END:VEVENT
BEGIN:VEVENT
DTSTART;TZID=America/New_York:20261028T130000
DTEND;TZID=America/New_York:20261028T150000
DTSTAMP:20260423T190736
CREATED:20260422T172130Z
LAST-MODIFIED:20260422T172130Z
UID:10015446-1793192400-1793199600@zushislist.com
SUMMARY:GIRLS LUNCH
DESCRIPTION:YEHUDI SoFlo GIRLS LUNCH \nEvery Wednesday at 1:00 PM \nFREE Sushi lunch \nMeet other Jewish girls \nJewish learning discussions \nMMC Campus \nContact Hannah Abramowitz 516.204.3509 for exact location
URL:https://zushislist.com/single-event/girls-lunch/2026-10-28/
LOCATION:MMC Campus
CATEGORIES:Women
ATTACH;FMTTYPE=image/png:https://zushislist.com/wp-content/uploads/2026/04/girls-lunch.png
END:VEVENT
BEGIN:VEVENT
DTSTART;TZID=America/New_York:20261104T130000
DTEND;TZID=America/New_York:20261104T150000
DTSTAMP:20260423T190736
CREATED:20260422T172130Z
LAST-MODIFIED:20260422T172130Z
UID:10015447-1793797200-1793804400@zushislist.com
SUMMARY:GIRLS LUNCH
DESCRIPTION:YEHUDI SoFlo GIRLS LUNCH \nEvery Wednesday at 1:00 PM \nFREE Sushi lunch \nMeet other Jewish girls \nJewish learning discussions \nMMC Campus \nContact Hannah Abramowitz 516.204.3509 for exact location
URL:https://zushislist.com/single-event/girls-lunch/2026-11-04/
LOCATION:MMC Campus
CATEGORIES:Women
ATTACH;FMTTYPE=image/png:https://zushislist.com/wp-content/uploads/2026/04/girls-lunch.png
END:VEVENT
BEGIN:VEVENT
DTSTART;TZID=America/New_York:20261111T130000
DTEND;TZID=America/New_York:20261111T150000
DTSTAMP:20260423T190736
CREATED:20260422T172130Z
LAST-MODIFIED:20260422T172130Z
UID:10015448-1794402000-1794409200@zushislist.com
SUMMARY:GIRLS LUNCH
DESCRIPTION:YEHUDI SoFlo GIRLS LUNCH \nEvery Wednesday at 1:00 PM \nFREE Sushi lunch \nMeet other Jewish girls \nJewish learning discussions \nMMC Campus \nContact Hannah Abramowitz 516.204.3509 for exact location
URL:https://zushislist.com/single-event/girls-lunch/2026-11-11/
LOCATION:MMC Campus
CATEGORIES:Women
ATTACH;FMTTYPE=image/png:https://zushislist.com/wp-content/uploads/2026/04/girls-lunch.png
END:VEVENT
BEGIN:VEVENT
DTSTART;TZID=America/New_York:20261118T130000
DTEND;TZID=America/New_York:20261118T150000
DTSTAMP:20260423T190736
CREATED:20260422T172130Z
LAST-MODIFIED:20260422T172130Z
UID:10015449-1795006800-1795014000@zushislist.com
SUMMARY:GIRLS LUNCH
DESCRIPTION:YEHUDI SoFlo GIRLS LUNCH \nEvery Wednesday at 1:00 PM \nFREE Sushi lunch \nMeet other Jewish girls \nJewish learning discussions \nMMC Campus \nContact Hannah Abramowitz 516.204.3509 for exact location
URL:https://zushislist.com/single-event/girls-lunch/2026-11-18/
LOCATION:MMC Campus
CATEGORIES:Women
ATTACH;FMTTYPE=image/png:https://zushislist.com/wp-content/uploads/2026/04/girls-lunch.png
END:VEVENT
BEGIN:VEVENT
DTSTART;TZID=America/New_York:20261125T130000
DTEND;TZID=America/New_York:20261125T150000
DTSTAMP:20260423T190736
CREATED:20260422T172130Z
LAST-MODIFIED:20260422T172130Z
UID:10015450-1795611600-1795618800@zushislist.com
SUMMARY:GIRLS LUNCH
DESCRIPTION:YEHUDI SoFlo GIRLS LUNCH \nEvery Wednesday at 1:00 PM \nFREE Sushi lunch \nMeet other Jewish girls \nJewish learning discussions \nMMC Campus \nContact Hannah Abramowitz 516.204.3509 for exact location
URL:https://zushislist.com/single-event/girls-lunch/2026-11-25/
LOCATION:MMC Campus
CATEGORIES:Women
ATTACH;FMTTYPE=image/png:https://zushislist.com/wp-content/uploads/2026/04/girls-lunch.png
END:VEVENT
BEGIN:VEVENT
DTSTART;TZID=America/New_York:20261202T130000
DTEND;TZID=America/New_York:20261202T150000
DTSTAMP:20260423T190736
CREATED:20260422T172130Z
LAST-MODIFIED:20260422T172130Z
UID:10015451-1796216400-1796223600@zushislist.com
SUMMARY:GIRLS LUNCH
DESCRIPTION:YEHUDI SoFlo GIRLS LUNCH \nEvery Wednesday at 1:00 PM \nFREE Sushi lunch \nMeet other Jewish girls \nJewish learning discussions \nMMC Campus \nContact Hannah Abramowitz 516.204.3509 for exact location
URL:https://zushislist.com/single-event/girls-lunch/2026-12-02/
LOCATION:MMC Campus
CATEGORIES:Women
ATTACH;FMTTYPE=image/png:https://zushislist.com/wp-content/uploads/2026/04/girls-lunch.png
END:VEVENT
BEGIN:VEVENT
DTSTART;TZID=America/New_York:20261209T130000
DTEND;TZID=America/New_York:20261209T150000
DTSTAMP:20260423T190736
CREATED:20260422T172130Z
LAST-MODIFIED:20260422T172130Z
UID:10015452-1796821200-1796828400@zushislist.com
SUMMARY:GIRLS LUNCH
DESCRIPTION:YEHUDI SoFlo GIRLS LUNCH \nEvery Wednesday at 1:00 PM \nFREE Sushi lunch \nMeet other Jewish girls \nJewish learning discussions \nMMC Campus \nContact Hannah Abramowitz 516.204.3509 for exact location
URL:https://zushislist.com/single-event/girls-lunch/2026-12-09/
LOCATION:MMC Campus
CATEGORIES:Women
ATTACH;FMTTYPE=image/png:https://zushislist.com/wp-content/uploads/2026/04/girls-lunch.png
END:VEVENT
BEGIN:VEVENT
DTSTART;TZID=America/New_York:20261216T130000
DTEND;TZID=America/New_York:20261216T150000
DTSTAMP:20260423T190736
CREATED:20260422T172130Z
LAST-MODIFIED:20260422T172130Z
UID:10015453-1797426000-1797433200@zushislist.com
SUMMARY:GIRLS LUNCH
DESCRIPTION:YEHUDI SoFlo GIRLS LUNCH \nEvery Wednesday at 1:00 PM \nFREE Sushi lunch \nMeet other Jewish girls \nJewish learning discussions \nMMC Campus \nContact Hannah Abramowitz 516.204.3509 for exact location
URL:https://zushislist.com/single-event/girls-lunch/2026-12-16/
LOCATION:MMC Campus
CATEGORIES:Women
ATTACH;FMTTYPE=image/png:https://zushislist.com/wp-content/uploads/2026/04/girls-lunch.png
END:VEVENT
BEGIN:VEVENT
DTSTART;TZID=America/New_York:20261223T130000
DTEND;TZID=America/New_York:20261223T150000
DTSTAMP:20260423T190736
CREATED:20260422T172130Z
LAST-MODIFIED:20260422T172130Z
UID:10015454-1798030800-1798038000@zushislist.com
SUMMARY:GIRLS LUNCH
DESCRIPTION:YEHUDI SoFlo GIRLS LUNCH \nEvery Wednesday at 1:00 PM \nFREE Sushi lunch \nMeet other Jewish girls \nJewish learning discussions \nMMC Campus \nContact Hannah Abramowitz 516.204.3509 for exact location
URL:https://zushislist.com/single-event/girls-lunch/2026-12-23/
LOCATION:MMC Campus
CATEGORIES:Women
ATTACH;FMTTYPE=image/png:https://zushislist.com/wp-content/uploads/2026/04/girls-lunch.png
END:VEVENT
BEGIN:VEVENT
DTSTART;TZID=America/New_York:20261230T130000
DTEND;TZID=America/New_York:20261230T150000
DTSTAMP:20260423T190736
CREATED:20260422T172130Z
LAST-MODIFIED:20260422T172130Z
UID:10015455-1798635600-1798642800@zushislist.com
SUMMARY:GIRLS LUNCH
DESCRIPTION:YEHUDI SoFlo GIRLS LUNCH \nEvery Wednesday at 1:00 PM \nFREE Sushi lunch \nMeet other Jewish girls \nJewish learning discussions \nMMC Campus \nContact Hannah Abramowitz 516.204.3509 for exact location
URL:https://zushislist.com/single-event/girls-lunch/2026-12-30/
LOCATION:MMC Campus
CATEGORIES:Women
ATTACH;FMTTYPE=image/png:https://zushislist.com/wp-content/uploads/2026/04/girls-lunch.png
END:VEVENT
BEGIN:VEVENT
DTSTART;TZID=America/New_York:20270106T130000
DTEND;TZID=America/New_York:20270106T150000
DTSTAMP:20260423T190736
CREATED:20260422T172130Z
LAST-MODIFIED:20260422T172130Z
UID:10015456-1799240400-1799247600@zushislist.com
SUMMARY:GIRLS LUNCH
DESCRIPTION:YEHUDI SoFlo GIRLS LUNCH \nEvery Wednesday at 1:00 PM \nFREE Sushi lunch \nMeet other Jewish girls \nJewish learning discussions \nMMC Campus \nContact Hannah Abramowitz 516.204.3509 for exact location
URL:https://zushislist.com/single-event/girls-lunch/2027-01-06/
LOCATION:MMC Campus
CATEGORIES:Women
ATTACH;FMTTYPE=image/png:https://zushislist.com/wp-content/uploads/2026/04/girls-lunch.png
END:VEVENT
BEGIN:VEVENT
DTSTART;TZID=America/New_York:20270113T130000
DTEND;TZID=America/New_York:20270113T150000
DTSTAMP:20260423T190736
CREATED:20260422T172130Z
LAST-MODIFIED:20260422T172130Z
UID:10015457-1799845200-1799852400@zushislist.com
SUMMARY:GIRLS LUNCH
DESCRIPTION:YEHUDI SoFlo GIRLS LUNCH \nEvery Wednesday at 1:00 PM \nFREE Sushi lunch \nMeet other Jewish girls \nJewish learning discussions \nMMC Campus \nContact Hannah Abramowitz 516.204.3509 for exact location
URL:https://zushislist.com/single-event/girls-lunch/2027-01-13/
LOCATION:MMC Campus
CATEGORIES:Women
ATTACH;FMTTYPE=image/png:https://zushislist.com/wp-content/uploads/2026/04/girls-lunch.png
END:VEVENT
BEGIN:VEVENT
DTSTART;TZID=America/New_York:20270120T130000
DTEND;TZID=America/New_York:20270120T150000
DTSTAMP:20260423T190736
CREATED:20260422T172130Z
LAST-MODIFIED:20260422T172130Z
UID:10015458-1800450000-1800457200@zushislist.com
SUMMARY:GIRLS LUNCH
DESCRIPTION:YEHUDI SoFlo GIRLS LUNCH \nEvery Wednesday at 1:00 PM \nFREE Sushi lunch \nMeet other Jewish girls \nJewish learning discussions \nMMC Campus \nContact Hannah Abramowitz 516.204.3509 for exact location
URL:https://zushislist.com/single-event/girls-lunch/2027-01-20/
LOCATION:MMC Campus
CATEGORIES:Women
ATTACH;FMTTYPE=image/png:https://zushislist.com/wp-content/uploads/2026/04/girls-lunch.png
END:VEVENT
BEGIN:VEVENT
DTSTART;TZID=America/New_York:20270127T130000
DTEND;TZID=America/New_York:20270127T150000
DTSTAMP:20260423T190736
CREATED:20260422T172130Z
LAST-MODIFIED:20260422T172130Z
UID:10015459-1801054800-1801062000@zushislist.com
SUMMARY:GIRLS LUNCH
DESCRIPTION:YEHUDI SoFlo GIRLS LUNCH \nEvery Wednesday at 1:00 PM \nFREE Sushi lunch \nMeet other Jewish girls \nJewish learning discussions \nMMC Campus \nContact Hannah Abramowitz 516.204.3509 for exact location
URL:https://zushislist.com/single-event/girls-lunch/2027-01-27/
LOCATION:MMC Campus
CATEGORIES:Women
ATTACH;FMTTYPE=image/png:https://zushislist.com/wp-content/uploads/2026/04/girls-lunch.png
END:VEVENT
BEGIN:VEVENT
DTSTART;TZID=America/New_York:20270203T130000
DTEND;TZID=America/New_York:20270203T150000
DTSTAMP:20260423T190736
CREATED:20260422T172130Z
LAST-MODIFIED:20260422T172130Z
UID:10015460-1801659600-1801666800@zushislist.com
SUMMARY:GIRLS LUNCH
DESCRIPTION:YEHUDI SoFlo GIRLS LUNCH \nEvery Wednesday at 1:00 PM \nFREE Sushi lunch \nMeet other Jewish girls \nJewish learning discussions \nMMC Campus \nContact Hannah Abramowitz 516.204.3509 for exact location
URL:https://zushislist.com/single-event/girls-lunch/2027-02-03/
LOCATION:MMC Campus
CATEGORIES:Women
ATTACH;FMTTYPE=image/png:https://zushislist.com/wp-content/uploads/2026/04/girls-lunch.png
END:VEVENT
BEGIN:VEVENT
DTSTART;TZID=America/New_York:20270210T130000
DTEND;TZID=America/New_York:20270210T150000
DTSTAMP:20260423T190736
CREATED:20260422T172130Z
LAST-MODIFIED:20260422T172130Z
UID:10015461-1802264400-1802271600@zushislist.com
SUMMARY:GIRLS LUNCH
DESCRIPTION:YEHUDI SoFlo GIRLS LUNCH \nEvery Wednesday at 1:00 PM \nFREE Sushi lunch \nMeet other Jewish girls \nJewish learning discussions \nMMC Campus \nContact Hannah Abramowitz 516.204.3509 for exact location
URL:https://zushislist.com/single-event/girls-lunch/2027-02-10/
LOCATION:MMC Campus
CATEGORIES:Women
ATTACH;FMTTYPE=image/png:https://zushislist.com/wp-content/uploads/2026/04/girls-lunch.png
END:VEVENT
BEGIN:VEVENT
DTSTART;TZID=America/New_York:20270217T130000
DTEND;TZID=America/New_York:20270217T150000
DTSTAMP:20260423T190736
CREATED:20260422T172130Z
LAST-MODIFIED:20260422T172130Z
UID:10015462-1802869200-1802876400@zushislist.com
SUMMARY:GIRLS LUNCH
DESCRIPTION:YEHUDI SoFlo GIRLS LUNCH \nEvery Wednesday at 1:00 PM \nFREE Sushi lunch \nMeet other Jewish girls \nJewish learning discussions \nMMC Campus \nContact Hannah Abramowitz 516.204.3509 for exact location
URL:https://zushislist.com/single-event/girls-lunch/2027-02-17/
LOCATION:MMC Campus
CATEGORIES:Women
ATTACH;FMTTYPE=image/png:https://zushislist.com/wp-content/uploads/2026/04/girls-lunch.png
END:VEVENT
BEGIN:VEVENT
DTSTART;TZID=America/New_York:20270224T130000
DTEND;TZID=America/New_York:20270224T150000
DTSTAMP:20260423T190736
CREATED:20260422T172130Z
LAST-MODIFIED:20260422T172130Z
UID:10015463-1803474000-1803481200@zushislist.com
SUMMARY:GIRLS LUNCH
DESCRIPTION:YEHUDI SoFlo GIRLS LUNCH \nEvery Wednesday at 1:00 PM \nFREE Sushi lunch \nMeet other Jewish girls \nJewish learning discussions \nMMC Campus \nContact Hannah Abramowitz 516.204.3509 for exact location
URL:https://zushislist.com/single-event/girls-lunch/2027-02-24/
LOCATION:MMC Campus
CATEGORIES:Women
ATTACH;FMTTYPE=image/png:https://zushislist.com/wp-content/uploads/2026/04/girls-lunch.png
END:VEVENT
BEGIN:VEVENT
DTSTART;TZID=America/New_York:20270303T130000
DTEND;TZID=America/New_York:20270303T150000
DTSTAMP:20260423T190736
CREATED:20260422T172130Z
LAST-MODIFIED:20260422T172130Z
UID:10015464-1804078800-1804086000@zushislist.com
SUMMARY:GIRLS LUNCH
DESCRIPTION:YEHUDI SoFlo GIRLS LUNCH \nEvery Wednesday at 1:00 PM \nFREE Sushi lunch \nMeet other Jewish girls \nJewish learning discussions \nMMC Campus \nContact Hannah Abramowitz 516.204.3509 for exact location
URL:https://zushislist.com/single-event/girls-lunch/2027-03-03/
LOCATION:MMC Campus
CATEGORIES:Women
ATTACH;FMTTYPE=image/png:https://zushislist.com/wp-content/uploads/2026/04/girls-lunch.png
END:VEVENT
BEGIN:VEVENT
DTSTART;TZID=America/New_York:20270310T130000
DTEND;TZID=America/New_York:20270310T150000
DTSTAMP:20260423T190736
CREATED:20260422T172130Z
LAST-MODIFIED:20260422T172130Z
UID:10015465-1804683600-1804690800@zushislist.com
SUMMARY:GIRLS LUNCH
DESCRIPTION:YEHUDI SoFlo GIRLS LUNCH \nEvery Wednesday at 1:00 PM \nFREE Sushi lunch \nMeet other Jewish girls \nJewish learning discussions \nMMC Campus \nContact Hannah Abramowitz 516.204.3509 for exact location
URL:https://zushislist.com/single-event/girls-lunch/2027-03-10/
LOCATION:MMC Campus
CATEGORIES:Women
ATTACH;FMTTYPE=image/png:https://zushislist.com/wp-content/uploads/2026/04/girls-lunch.png
END:VEVENT
BEGIN:VEVENT
DTSTART;TZID=America/New_York:20270317T130000
DTEND;TZID=America/New_York:20270317T150000
DTSTAMP:20260423T190736
CREATED:20260422T172130Z
LAST-MODIFIED:20260422T172130Z
UID:10015466-1805288400-1805295600@zushislist.com
SUMMARY:GIRLS LUNCH
DESCRIPTION:YEHUDI SoFlo GIRLS LUNCH \nEvery Wednesday at 1:00 PM \nFREE Sushi lunch \nMeet other Jewish girls \nJewish learning discussions \nMMC Campus \nContact Hannah Abramowitz 516.204.3509 for exact location
URL:https://zushislist.com/single-event/girls-lunch/2027-03-17/
LOCATION:MMC Campus
CATEGORIES:Women
ATTACH;FMTTYPE=image/png:https://zushislist.com/wp-content/uploads/2026/04/girls-lunch.png
END:VEVENT
BEGIN:VEVENT
DTSTART;TZID=America/New_York:20270324T130000
DTEND;TZID=America/New_York:20270324T150000
DTSTAMP:20260423T190736
CREATED:20260422T172130Z
LAST-MODIFIED:20260422T172130Z
UID:10015467-1805893200-1805900400@zushislist.com
SUMMARY:GIRLS LUNCH
DESCRIPTION:YEHUDI SoFlo GIRLS LUNCH \nEvery Wednesday at 1:00 PM \nFREE Sushi lunch \nMeet other Jewish girls \nJewish learning discussions \nMMC Campus \nContact Hannah Abramowitz 516.204.3509 for exact location
URL:https://zushislist.com/single-event/girls-lunch/2027-03-24/
LOCATION:MMC Campus
CATEGORIES:Women
ATTACH;FMTTYPE=image/png:https://zushislist.com/wp-content/uploads/2026/04/girls-lunch.png
END:VEVENT
BEGIN:VEVENT
DTSTART;TZID=America/New_York:20270331T130000
DTEND;TZID=America/New_York:20270331T150000
DTSTAMP:20260423T190736
CREATED:20260422T172130Z
LAST-MODIFIED:20260422T172130Z
UID:10015468-1806498000-1806505200@zushislist.com
SUMMARY:GIRLS LUNCH
DESCRIPTION:YEHUDI SoFlo GIRLS LUNCH \nEvery Wednesday at 1:00 PM \nFREE Sushi lunch \nMeet other Jewish girls \nJewish learning discussions \nMMC Campus \nContact Hannah Abramowitz 516.204.3509 for exact location
URL:https://zushislist.com/single-event/girls-lunch/2027-03-31/
LOCATION:MMC Campus
CATEGORIES:Women
ATTACH;FMTTYPE=image/png:https://zushislist.com/wp-content/uploads/2026/04/girls-lunch.png
END:VEVENT
BEGIN:VEVENT
DTSTART;TZID=America/New_York:20270407T130000
DTEND;TZID=America/New_York:20270407T150000
DTSTAMP:20260423T190736
CREATED:20260422T172130Z
LAST-MODIFIED:20260422T172130Z
UID:10015469-1807102800-1807110000@zushislist.com
SUMMARY:GIRLS LUNCH
DESCRIPTION:YEHUDI SoFlo GIRLS LUNCH \nEvery Wednesday at 1:00 PM \nFREE Sushi lunch \nMeet other Jewish girls \nJewish learning discussions \nMMC Campus \nContact Hannah Abramowitz 516.204.3509 for exact location
URL:https://zushislist.com/single-event/girls-lunch/2027-04-07/
LOCATION:MMC Campus
CATEGORIES:Women
ATTACH;FMTTYPE=image/png:https://zushislist.com/wp-content/uploads/2026/04/girls-lunch.png
END:VEVENT
BEGIN:VEVENT
DTSTART;TZID=America/New_York:20270414T130000
DTEND;TZID=America/New_York:20270414T150000
DTSTAMP:20260423T190736
CREATED:20260422T172130Z
LAST-MODIFIED:20260422T172130Z
UID:10015470-1807707600-1807714800@zushislist.com
SUMMARY:GIRLS LUNCH
DESCRIPTION:YEHUDI SoFlo GIRLS LUNCH \nEvery Wednesday at 1:00 PM \nFREE Sushi lunch \nMeet other Jewish girls \nJewish learning discussions \nMMC Campus \nContact Hannah Abramowitz 516.204.3509 for exact location
URL:https://zushislist.com/single-event/girls-lunch/2027-04-14/
LOCATION:MMC Campus
CATEGORIES:Women
ATTACH;FMTTYPE=image/png:https://zushislist.com/wp-content/uploads/2026/04/girls-lunch.png
END:VEVENT
BEGIN:VEVENT
DTSTART;TZID=America/New_York:20270421T130000
DTEND;TZID=America/New_York:20270421T150000
DTSTAMP:20260423T190736
CREATED:20260422T172130Z
LAST-MODIFIED:20260422T172130Z
UID:10015471-1808312400-1808319600@zushislist.com
SUMMARY:GIRLS LUNCH
DESCRIPTION:YEHUDI SoFlo GIRLS LUNCH \nEvery Wednesday at 1:00 PM \nFREE Sushi lunch \nMeet other Jewish girls \nJewish learning discussions \nMMC Campus \nContact Hannah Abramowitz 516.204.3509 for exact location
URL:https://zushislist.com/single-event/girls-lunch/2027-04-21/
LOCATION:MMC Campus
CATEGORIES:Women
ATTACH;FMTTYPE=image/png:https://zushislist.com/wp-content/uploads/2026/04/girls-lunch.png
END:VEVENT
BEGIN:VEVENT
DTSTART;TZID=America/New_York:20270428T130000
DTEND;TZID=America/New_York:20270428T150000
DTSTAMP:20260423T190736
CREATED:20260422T172130Z
LAST-MODIFIED:20260422T172130Z
UID:10015472-1808917200-1808924400@zushislist.com
SUMMARY:GIRLS LUNCH
DESCRIPTION:YEHUDI SoFlo GIRLS LUNCH \nEvery Wednesday at 1:00 PM \nFREE Sushi lunch \nMeet other Jewish girls \nJewish learning discussions \nMMC Campus \nContact Hannah Abramowitz 516.204.3509 for exact location
URL:https://zushislist.com/single-event/girls-lunch/2027-04-28/
LOCATION:MMC Campus
CATEGORIES:Women
ATTACH;FMTTYPE=image/png:https://zushislist.com/wp-content/uploads/2026/04/girls-lunch.png
END:VEVENT
BEGIN:VEVENT
DTSTART;TZID=America/New_York:20270505T130000
DTEND;TZID=America/New_York:20270505T150000
DTSTAMP:20260423T190736
CREATED:20260422T172130Z
LAST-MODIFIED:20260422T172130Z
UID:10015473-1809522000-1809529200@zushislist.com
SUMMARY:GIRLS LUNCH
DESCRIPTION:YEHUDI SoFlo GIRLS LUNCH \nEvery Wednesday at 1:00 PM \nFREE Sushi lunch \nMeet other Jewish girls \nJewish learning discussions \nMMC Campus \nContact Hannah Abramowitz 516.204.3509 for exact location
URL:https://zushislist.com/single-event/girls-lunch/2027-05-05/
LOCATION:MMC Campus
CATEGORIES:Women
ATTACH;FMTTYPE=image/png:https://zushislist.com/wp-content/uploads/2026/04/girls-lunch.png
END:VEVENT
BEGIN:VEVENT
DTSTART;TZID=America/New_York:20270512T130000
DTEND;TZID=America/New_York:20270512T150000
DTSTAMP:20260423T190736
CREATED:20260422T172130Z
LAST-MODIFIED:20260422T172130Z
UID:10015474-1810126800-1810134000@zushislist.com
SUMMARY:GIRLS LUNCH
DESCRIPTION:YEHUDI SoFlo GIRLS LUNCH \nEvery Wednesday at 1:00 PM \nFREE Sushi lunch \nMeet other Jewish girls \nJewish learning discussions \nMMC Campus \nContact Hannah Abramowitz 516.204.3509 for exact location
URL:https://zushislist.com/single-event/girls-lunch/2027-05-12/
LOCATION:MMC Campus
CATEGORIES:Women
ATTACH;FMTTYPE=image/png:https://zushislist.com/wp-content/uploads/2026/04/girls-lunch.png
END:VEVENT
END:VCALENDAR