BEGIN:VCALENDAR
VERSION:2.0
PRODID:-//Zushi&#039;s List - ECPv6.15.20//NONSGML v1.0//EN
CALSCALE:GREGORIAN
METHOD:PUBLISH
X-ORIGINAL-URL:https://zushislist.com
X-WR-CALDESC:Events for Zushi&#039;s List
REFRESH-INTERVAL;VALUE=DURATION:PT1H
X-Robots-Tag:noindex
X-PUBLISHED-TTL:PT1H
BEGIN:VTIMEZONE
TZID:America/New_York
BEGIN:DAYLIGHT
TZOFFSETFROM:-0500
TZOFFSETTO:-0400
TZNAME:EDT
DTSTART:20250309T070000
END:DAYLIGHT
BEGIN:STANDARD
TZOFFSETFROM:-0400
TZOFFSETTO:-0500
TZNAME:EST
DTSTART:20251102T060000
END:STANDARD
BEGIN:DAYLIGHT
TZOFFSETFROM:-0500
TZOFFSETTO:-0400
TZNAME:EDT
DTSTART:20260308T070000
END:DAYLIGHT
BEGIN:STANDARD
TZOFFSETFROM:-0400
TZOFFSETTO:-0500
TZNAME:EST
DTSTART:20261101T060000
END:STANDARD
BEGIN:DAYLIGHT
TZOFFSETFROM:-0500
TZOFFSETTO:-0400
TZNAME:EDT
DTSTART:20270314T070000
END:DAYLIGHT
BEGIN:STANDARD
TZOFFSETFROM:-0400
TZOFFSETTO:-0500
TZNAME:EST
DTSTART:20271107T060000
END:STANDARD
END:VTIMEZONE
BEGIN:VEVENT
DTSTART;TZID=America/New_York:20260514T200000
DTEND;TZID=America/New_York:20260514T210000
DTSTAMP:20260423T203709
CREATED:20260423T151639Z
LAST-MODIFIED:20260423T151639Z
UID:10015693-1778788800-1778792400@zushislist.com
SUMMARY:Pre Shavuot SPECIAL BAKING NIGHT WITH SHOSHANA NULMAN
DESCRIPTION:Pre Shavuot SPECIAL BAKING NIGHT WITH SHOSHANA NULMAN \nTHURSDAY MAY 14\, 2026 – 8 PM \n$10 ONLINE | $20 BY DOOR REGISTER AT KSPACE.ORG/SHOSHI \nEXCLUSIVELY FOR YOUNG JEWISH SINGLES AGES 21-38 \nKSPACE RESERVES ITS RIGHT OF ADMISSION
URL:https://zushislist.com/single-event/pre-shavuot-special-baking-night-with-shoshana-nulman/
CATEGORIES:Community
ATTACH;FMTTYPE=image/png:https://zushislist.com/wp-content/uploads/2026/04/Special-baking.png
END:VEVENT
END:VCALENDAR