BEGIN:VCALENDAR
VERSION:2.0
PRODID:-//Zushi&#039;s List - ECPv6.15.20//NONSGML v1.0//EN
CALSCALE:GREGORIAN
METHOD:PUBLISH
X-ORIGINAL-URL:https://zushislist.com
X-WR-CALDESC:Events for Zushi&#039;s List
REFRESH-INTERVAL;VALUE=DURATION:PT1H
X-Robots-Tag:noindex
X-PUBLISHED-TTL:PT1H
BEGIN:VTIMEZONE
TZID:America/New_York
BEGIN:DAYLIGHT
TZOFFSETFROM:-0500
TZOFFSETTO:-0400
TZNAME:EDT
DTSTART:20250309T070000
END:DAYLIGHT
BEGIN:STANDARD
TZOFFSETFROM:-0400
TZOFFSETTO:-0500
TZNAME:EST
DTSTART:20251102T060000
END:STANDARD
BEGIN:DAYLIGHT
TZOFFSETFROM:-0500
TZOFFSETTO:-0400
TZNAME:EDT
DTSTART:20260308T070000
END:DAYLIGHT
BEGIN:STANDARD
TZOFFSETFROM:-0400
TZOFFSETTO:-0500
TZNAME:EST
DTSTART:20261101T060000
END:STANDARD
BEGIN:DAYLIGHT
TZOFFSETFROM:-0500
TZOFFSETTO:-0400
TZNAME:EDT
DTSTART:20270314T070000
END:DAYLIGHT
BEGIN:STANDARD
TZOFFSETFROM:-0400
TZOFFSETTO:-0500
TZNAME:EST
DTSTART:20271107T060000
END:STANDARD
END:VTIMEZONE
BEGIN:VEVENT
DTSTART;TZID=America/New_York:20260507T203000
DTEND;TZID=America/New_York:20260508T010000
DTSTAMP:20260423T190734
CREATED:20260423T143316Z
LAST-MODIFIED:20260423T143316Z
UID:10015687-1778185800-1778202000@zushislist.com
SUMMARY:Scarlet & Ivory
DESCRIPTION:Scarlet & Ivory — May 7\, 8:30pm ❤️🤍 \nNot your typical Jewish singles event… \nA rooftop social designed for natural chemistry and conversation\, building into a high-energy party. \nAges 25–42\nRed & white cocktail attire \nKosher desserts & full bar\nCC Rooftop Lounge\, Wynwood \nhttps://posh.vip/e/scarlet-ivory
URL:https://zushislist.com/single-event/scarlet-ivory/
LOCATION:CC Rooftop\, Wynwood Miami\, United States
CATEGORIES:Young-Jewish-Professionals
ATTACH;FMTTYPE=image/png:https://zushislist.com/wp-content/uploads/2026/04/1000302833.png
ORGANIZER;CN="The Guest List":MAILTO:estiefaur@gmail.com
END:VEVENT
END:VCALENDAR