BEGIN:VCALENDAR
VERSION:2.0
PRODID:-//Zushi&#039;s List - ECPv6.15.20//NONSGML v1.0//EN
CALSCALE:GREGORIAN
METHOD:PUBLISH
X-WR-CALNAME:Zushi&#039;s List
X-ORIGINAL-URL:https://zushislist.com
X-WR-CALDESC:Events for Zushi&#039;s List
REFRESH-INTERVAL;VALUE=DURATION:PT1H
X-Robots-Tag:noindex
X-PUBLISHED-TTL:PT1H
BEGIN:VTIMEZONE
TZID:America/New_York
BEGIN:DAYLIGHT
TZOFFSETFROM:-0500
TZOFFSETTO:-0400
TZNAME:EDT
DTSTART:20250309T070000
END:DAYLIGHT
BEGIN:STANDARD
TZOFFSETFROM:-0400
TZOFFSETTO:-0500
TZNAME:EST
DTSTART:20251102T060000
END:STANDARD
BEGIN:DAYLIGHT
TZOFFSETFROM:-0500
TZOFFSETTO:-0400
TZNAME:EDT
DTSTART:20260308T070000
END:DAYLIGHT
BEGIN:STANDARD
TZOFFSETFROM:-0400
TZOFFSETTO:-0500
TZNAME:EST
DTSTART:20261101T060000
END:STANDARD
BEGIN:DAYLIGHT
TZOFFSETFROM:-0500
TZOFFSETTO:-0400
TZNAME:EDT
DTSTART:20270314T070000
END:DAYLIGHT
BEGIN:STANDARD
TZOFFSETFROM:-0400
TZOFFSETTO:-0500
TZNAME:EST
DTSTART:20271107T060000
END:STANDARD
END:VTIMEZONE
BEGIN:VEVENT
DTSTART;TZID=America/New_York:20260501T193000
DTEND;TZID=America/New_York:20260501T230000
DTSTAMP:20260423T225446
CREATED:20260422T174729Z
LAST-MODIFIED:20260422T174729Z
UID:10014591-1777663800-1777676400@zushislist.com
SUMMARY:YJP CORAL GABLES SPRING SHABBAT DINNER
DESCRIPTION:Join YJP Coral Gables for a fresh and vibrant Spring Shabbat Dinner\, filled with seasonal flavors\, warm energy\, and meaningful connections. Celebrate the beauty of the season as you unwind\, meet fellow young Jewish professionals\, and experience an uplifting Shabbat atmosphere. Reserve your spot and join us for an unforgettable evening!\nWe look forward to seeing you there! \n\nDate:      Friday\, May 1 \n\nTime:      7:30 PM\n\nLocation: CHABAD OF CORAL GABLES\n                 1827 Ponce De Leon Blvd\nCoral Gables\, FL 33134\nCouvert: $25 by Friday\, April 26| $36 Thereafter
URL:https://zushislist.com/single-event/yjp-coral-gables-spring-shabbat-dinner/
CATEGORIES:Young-Jewish-Professionals
ORGANIZER;CN="YJP Coral Gables":MAILTO:Minastolik@gmail.com
END:VEVENT
END:VCALENDAR