BEGIN:VCALENDAR
VERSION:2.0
PRODID:-//Zushi&#039;s List - ECPv6.15.20//NONSGML v1.0//EN
CALSCALE:GREGORIAN
METHOD:PUBLISH
X-ORIGINAL-URL:https://zushislist.com
X-WR-CALDESC:Events for Zushi&#039;s List
REFRESH-INTERVAL;VALUE=DURATION:PT1H
X-Robots-Tag:noindex
X-PUBLISHED-TTL:PT1H
BEGIN:VTIMEZONE
TZID:America/New_York
BEGIN:DAYLIGHT
TZOFFSETFROM:-0500
TZOFFSETTO:-0400
TZNAME:EDT
DTSTART:20300310T070000
END:DAYLIGHT
BEGIN:STANDARD
TZOFFSETFROM:-0400
TZOFFSETTO:-0500
TZNAME:EST
DTSTART:20301103T060000
END:STANDARD
BEGIN:DAYLIGHT
TZOFFSETFROM:-0500
TZOFFSETTO:-0400
TZNAME:EDT
DTSTART:20310309T070000
END:DAYLIGHT
BEGIN:STANDARD
TZOFFSETFROM:-0400
TZOFFSETTO:-0500
TZNAME:EST
DTSTART:20311102T060000
END:STANDARD
BEGIN:DAYLIGHT
TZOFFSETFROM:-0500
TZOFFSETTO:-0400
TZNAME:EDT
DTSTART:20320314T070000
END:DAYLIGHT
BEGIN:STANDARD
TZOFFSETFROM:-0400
TZOFFSETTO:-0500
TZNAME:EST
DTSTART:20321107T060000
END:STANDARD
END:VTIMEZONE
BEGIN:VEVENT
DTSTART;TZID=America/New_York:20310204T200000
DTEND;TZID=America/New_York:20310204T223000
DTSTAMP:20260421T064558
CREATED:20260413T170802Z
LAST-MODIFIED:20260413T170802Z
UID:10013947-1928001600-1928010600@zushislist.com
SUMMARY:Israeli Party
DESCRIPTION:Israeli Party \nEVERY TUESDAY LIGHT \n8:00-10:30 PM \n2721 N Hiatus Rd\, Cooper City\, FL 33026 \nHOUSE SINGER : ASAF LEVI \nPRIVATE TABLE | LIVE SHOW | FREE ENTR
URL:https://zushislist.com/single-event/israeli-party/2031-02-04/
LOCATION:2721 N Hiatus Rd\, Cooper City\, FL 33026\, United States
CATEGORIES:Community
ATTACH;FMTTYPE=image/png:https://zushislist.com/wp-content/uploads/2026/04/abbys.png
END:VEVENT
BEGIN:VEVENT
DTSTART;TZID=America/New_York:20310211T200000
DTEND;TZID=America/New_York:20310211T223000
DTSTAMP:20260421T064558
CREATED:20260413T170802Z
LAST-MODIFIED:20260413T170802Z
UID:10013948-1928606400-1928615400@zushislist.com
SUMMARY:Israeli Party
DESCRIPTION:Israeli Party \nEVERY TUESDAY LIGHT \n8:00-10:30 PM \n2721 N Hiatus Rd\, Cooper City\, FL 33026 \nHOUSE SINGER : ASAF LEVI \nPRIVATE TABLE | LIVE SHOW | FREE ENTR
URL:https://zushislist.com/single-event/israeli-party/2031-02-11/
LOCATION:2721 N Hiatus Rd\, Cooper City\, FL 33026\, United States
CATEGORIES:Community
ATTACH;FMTTYPE=image/png:https://zushislist.com/wp-content/uploads/2026/04/abbys.png
END:VEVENT
BEGIN:VEVENT
DTSTART;TZID=America/New_York:20310218T200000
DTEND;TZID=America/New_York:20310218T223000
DTSTAMP:20260421T064558
CREATED:20260413T170802Z
LAST-MODIFIED:20260413T170802Z
UID:10013949-1929211200-1929220200@zushislist.com
SUMMARY:Israeli Party
DESCRIPTION:Israeli Party \nEVERY TUESDAY LIGHT \n8:00-10:30 PM \n2721 N Hiatus Rd\, Cooper City\, FL 33026 \nHOUSE SINGER : ASAF LEVI \nPRIVATE TABLE | LIVE SHOW | FREE ENTR
URL:https://zushislist.com/single-event/israeli-party/2031-02-18/
LOCATION:2721 N Hiatus Rd\, Cooper City\, FL 33026\, United States
CATEGORIES:Community
ATTACH;FMTTYPE=image/png:https://zushislist.com/wp-content/uploads/2026/04/abbys.png
END:VEVENT
BEGIN:VEVENT
DTSTART;TZID=America/New_York:20310225T200000
DTEND;TZID=America/New_York:20310225T223000
DTSTAMP:20260421T064558
CREATED:20260413T170802Z
LAST-MODIFIED:20260413T170802Z
UID:10013950-1929816000-1929825000@zushislist.com
SUMMARY:Israeli Party
DESCRIPTION:Israeli Party \nEVERY TUESDAY LIGHT \n8:00-10:30 PM \n2721 N Hiatus Rd\, Cooper City\, FL 33026 \nHOUSE SINGER : ASAF LEVI \nPRIVATE TABLE | LIVE SHOW | FREE ENTR
URL:https://zushislist.com/single-event/israeli-party/2031-02-25/
LOCATION:2721 N Hiatus Rd\, Cooper City\, FL 33026\, United States
CATEGORIES:Community
ATTACH;FMTTYPE=image/png:https://zushislist.com/wp-content/uploads/2026/04/abbys.png
END:VEVENT
BEGIN:VEVENT
DTSTART;TZID=America/New_York:20310304T200000
DTEND;TZID=America/New_York:20310304T223000
DTSTAMP:20260421T064558
CREATED:20260413T170802Z
LAST-MODIFIED:20260413T170802Z
UID:10013951-1930420800-1930429800@zushislist.com
SUMMARY:Israeli Party
DESCRIPTION:Israeli Party \nEVERY TUESDAY LIGHT \n8:00-10:30 PM \n2721 N Hiatus Rd\, Cooper City\, FL 33026 \nHOUSE SINGER : ASAF LEVI \nPRIVATE TABLE | LIVE SHOW | FREE ENTR
URL:https://zushislist.com/single-event/israeli-party/2031-03-04/
LOCATION:2721 N Hiatus Rd\, Cooper City\, FL 33026\, United States
CATEGORIES:Community
ATTACH;FMTTYPE=image/png:https://zushislist.com/wp-content/uploads/2026/04/abbys.png
END:VEVENT
BEGIN:VEVENT
DTSTART;TZID=America/New_York:20310311T200000
DTEND;TZID=America/New_York:20310311T223000
DTSTAMP:20260421T064558
CREATED:20260413T170802Z
LAST-MODIFIED:20260413T170802Z
UID:10013952-1931025600-1931034600@zushislist.com
SUMMARY:Israeli Party
DESCRIPTION:Israeli Party \nEVERY TUESDAY LIGHT \n8:00-10:30 PM \n2721 N Hiatus Rd\, Cooper City\, FL 33026 \nHOUSE SINGER : ASAF LEVI \nPRIVATE TABLE | LIVE SHOW | FREE ENTR
URL:https://zushislist.com/single-event/israeli-party/2031-03-11/
LOCATION:2721 N Hiatus Rd\, Cooper City\, FL 33026\, United States
CATEGORIES:Community
ATTACH;FMTTYPE=image/png:https://zushislist.com/wp-content/uploads/2026/04/abbys.png
END:VEVENT
BEGIN:VEVENT
DTSTART;TZID=America/New_York:20310318T200000
DTEND;TZID=America/New_York:20310318T223000
DTSTAMP:20260421T064558
CREATED:20260413T170802Z
LAST-MODIFIED:20260413T170802Z
UID:10013953-1931630400-1931639400@zushislist.com
SUMMARY:Israeli Party
DESCRIPTION:Israeli Party \nEVERY TUESDAY LIGHT \n8:00-10:30 PM \n2721 N Hiatus Rd\, Cooper City\, FL 33026 \nHOUSE SINGER : ASAF LEVI \nPRIVATE TABLE | LIVE SHOW | FREE ENTR
URL:https://zushislist.com/single-event/israeli-party/2031-03-18/
LOCATION:2721 N Hiatus Rd\, Cooper City\, FL 33026\, United States
CATEGORIES:Community
ATTACH;FMTTYPE=image/png:https://zushislist.com/wp-content/uploads/2026/04/abbys.png
END:VEVENT
BEGIN:VEVENT
DTSTART;TZID=America/New_York:20310325T200000
DTEND;TZID=America/New_York:20310325T223000
DTSTAMP:20260421T064558
CREATED:20260413T170802Z
LAST-MODIFIED:20260413T170802Z
UID:10013954-1932235200-1932244200@zushislist.com
SUMMARY:Israeli Party
DESCRIPTION:Israeli Party \nEVERY TUESDAY LIGHT \n8:00-10:30 PM \n2721 N Hiatus Rd\, Cooper City\, FL 33026 \nHOUSE SINGER : ASAF LEVI \nPRIVATE TABLE | LIVE SHOW | FREE ENTR
URL:https://zushislist.com/single-event/israeli-party/2031-03-25/
LOCATION:2721 N Hiatus Rd\, Cooper City\, FL 33026\, United States
CATEGORIES:Community
ATTACH;FMTTYPE=image/png:https://zushislist.com/wp-content/uploads/2026/04/abbys.png
END:VEVENT
BEGIN:VEVENT
DTSTART;TZID=America/New_York:20310401T200000
DTEND;TZID=America/New_York:20310401T223000
DTSTAMP:20260421T064558
CREATED:20260413T170802Z
LAST-MODIFIED:20260413T170802Z
UID:10013955-1932840000-1932849000@zushislist.com
SUMMARY:Israeli Party
DESCRIPTION:Israeli Party \nEVERY TUESDAY LIGHT \n8:00-10:30 PM \n2721 N Hiatus Rd\, Cooper City\, FL 33026 \nHOUSE SINGER : ASAF LEVI \nPRIVATE TABLE | LIVE SHOW | FREE ENTR
URL:https://zushislist.com/single-event/israeli-party/2031-04-01/
LOCATION:2721 N Hiatus Rd\, Cooper City\, FL 33026\, United States
CATEGORIES:Community
ATTACH;FMTTYPE=image/png:https://zushislist.com/wp-content/uploads/2026/04/abbys.png
END:VEVENT
BEGIN:VEVENT
DTSTART;TZID=America/New_York:20310408T200000
DTEND;TZID=America/New_York:20310408T223000
DTSTAMP:20260421T064558
CREATED:20260413T170802Z
LAST-MODIFIED:20260413T170802Z
UID:10013956-1933444800-1933453800@zushislist.com
SUMMARY:Israeli Party
DESCRIPTION:Israeli Party \nEVERY TUESDAY LIGHT \n8:00-10:30 PM \n2721 N Hiatus Rd\, Cooper City\, FL 33026 \nHOUSE SINGER : ASAF LEVI \nPRIVATE TABLE | LIVE SHOW | FREE ENTR
URL:https://zushislist.com/single-event/israeli-party/2031-04-08/
LOCATION:2721 N Hiatus Rd\, Cooper City\, FL 33026\, United States
CATEGORIES:Community
ATTACH;FMTTYPE=image/png:https://zushislist.com/wp-content/uploads/2026/04/abbys.png
END:VEVENT
END:VCALENDAR