BEGIN:VCALENDAR
VERSION:2.0
PRODID:-//Zushi&#039;s List - ECPv6.15.20//NONSGML v1.0//EN
CALSCALE:GREGORIAN
METHOD:PUBLISH
X-ORIGINAL-URL:https://zushislist.com
X-WR-CALDESC:Events for Zushi&#039;s List
REFRESH-INTERVAL;VALUE=DURATION:PT1H
X-Robots-Tag:noindex
X-PUBLISHED-TTL:PT1H
BEGIN:VTIMEZONE
TZID:America/New_York
BEGIN:DAYLIGHT
TZOFFSETFROM:-0500
TZOFFSETTO:-0400
TZNAME:EDT
DTSTART:20250309T070000
END:DAYLIGHT
BEGIN:STANDARD
TZOFFSETFROM:-0400
TZOFFSETTO:-0500
TZNAME:EST
DTSTART:20251102T060000
END:STANDARD
BEGIN:DAYLIGHT
TZOFFSETFROM:-0500
TZOFFSETTO:-0400
TZNAME:EDT
DTSTART:20260308T070000
END:DAYLIGHT
BEGIN:STANDARD
TZOFFSETFROM:-0400
TZOFFSETTO:-0500
TZNAME:EST
DTSTART:20261101T060000
END:STANDARD
BEGIN:DAYLIGHT
TZOFFSETFROM:-0500
TZOFFSETTO:-0400
TZNAME:EDT
DTSTART:20270314T070000
END:DAYLIGHT
BEGIN:STANDARD
TZOFFSETFROM:-0400
TZOFFSETTO:-0500
TZNAME:EST
DTSTART:20271107T060000
END:STANDARD
END:VTIMEZONE
BEGIN:VEVENT
DTSTART;TZID=America/New_York:20260719T140000
DTEND;TZID=America/New_York:20260719T210000
DTSTAMP:20260423T132918
CREATED:20260422T170546Z
LAST-MODIFIED:20260422T170546Z
UID:10014634-1784469600-1784494800@zushislist.com
SUMMARY:DAYTOX By WhatzNewDrewToo
DESCRIPTION:DAYTOX By WhatzNewDrewToo \nSunday\, Jul 19 – 2:00 PM – 9PM \nSaucy Boodah Miami \n337 NW 25TH ST MIAMI FL 33127 \nFOR SECTION: 806.724.8885 \nRIDGEREUNION.COM
URL:https://zushislist.com/single-event/daytox-by-whatznewdrewtoo/
LOCATION:337 NW 25TH ST MIAMI FL 33127\, United States
CATEGORIES:Community
ATTACH;FMTTYPE=image/png:https://zushislist.com/wp-content/uploads/2026/04/Daytox.png
END:VEVENT
END:VCALENDAR