BEGIN:VCALENDAR
VERSION:2.0
PRODID:-//Zushi&#039;s List - ECPv6.15.20//NONSGML v1.0//EN
CALSCALE:GREGORIAN
METHOD:PUBLISH
X-ORIGINAL-URL:https://zushislist.com
X-WR-CALDESC:Events for Zushi&#039;s List
REFRESH-INTERVAL;VALUE=DURATION:PT1H
X-Robots-Tag:noindex
X-PUBLISHED-TTL:PT1H
BEGIN:VTIMEZONE
TZID:America/New_York
BEGIN:DAYLIGHT
TZOFFSETFROM:-0500
TZOFFSETTO:-0400
TZNAME:EDT
DTSTART:20250309T070000
END:DAYLIGHT
BEGIN:STANDARD
TZOFFSETFROM:-0400
TZOFFSETTO:-0500
TZNAME:EST
DTSTART:20251102T060000
END:STANDARD
BEGIN:DAYLIGHT
TZOFFSETFROM:-0500
TZOFFSETTO:-0400
TZNAME:EDT
DTSTART:20260308T070000
END:DAYLIGHT
BEGIN:STANDARD
TZOFFSETFROM:-0400
TZOFFSETTO:-0500
TZNAME:EST
DTSTART:20261101T060000
END:STANDARD
BEGIN:DAYLIGHT
TZOFFSETFROM:-0500
TZOFFSETTO:-0400
TZNAME:EDT
DTSTART:20270314T070000
END:DAYLIGHT
BEGIN:STANDARD
TZOFFSETFROM:-0400
TZOFFSETTO:-0500
TZNAME:EST
DTSTART:20271107T060000
END:STANDARD
END:VTIMEZONE
BEGIN:VEVENT
DTSTART;TZID=America/New_York:20260330T090000
DTEND;TZID=America/New_York:20260410T160000
DTSTAMP:20260421T031356
CREATED:20260124T140043Z
LAST-MODIFIED:20260404T144459Z
UID:10009452-1774861200-1775836800@zushislist.com
SUMMARY:Dale & Ed Filhaber Passover Break Mini Camp @ the J
DESCRIPTION:GRADES: Pre-K – 5\nDale & Ed Filhaber Mini Camp at the J is non-stop fun with sports\, games\, crafts\, swim\, playground and more.\n\n\nGRADES: Pre-K – 5 \nDale & Ed Filhaber Mini Camp at the J is non-stop fun at the Levis JCC with swim\, sports\, crafts\, gaga\, entertainment\, games\, playground and more! Please pack a Kosher dairy lunch. Sneakers or closed-toed shoes are recommended for activities. \nPASSOVER BREAK MINI CAMP Camp at the J: Grades Pre-K – 5 \nMarch 30-31\, April 6-7\, April 10 \n9:00 am – 4:00 pm \nCost Information: $65/per person per day or $300/per week .Price increases to $75/day on the Monday before each camp starts. No exceptions. \nPre-care: 8:00 – 9:00 am\, $7 per person \nNEW *Child must submit up to date immunization form. Email to jasont@levisjcc.org \nLate fee of $1/minute after end time. Maximum of 15 minutes/$15. \nDates may not be applicable to all schools\, check your child’s school calendar. \nThere will be no make-up days\, refunds or credits in the event of absences\, weather emergencies\, other school closings or early withdrawals. A $25 fee will be charged for program changes. \nJason Tomaszewski| 561-852-3231| jasont@levisjcc.org
URL:https://zushislist.com/single-event/dale-ed-filhaber-passover-break-mini-camp-the-j/
LOCATION:Adolph & Rose Levis Jewish Community Center\, 9801 Donna Klein Blvd\, Boca Raton\, FL\, 33428\, United States
ATTACH;FMTTYPE=image/jpeg:https://zushislist.com/wp-content/uploads/2026/01/9fd66e3e306670f98e7fd17d76326359.jpg
END:VEVENT
END:VCALENDAR