BEGIN:VCALENDAR
VERSION:2.0
PRODID:-//Zushi&#039;s List - ECPv6.15.20//NONSGML v1.0//EN
CALSCALE:GREGORIAN
METHOD:PUBLISH
X-ORIGINAL-URL:https://zushislist.com
X-WR-CALDESC:Events for Zushi&#039;s List
REFRESH-INTERVAL;VALUE=DURATION:PT1H
X-Robots-Tag:noindex
X-PUBLISHED-TTL:PT1H
BEGIN:VTIMEZONE
TZID:America/New_York
BEGIN:DAYLIGHT
TZOFFSETFROM:-0500
TZOFFSETTO:-0400
TZNAME:EDT
DTSTART:20250309T070000
END:DAYLIGHT
BEGIN:STANDARD
TZOFFSETFROM:-0400
TZOFFSETTO:-0500
TZNAME:EST
DTSTART:20251102T060000
END:STANDARD
BEGIN:DAYLIGHT
TZOFFSETFROM:-0500
TZOFFSETTO:-0400
TZNAME:EDT
DTSTART:20260308T070000
END:DAYLIGHT
BEGIN:STANDARD
TZOFFSETFROM:-0400
TZOFFSETTO:-0500
TZNAME:EST
DTSTART:20261101T060000
END:STANDARD
BEGIN:DAYLIGHT
TZOFFSETFROM:-0500
TZOFFSETTO:-0400
TZNAME:EDT
DTSTART:20270314T070000
END:DAYLIGHT
BEGIN:STANDARD
TZOFFSETFROM:-0400
TZOFFSETTO:-0500
TZNAME:EST
DTSTART:20271107T060000
END:STANDARD
END:VTIMEZONE
BEGIN:VEVENT
DTSTART;TZID=America/New_York:20260404T080000
DTEND;TZID=America/New_York:20260404T170000
DTSTAMP:20260421T172520
CREATED:20260331T173216Z
LAST-MODIFIED:20260331T173216Z
UID:10013493-1775289600-1775322000@zushislist.com
SUMMARY:Jared "Jewish Jet" Firestone
DESCRIPTION:Join us to hear from Jared “Jewish Jet” Firestone \n2026 OLYMPIAN ISRAEL SKELETON TEAM \nShabbat Pesach • April 4 \nFollowed by Kiddush & Q&A \nBeit David Highland Lakes Shul \nJared Firestone is a 2026 Olympian who represented Team Israel in Skeleton and served as Israel’s flagbearer. A South Florida native and attorney\, he overcame a mini-stroke to achieve historic results on the world stage. \n  \n 
URL:https://zushislist.com/single-event/jared-jewish-jet-firestone/
LOCATION:Beit David Highland Lakes Shul\, United States
CATEGORIES:Community
ATTACH;FMTTYPE=image/png:https://zushislist.com/wp-content/uploads/2026/03/Jewish-Jet.png
END:VEVENT
BEGIN:VEVENT
DTSTART;TZID=America/New_York:20260402T200000
DTEND;TZID=America/New_York:20260402T210000
DTSTAMP:20260421T172520
CREATED:20260323T174958Z
LAST-MODIFIED:20260323T174958Z
UID:10012140-1775160000-1775163600@zushislist.com
SUMMARY:Communal Seder
DESCRIPTION:Final Day To Register For Our Communal Seder 🍷 \nJoin us for a spectacular night to relive the exodus and celebrate freedom together! \nDelicious dinner • Haggadah commentary • Activities for all ages \n– 2nd Seder\, Thursday April 2\, 8:00 PM \n– Beit David Highland Lakes Shul \n🔗 RSVP: www.bdhls.org/seder
URL:https://zushislist.com/single-event/communal-seder/
LOCATION:Beit David Highland Lakes Shul\, United States
CATEGORIES:Community
ATTACH;FMTTYPE=image/png:https://zushislist.com/wp-content/uploads/2026/03/Communal-Seder.png
END:VEVENT
END:VCALENDAR