BEGIN:VCALENDAR
VERSION:2.0
PRODID:-//Zushi&#039;s List - ECPv6.15.20//NONSGML v1.0//EN
CALSCALE:GREGORIAN
METHOD:PUBLISH
X-ORIGINAL-URL:https://zushislist.com
X-WR-CALDESC:Events for Zushi&#039;s List
REFRESH-INTERVAL;VALUE=DURATION:PT1H
X-Robots-Tag:noindex
X-PUBLISHED-TTL:PT1H
BEGIN:VTIMEZONE
TZID:America/New_York
BEGIN:DAYLIGHT
TZOFFSETFROM:-0500
TZOFFSETTO:-0400
TZNAME:EDT
DTSTART:20250309T070000
END:DAYLIGHT
BEGIN:STANDARD
TZOFFSETFROM:-0400
TZOFFSETTO:-0500
TZNAME:EST
DTSTART:20251102T060000
END:STANDARD
BEGIN:DAYLIGHT
TZOFFSETFROM:-0500
TZOFFSETTO:-0400
TZNAME:EDT
DTSTART:20260308T070000
END:DAYLIGHT
BEGIN:STANDARD
TZOFFSETFROM:-0400
TZOFFSETTO:-0500
TZNAME:EST
DTSTART:20261101T060000
END:STANDARD
BEGIN:DAYLIGHT
TZOFFSETFROM:-0500
TZOFFSETTO:-0400
TZNAME:EDT
DTSTART:20270314T070000
END:DAYLIGHT
BEGIN:STANDARD
TZOFFSETFROM:-0400
TZOFFSETTO:-0500
TZNAME:EST
DTSTART:20271107T060000
END:STANDARD
END:VTIMEZONE
BEGIN:VEVENT
DTSTART;TZID=America/New_York:20260425T220000
DTEND;TZID=America/New_York:20260426T030000
DTSTAMP:20260420T201433
CREATED:20260420T180317Z
LAST-MODIFIED:20260420T180317Z
UID:10014602-1777154400-1777172400@zushislist.com
SUMMARY:YOM HA'ATZMAOUT ROOFTOP CELEBRATION
DESCRIPTION:This Saturday Night April 25 Rooftop Israel Independence Party \nTel Aviv vibes. Zionist pride. Am Israel Chai. \nDJs spinning Israeli Mizrachi classics\, Hebrew pop & house dance music \nSing and dance to your favorite artists — Omer Adam\, Eyal Golan\, Sarit Haddad\, Itay Levi\, Dudu Ahron — all night long \nCC Rooftop\nWynwood Miami\n10PM til 3AM \n🇮🇱 Private event. Reserve VIP table & Tickets online in advance to guarantee entry \n👉🏼 https://nellyslist.com/event/miami78/\n👉🏼yalla.eventbrite.com
URL:https://zushislist.com/single-event/yom-haatzmaout-rooftop-celebration/
LOCATION:CC Rooftop\, Wynwood Miami\, United States
CATEGORIES:Community
ATTACH;FMTTYPE=image/png:https://zushislist.com/wp-content/uploads/2026/04/Yom-Haatzmaout-right-israel.png
END:VEVENT
END:VCALENDAR