BEGIN:VCALENDAR
VERSION:2.0
PRODID:-//Zushi&#039;s List - ECPv6.15.20//NONSGML v1.0//EN
CALSCALE:GREGORIAN
METHOD:PUBLISH
X-ORIGINAL-URL:https://zushislist.com
X-WR-CALDESC:Events for Zushi&#039;s List
REFRESH-INTERVAL;VALUE=DURATION:PT1H
X-Robots-Tag:noindex
X-PUBLISHED-TTL:PT1H
BEGIN:VTIMEZONE
TZID:America/New_York
BEGIN:DAYLIGHT
TZOFFSETFROM:-0500
TZOFFSETTO:-0400
TZNAME:EDT
DTSTART:20300310T070000
END:DAYLIGHT
BEGIN:STANDARD
TZOFFSETFROM:-0400
TZOFFSETTO:-0500
TZNAME:EST
DTSTART:20301103T060000
END:STANDARD
BEGIN:DAYLIGHT
TZOFFSETFROM:-0500
TZOFFSETTO:-0400
TZNAME:EDT
DTSTART:20310309T070000
END:DAYLIGHT
BEGIN:STANDARD
TZOFFSETFROM:-0400
TZOFFSETTO:-0500
TZNAME:EST
DTSTART:20311102T060000
END:STANDARD
BEGIN:DAYLIGHT
TZOFFSETFROM:-0500
TZOFFSETTO:-0400
TZNAME:EDT
DTSTART:20320314T070000
END:DAYLIGHT
BEGIN:STANDARD
TZOFFSETFROM:-0400
TZOFFSETTO:-0500
TZNAME:EST
DTSTART:20321107T060000
END:STANDARD
END:VTIMEZONE
BEGIN:VEVENT
DTSTART;TZID=America/New_York:20310204T200000
DTEND;TZID=America/New_York:20310204T210000
DTSTAMP:20260420T113459
CREATED:20260417T175638Z
LAST-MODIFIED:20260417T175638Z
UID:10014513-1928001600-1928005200@zushislist.com
SUMMARY:TACOS & TANYA
DESCRIPTION:Come join the young professionals of Midtown for Tacos & Tanya\, a weekly deep-dive into Chassidut’s most impactful teachings. \nFor young men and women. \nWeekly classes exploring Chassidut’s most impactful teachings \nBeginning Tuesday\, April 21 | 8pm \nChabad at Midtown Miami \nDM to reserve your spot!
URL:https://zushislist.com/single-event/tacos-tanya/2031-02-04/
LOCATION:Chabad at Midtown Miami\, United States
CATEGORIES:Young Professionals
ATTACH;FMTTYPE=image/png:https://zushislist.com/wp-content/uploads/2026/04/Tacos-Tanya.png
END:VEVENT
BEGIN:VEVENT
DTSTART;TZID=America/New_York:20310211T200000
DTEND;TZID=America/New_York:20310211T210000
DTSTAMP:20260420T113459
CREATED:20260417T175638Z
LAST-MODIFIED:20260417T175638Z
UID:10014514-1928606400-1928610000@zushislist.com
SUMMARY:TACOS & TANYA
DESCRIPTION:Come join the young professionals of Midtown for Tacos & Tanya\, a weekly deep-dive into Chassidut’s most impactful teachings. \nFor young men and women. \nWeekly classes exploring Chassidut’s most impactful teachings \nBeginning Tuesday\, April 21 | 8pm \nChabad at Midtown Miami \nDM to reserve your spot!
URL:https://zushislist.com/single-event/tacos-tanya/2031-02-11/
LOCATION:Chabad at Midtown Miami\, United States
CATEGORIES:Young Professionals
ATTACH;FMTTYPE=image/png:https://zushislist.com/wp-content/uploads/2026/04/Tacos-Tanya.png
END:VEVENT
BEGIN:VEVENT
DTSTART;TZID=America/New_York:20310218T200000
DTEND;TZID=America/New_York:20310218T210000
DTSTAMP:20260420T113459
CREATED:20260417T175638Z
LAST-MODIFIED:20260417T175638Z
UID:10014515-1929211200-1929214800@zushislist.com
SUMMARY:TACOS & TANYA
DESCRIPTION:Come join the young professionals of Midtown for Tacos & Tanya\, a weekly deep-dive into Chassidut’s most impactful teachings. \nFor young men and women. \nWeekly classes exploring Chassidut’s most impactful teachings \nBeginning Tuesday\, April 21 | 8pm \nChabad at Midtown Miami \nDM to reserve your spot!
URL:https://zushislist.com/single-event/tacos-tanya/2031-02-18/
LOCATION:Chabad at Midtown Miami\, United States
CATEGORIES:Young Professionals
ATTACH;FMTTYPE=image/png:https://zushislist.com/wp-content/uploads/2026/04/Tacos-Tanya.png
END:VEVENT
BEGIN:VEVENT
DTSTART;TZID=America/New_York:20310225T200000
DTEND;TZID=America/New_York:20310225T210000
DTSTAMP:20260420T113459
CREATED:20260417T175638Z
LAST-MODIFIED:20260417T175638Z
UID:10014516-1929816000-1929819600@zushislist.com
SUMMARY:TACOS & TANYA
DESCRIPTION:Come join the young professionals of Midtown for Tacos & Tanya\, a weekly deep-dive into Chassidut’s most impactful teachings. \nFor young men and women. \nWeekly classes exploring Chassidut’s most impactful teachings \nBeginning Tuesday\, April 21 | 8pm \nChabad at Midtown Miami \nDM to reserve your spot!
URL:https://zushislist.com/single-event/tacos-tanya/2031-02-25/
LOCATION:Chabad at Midtown Miami\, United States
CATEGORIES:Young Professionals
ATTACH;FMTTYPE=image/png:https://zushislist.com/wp-content/uploads/2026/04/Tacos-Tanya.png
END:VEVENT
BEGIN:VEVENT
DTSTART;TZID=America/New_York:20310304T200000
DTEND;TZID=America/New_York:20310304T210000
DTSTAMP:20260420T113459
CREATED:20260417T175638Z
LAST-MODIFIED:20260417T175638Z
UID:10014517-1930420800-1930424400@zushislist.com
SUMMARY:TACOS & TANYA
DESCRIPTION:Come join the young professionals of Midtown for Tacos & Tanya\, a weekly deep-dive into Chassidut’s most impactful teachings. \nFor young men and women. \nWeekly classes exploring Chassidut’s most impactful teachings \nBeginning Tuesday\, April 21 | 8pm \nChabad at Midtown Miami \nDM to reserve your spot!
URL:https://zushislist.com/single-event/tacos-tanya/2031-03-04/
LOCATION:Chabad at Midtown Miami\, United States
CATEGORIES:Young Professionals
ATTACH;FMTTYPE=image/png:https://zushislist.com/wp-content/uploads/2026/04/Tacos-Tanya.png
END:VEVENT
BEGIN:VEVENT
DTSTART;TZID=America/New_York:20310311T200000
DTEND;TZID=America/New_York:20310311T210000
DTSTAMP:20260420T113459
CREATED:20260417T175638Z
LAST-MODIFIED:20260417T175638Z
UID:10014518-1931025600-1931029200@zushislist.com
SUMMARY:TACOS & TANYA
DESCRIPTION:Come join the young professionals of Midtown for Tacos & Tanya\, a weekly deep-dive into Chassidut’s most impactful teachings. \nFor young men and women. \nWeekly classes exploring Chassidut’s most impactful teachings \nBeginning Tuesday\, April 21 | 8pm \nChabad at Midtown Miami \nDM to reserve your spot!
URL:https://zushislist.com/single-event/tacos-tanya/2031-03-11/
LOCATION:Chabad at Midtown Miami\, United States
CATEGORIES:Young Professionals
ATTACH;FMTTYPE=image/png:https://zushislist.com/wp-content/uploads/2026/04/Tacos-Tanya.png
END:VEVENT
BEGIN:VEVENT
DTSTART;TZID=America/New_York:20310318T200000
DTEND;TZID=America/New_York:20310318T210000
DTSTAMP:20260420T113459
CREATED:20260417T175638Z
LAST-MODIFIED:20260417T175638Z
UID:10014519-1931630400-1931634000@zushislist.com
SUMMARY:TACOS & TANYA
DESCRIPTION:Come join the young professionals of Midtown for Tacos & Tanya\, a weekly deep-dive into Chassidut’s most impactful teachings. \nFor young men and women. \nWeekly classes exploring Chassidut’s most impactful teachings \nBeginning Tuesday\, April 21 | 8pm \nChabad at Midtown Miami \nDM to reserve your spot!
URL:https://zushislist.com/single-event/tacos-tanya/2031-03-18/
LOCATION:Chabad at Midtown Miami\, United States
CATEGORIES:Young Professionals
ATTACH;FMTTYPE=image/png:https://zushislist.com/wp-content/uploads/2026/04/Tacos-Tanya.png
END:VEVENT
BEGIN:VEVENT
DTSTART;TZID=America/New_York:20310325T200000
DTEND;TZID=America/New_York:20310325T210000
DTSTAMP:20260420T113459
CREATED:20260417T175638Z
LAST-MODIFIED:20260417T175638Z
UID:10014520-1932235200-1932238800@zushislist.com
SUMMARY:TACOS & TANYA
DESCRIPTION:Come join the young professionals of Midtown for Tacos & Tanya\, a weekly deep-dive into Chassidut’s most impactful teachings. \nFor young men and women. \nWeekly classes exploring Chassidut’s most impactful teachings \nBeginning Tuesday\, April 21 | 8pm \nChabad at Midtown Miami \nDM to reserve your spot!
URL:https://zushislist.com/single-event/tacos-tanya/2031-03-25/
LOCATION:Chabad at Midtown Miami\, United States
CATEGORIES:Young Professionals
ATTACH;FMTTYPE=image/png:https://zushislist.com/wp-content/uploads/2026/04/Tacos-Tanya.png
END:VEVENT
BEGIN:VEVENT
DTSTART;TZID=America/New_York:20310401T200000
DTEND;TZID=America/New_York:20310401T210000
DTSTAMP:20260420T113459
CREATED:20260417T175638Z
LAST-MODIFIED:20260417T175638Z
UID:10014521-1932840000-1932843600@zushislist.com
SUMMARY:TACOS & TANYA
DESCRIPTION:Come join the young professionals of Midtown for Tacos & Tanya\, a weekly deep-dive into Chassidut’s most impactful teachings. \nFor young men and women. \nWeekly classes exploring Chassidut’s most impactful teachings \nBeginning Tuesday\, April 21 | 8pm \nChabad at Midtown Miami \nDM to reserve your spot!
URL:https://zushislist.com/single-event/tacos-tanya/2031-04-01/
LOCATION:Chabad at Midtown Miami\, United States
CATEGORIES:Young Professionals
ATTACH;FMTTYPE=image/png:https://zushislist.com/wp-content/uploads/2026/04/Tacos-Tanya.png
END:VEVENT
BEGIN:VEVENT
DTSTART;TZID=America/New_York:20310408T200000
DTEND;TZID=America/New_York:20310408T210000
DTSTAMP:20260420T113459
CREATED:20260417T175638Z
LAST-MODIFIED:20260417T175638Z
UID:10014522-1933444800-1933448400@zushislist.com
SUMMARY:TACOS & TANYA
DESCRIPTION:Come join the young professionals of Midtown for Tacos & Tanya\, a weekly deep-dive into Chassidut’s most impactful teachings. \nFor young men and women. \nWeekly classes exploring Chassidut’s most impactful teachings \nBeginning Tuesday\, April 21 | 8pm \nChabad at Midtown Miami \nDM to reserve your spot!
URL:https://zushislist.com/single-event/tacos-tanya/2031-04-08/
LOCATION:Chabad at Midtown Miami\, United States
CATEGORIES:Young Professionals
ATTACH;FMTTYPE=image/png:https://zushislist.com/wp-content/uploads/2026/04/Tacos-Tanya.png
END:VEVENT
BEGIN:VEVENT
DTSTART;TZID=America/New_York:20310415T200000
DTEND;TZID=America/New_York:20310415T210000
DTSTAMP:20260420T113459
CREATED:20260417T175638Z
LAST-MODIFIED:20260417T175638Z
UID:10014523-1934049600-1934053200@zushislist.com
SUMMARY:TACOS & TANYA
DESCRIPTION:Come join the young professionals of Midtown for Tacos & Tanya\, a weekly deep-dive into Chassidut’s most impactful teachings. \nFor young men and women. \nWeekly classes exploring Chassidut’s most impactful teachings \nBeginning Tuesday\, April 21 | 8pm \nChabad at Midtown Miami \nDM to reserve your spot!
URL:https://zushislist.com/single-event/tacos-tanya/2031-04-15/
LOCATION:Chabad at Midtown Miami\, United States
CATEGORIES:Young Professionals
ATTACH;FMTTYPE=image/png:https://zushislist.com/wp-content/uploads/2026/04/Tacos-Tanya.png
END:VEVENT
END:VCALENDAR