BEGIN:VCALENDAR
VERSION:2.0
PRODID:-//Zushi&#039;s List - ECPv6.15.20//NONSGML v1.0//EN
CALSCALE:GREGORIAN
METHOD:PUBLISH
X-WR-CALNAME:Zushi&#039;s List
X-ORIGINAL-URL:https://zushislist.com
X-WR-CALDESC:Events for Zushi&#039;s List
REFRESH-INTERVAL;VALUE=DURATION:PT1H
X-Robots-Tag:noindex
X-PUBLISHED-TTL:PT1H
BEGIN:VTIMEZONE
TZID:America/New_York
BEGIN:DAYLIGHT
TZOFFSETFROM:-0500
TZOFFSETTO:-0400
TZNAME:EDT
DTSTART:20280312T070000
END:DAYLIGHT
BEGIN:STANDARD
TZOFFSETFROM:-0400
TZOFFSETTO:-0500
TZNAME:EST
DTSTART:20281105T060000
END:STANDARD
BEGIN:DAYLIGHT
TZOFFSETFROM:-0500
TZOFFSETTO:-0400
TZNAME:EDT
DTSTART:20290311T070000
END:DAYLIGHT
BEGIN:STANDARD
TZOFFSETFROM:-0400
TZOFFSETTO:-0500
TZNAME:EST
DTSTART:20291104T060000
END:STANDARD
BEGIN:DAYLIGHT
TZOFFSETFROM:-0500
TZOFFSETTO:-0400
TZNAME:EDT
DTSTART:20300310T070000
END:DAYLIGHT
BEGIN:STANDARD
TZOFFSETFROM:-0400
TZOFFSETTO:-0500
TZNAME:EST
DTSTART:20301103T060000
END:STANDARD
END:VTIMEZONE
BEGIN:VEVENT
DTSTART;TZID=America/New_York:20290306T200000
DTEND;TZID=America/New_York:20290306T210000
DTSTAMP:20260420T052853
CREATED:20260417T175638Z
LAST-MODIFIED:20260417T175638Z
UID:10014413-1867521600-1867525200@zushislist.com
SUMMARY:TACOS & TANYA
DESCRIPTION:Come join the young professionals of Midtown for Tacos & Tanya\, a weekly deep-dive into Chassidut’s most impactful teachings. \nFor young men and women. \nWeekly classes exploring Chassidut’s most impactful teachings \nBeginning Tuesday\, April 21 | 8pm \nChabad at Midtown Miami \nDM to reserve your spot!
URL:https://zushislist.com/single-event/tacos-tanya/2029-03-06/
LOCATION:Chabad at Midtown Miami\, United States
CATEGORIES:Young Professionals
ATTACH;FMTTYPE=image/png:https://zushislist.com/wp-content/uploads/2026/04/Tacos-Tanya.png
END:VEVENT
BEGIN:VEVENT
DTSTART;TZID=America/New_York:20290313T200000
DTEND;TZID=America/New_York:20290313T210000
DTSTAMP:20260420T052853
CREATED:20260417T175638Z
LAST-MODIFIED:20260417T175638Z
UID:10014414-1868126400-1868130000@zushislist.com
SUMMARY:TACOS & TANYA
DESCRIPTION:Come join the young professionals of Midtown for Tacos & Tanya\, a weekly deep-dive into Chassidut’s most impactful teachings. \nFor young men and women. \nWeekly classes exploring Chassidut’s most impactful teachings \nBeginning Tuesday\, April 21 | 8pm \nChabad at Midtown Miami \nDM to reserve your spot!
URL:https://zushislist.com/single-event/tacos-tanya/2029-03-13/
LOCATION:Chabad at Midtown Miami\, United States
CATEGORIES:Young Professionals
ATTACH;FMTTYPE=image/png:https://zushislist.com/wp-content/uploads/2026/04/Tacos-Tanya.png
END:VEVENT
BEGIN:VEVENT
DTSTART;TZID=America/New_York:20290320T200000
DTEND;TZID=America/New_York:20290320T210000
DTSTAMP:20260420T052853
CREATED:20260417T175638Z
LAST-MODIFIED:20260417T175638Z
UID:10014415-1868731200-1868734800@zushislist.com
SUMMARY:TACOS & TANYA
DESCRIPTION:Come join the young professionals of Midtown for Tacos & Tanya\, a weekly deep-dive into Chassidut’s most impactful teachings. \nFor young men and women. \nWeekly classes exploring Chassidut’s most impactful teachings \nBeginning Tuesday\, April 21 | 8pm \nChabad at Midtown Miami \nDM to reserve your spot!
URL:https://zushislist.com/single-event/tacos-tanya/2029-03-20/
LOCATION:Chabad at Midtown Miami\, United States
CATEGORIES:Young Professionals
ATTACH;FMTTYPE=image/png:https://zushislist.com/wp-content/uploads/2026/04/Tacos-Tanya.png
END:VEVENT
BEGIN:VEVENT
DTSTART;TZID=America/New_York:20290327T200000
DTEND;TZID=America/New_York:20290327T210000
DTSTAMP:20260420T052853
CREATED:20260417T175638Z
LAST-MODIFIED:20260417T175638Z
UID:10014416-1869336000-1869339600@zushislist.com
SUMMARY:TACOS & TANYA
DESCRIPTION:Come join the young professionals of Midtown for Tacos & Tanya\, a weekly deep-dive into Chassidut’s most impactful teachings. \nFor young men and women. \nWeekly classes exploring Chassidut’s most impactful teachings \nBeginning Tuesday\, April 21 | 8pm \nChabad at Midtown Miami \nDM to reserve your spot!
URL:https://zushislist.com/single-event/tacos-tanya/2029-03-27/
LOCATION:Chabad at Midtown Miami\, United States
CATEGORIES:Young Professionals
ATTACH;FMTTYPE=image/png:https://zushislist.com/wp-content/uploads/2026/04/Tacos-Tanya.png
END:VEVENT
BEGIN:VEVENT
DTSTART;TZID=America/New_York:20290403T200000
DTEND;TZID=America/New_York:20290403T210000
DTSTAMP:20260420T052853
CREATED:20260417T175638Z
LAST-MODIFIED:20260417T175638Z
UID:10014417-1869940800-1869944400@zushislist.com
SUMMARY:TACOS & TANYA
DESCRIPTION:Come join the young professionals of Midtown for Tacos & Tanya\, a weekly deep-dive into Chassidut’s most impactful teachings. \nFor young men and women. \nWeekly classes exploring Chassidut’s most impactful teachings \nBeginning Tuesday\, April 21 | 8pm \nChabad at Midtown Miami \nDM to reserve your spot!
URL:https://zushislist.com/single-event/tacos-tanya/2029-04-03/
LOCATION:Chabad at Midtown Miami\, United States
CATEGORIES:Young Professionals
ATTACH;FMTTYPE=image/png:https://zushislist.com/wp-content/uploads/2026/04/Tacos-Tanya.png
END:VEVENT
BEGIN:VEVENT
DTSTART;TZID=America/New_York:20290410T200000
DTEND;TZID=America/New_York:20290410T210000
DTSTAMP:20260420T052853
CREATED:20260417T175638Z
LAST-MODIFIED:20260417T175638Z
UID:10014418-1870545600-1870549200@zushislist.com
SUMMARY:TACOS & TANYA
DESCRIPTION:Come join the young professionals of Midtown for Tacos & Tanya\, a weekly deep-dive into Chassidut’s most impactful teachings. \nFor young men and women. \nWeekly classes exploring Chassidut’s most impactful teachings \nBeginning Tuesday\, April 21 | 8pm \nChabad at Midtown Miami \nDM to reserve your spot!
URL:https://zushislist.com/single-event/tacos-tanya/2029-04-10/
LOCATION:Chabad at Midtown Miami\, United States
CATEGORIES:Young Professionals
ATTACH;FMTTYPE=image/png:https://zushislist.com/wp-content/uploads/2026/04/Tacos-Tanya.png
END:VEVENT
BEGIN:VEVENT
DTSTART;TZID=America/New_York:20290417T200000
DTEND;TZID=America/New_York:20290417T210000
DTSTAMP:20260420T052853
CREATED:20260417T175638Z
LAST-MODIFIED:20260417T175638Z
UID:10014419-1871150400-1871154000@zushislist.com
SUMMARY:TACOS & TANYA
DESCRIPTION:Come join the young professionals of Midtown for Tacos & Tanya\, a weekly deep-dive into Chassidut’s most impactful teachings. \nFor young men and women. \nWeekly classes exploring Chassidut’s most impactful teachings \nBeginning Tuesday\, April 21 | 8pm \nChabad at Midtown Miami \nDM to reserve your spot!
URL:https://zushislist.com/single-event/tacos-tanya/2029-04-17/
LOCATION:Chabad at Midtown Miami\, United States
CATEGORIES:Young Professionals
ATTACH;FMTTYPE=image/png:https://zushislist.com/wp-content/uploads/2026/04/Tacos-Tanya.png
END:VEVENT
BEGIN:VEVENT
DTSTART;TZID=America/New_York:20290424T200000
DTEND;TZID=America/New_York:20290424T210000
DTSTAMP:20260420T052853
CREATED:20260417T175638Z
LAST-MODIFIED:20260417T175638Z
UID:10014420-1871755200-1871758800@zushislist.com
SUMMARY:TACOS & TANYA
DESCRIPTION:Come join the young professionals of Midtown for Tacos & Tanya\, a weekly deep-dive into Chassidut’s most impactful teachings. \nFor young men and women. \nWeekly classes exploring Chassidut’s most impactful teachings \nBeginning Tuesday\, April 21 | 8pm \nChabad at Midtown Miami \nDM to reserve your spot!
URL:https://zushislist.com/single-event/tacos-tanya/2029-04-24/
LOCATION:Chabad at Midtown Miami\, United States
CATEGORIES:Young Professionals
ATTACH;FMTTYPE=image/png:https://zushislist.com/wp-content/uploads/2026/04/Tacos-Tanya.png
END:VEVENT
BEGIN:VEVENT
DTSTART;TZID=America/New_York:20290501T200000
DTEND;TZID=America/New_York:20290501T210000
DTSTAMP:20260420T052853
CREATED:20260417T175638Z
LAST-MODIFIED:20260417T175638Z
UID:10014421-1872360000-1872363600@zushislist.com
SUMMARY:TACOS & TANYA
DESCRIPTION:Come join the young professionals of Midtown for Tacos & Tanya\, a weekly deep-dive into Chassidut’s most impactful teachings. \nFor young men and women. \nWeekly classes exploring Chassidut’s most impactful teachings \nBeginning Tuesday\, April 21 | 8pm \nChabad at Midtown Miami \nDM to reserve your spot!
URL:https://zushislist.com/single-event/tacos-tanya/2029-05-01/
LOCATION:Chabad at Midtown Miami\, United States
CATEGORIES:Young Professionals
ATTACH;FMTTYPE=image/png:https://zushislist.com/wp-content/uploads/2026/04/Tacos-Tanya.png
END:VEVENT
BEGIN:VEVENT
DTSTART;TZID=America/New_York:20290508T200000
DTEND;TZID=America/New_York:20290508T210000
DTSTAMP:20260420T052853
CREATED:20260417T175638Z
LAST-MODIFIED:20260417T175638Z
UID:10014422-1872964800-1872968400@zushislist.com
SUMMARY:TACOS & TANYA
DESCRIPTION:Come join the young professionals of Midtown for Tacos & Tanya\, a weekly deep-dive into Chassidut’s most impactful teachings. \nFor young men and women. \nWeekly classes exploring Chassidut’s most impactful teachings \nBeginning Tuesday\, April 21 | 8pm \nChabad at Midtown Miami \nDM to reserve your spot!
URL:https://zushislist.com/single-event/tacos-tanya/2029-05-08/
LOCATION:Chabad at Midtown Miami\, United States
CATEGORIES:Young Professionals
ATTACH;FMTTYPE=image/png:https://zushislist.com/wp-content/uploads/2026/04/Tacos-Tanya.png
END:VEVENT
BEGIN:VEVENT
DTSTART;TZID=America/New_York:20290515T200000
DTEND;TZID=America/New_York:20290515T210000
DTSTAMP:20260420T052853
CREATED:20260417T175638Z
LAST-MODIFIED:20260417T175638Z
UID:10014423-1873569600-1873573200@zushislist.com
SUMMARY:TACOS & TANYA
DESCRIPTION:Come join the young professionals of Midtown for Tacos & Tanya\, a weekly deep-dive into Chassidut’s most impactful teachings. \nFor young men and women. \nWeekly classes exploring Chassidut’s most impactful teachings \nBeginning Tuesday\, April 21 | 8pm \nChabad at Midtown Miami \nDM to reserve your spot!
URL:https://zushislist.com/single-event/tacos-tanya/2029-05-15/
LOCATION:Chabad at Midtown Miami\, United States
CATEGORIES:Young Professionals
ATTACH;FMTTYPE=image/png:https://zushislist.com/wp-content/uploads/2026/04/Tacos-Tanya.png
END:VEVENT
BEGIN:VEVENT
DTSTART;TZID=America/New_York:20290522T200000
DTEND;TZID=America/New_York:20290522T210000
DTSTAMP:20260420T052853
CREATED:20260417T175638Z
LAST-MODIFIED:20260417T175638Z
UID:10014424-1874174400-1874178000@zushislist.com
SUMMARY:TACOS & TANYA
DESCRIPTION:Come join the young professionals of Midtown for Tacos & Tanya\, a weekly deep-dive into Chassidut’s most impactful teachings. \nFor young men and women. \nWeekly classes exploring Chassidut’s most impactful teachings \nBeginning Tuesday\, April 21 | 8pm \nChabad at Midtown Miami \nDM to reserve your spot!
URL:https://zushislist.com/single-event/tacos-tanya/2029-05-22/
LOCATION:Chabad at Midtown Miami\, United States
CATEGORIES:Young Professionals
ATTACH;FMTTYPE=image/png:https://zushislist.com/wp-content/uploads/2026/04/Tacos-Tanya.png
END:VEVENT
BEGIN:VEVENT
DTSTART;TZID=America/New_York:20290529T200000
DTEND;TZID=America/New_York:20290529T210000
DTSTAMP:20260420T052853
CREATED:20260417T175638Z
LAST-MODIFIED:20260417T175638Z
UID:10014425-1874779200-1874782800@zushislist.com
SUMMARY:TACOS & TANYA
DESCRIPTION:Come join the young professionals of Midtown for Tacos & Tanya\, a weekly deep-dive into Chassidut’s most impactful teachings. \nFor young men and women. \nWeekly classes exploring Chassidut’s most impactful teachings \nBeginning Tuesday\, April 21 | 8pm \nChabad at Midtown Miami \nDM to reserve your spot!
URL:https://zushislist.com/single-event/tacos-tanya/2029-05-29/
LOCATION:Chabad at Midtown Miami\, United States
CATEGORIES:Young Professionals
ATTACH;FMTTYPE=image/png:https://zushislist.com/wp-content/uploads/2026/04/Tacos-Tanya.png
END:VEVENT
BEGIN:VEVENT
DTSTART;TZID=America/New_York:20290605T200000
DTEND;TZID=America/New_York:20290605T210000
DTSTAMP:20260420T052853
CREATED:20260417T175638Z
LAST-MODIFIED:20260417T175638Z
UID:10014426-1875384000-1875387600@zushislist.com
SUMMARY:TACOS & TANYA
DESCRIPTION:Come join the young professionals of Midtown for Tacos & Tanya\, a weekly deep-dive into Chassidut’s most impactful teachings. \nFor young men and women. \nWeekly classes exploring Chassidut’s most impactful teachings \nBeginning Tuesday\, April 21 | 8pm \nChabad at Midtown Miami \nDM to reserve your spot!
URL:https://zushislist.com/single-event/tacos-tanya/2029-06-05/
LOCATION:Chabad at Midtown Miami\, United States
CATEGORIES:Young Professionals
ATTACH;FMTTYPE=image/png:https://zushislist.com/wp-content/uploads/2026/04/Tacos-Tanya.png
END:VEVENT
BEGIN:VEVENT
DTSTART;TZID=America/New_York:20290612T200000
DTEND;TZID=America/New_York:20290612T210000
DTSTAMP:20260420T052853
CREATED:20260417T175638Z
LAST-MODIFIED:20260417T175638Z
UID:10014427-1875988800-1875992400@zushislist.com
SUMMARY:TACOS & TANYA
DESCRIPTION:Come join the young professionals of Midtown for Tacos & Tanya\, a weekly deep-dive into Chassidut’s most impactful teachings. \nFor young men and women. \nWeekly classes exploring Chassidut’s most impactful teachings \nBeginning Tuesday\, April 21 | 8pm \nChabad at Midtown Miami \nDM to reserve your spot!
URL:https://zushislist.com/single-event/tacos-tanya/2029-06-12/
LOCATION:Chabad at Midtown Miami\, United States
CATEGORIES:Young Professionals
ATTACH;FMTTYPE=image/png:https://zushislist.com/wp-content/uploads/2026/04/Tacos-Tanya.png
END:VEVENT
BEGIN:VEVENT
DTSTART;TZID=America/New_York:20290619T200000
DTEND;TZID=America/New_York:20290619T210000
DTSTAMP:20260420T052853
CREATED:20260417T175638Z
LAST-MODIFIED:20260417T175638Z
UID:10014428-1876593600-1876597200@zushislist.com
SUMMARY:TACOS & TANYA
DESCRIPTION:Come join the young professionals of Midtown for Tacos & Tanya\, a weekly deep-dive into Chassidut’s most impactful teachings. \nFor young men and women. \nWeekly classes exploring Chassidut’s most impactful teachings \nBeginning Tuesday\, April 21 | 8pm \nChabad at Midtown Miami \nDM to reserve your spot!
URL:https://zushislist.com/single-event/tacos-tanya/2029-06-19/
LOCATION:Chabad at Midtown Miami\, United States
CATEGORIES:Young Professionals
ATTACH;FMTTYPE=image/png:https://zushislist.com/wp-content/uploads/2026/04/Tacos-Tanya.png
END:VEVENT
BEGIN:VEVENT
DTSTART;TZID=America/New_York:20290626T200000
DTEND;TZID=America/New_York:20290626T210000
DTSTAMP:20260420T052853
CREATED:20260417T175638Z
LAST-MODIFIED:20260417T175638Z
UID:10014429-1877198400-1877202000@zushislist.com
SUMMARY:TACOS & TANYA
DESCRIPTION:Come join the young professionals of Midtown for Tacos & Tanya\, a weekly deep-dive into Chassidut’s most impactful teachings. \nFor young men and women. \nWeekly classes exploring Chassidut’s most impactful teachings \nBeginning Tuesday\, April 21 | 8pm \nChabad at Midtown Miami \nDM to reserve your spot!
URL:https://zushislist.com/single-event/tacos-tanya/2029-06-26/
LOCATION:Chabad at Midtown Miami\, United States
CATEGORIES:Young Professionals
ATTACH;FMTTYPE=image/png:https://zushislist.com/wp-content/uploads/2026/04/Tacos-Tanya.png
END:VEVENT
BEGIN:VEVENT
DTSTART;TZID=America/New_York:20290703T200000
DTEND;TZID=America/New_York:20290703T210000
DTSTAMP:20260420T052853
CREATED:20260417T175638Z
LAST-MODIFIED:20260417T175638Z
UID:10014430-1877803200-1877806800@zushislist.com
SUMMARY:TACOS & TANYA
DESCRIPTION:Come join the young professionals of Midtown for Tacos & Tanya\, a weekly deep-dive into Chassidut’s most impactful teachings. \nFor young men and women. \nWeekly classes exploring Chassidut’s most impactful teachings \nBeginning Tuesday\, April 21 | 8pm \nChabad at Midtown Miami \nDM to reserve your spot!
URL:https://zushislist.com/single-event/tacos-tanya/2029-07-03/
LOCATION:Chabad at Midtown Miami\, United States
CATEGORIES:Young Professionals
ATTACH;FMTTYPE=image/png:https://zushislist.com/wp-content/uploads/2026/04/Tacos-Tanya.png
END:VEVENT
BEGIN:VEVENT
DTSTART;TZID=America/New_York:20290710T200000
DTEND;TZID=America/New_York:20290710T210000
DTSTAMP:20260420T052853
CREATED:20260417T175638Z
LAST-MODIFIED:20260417T175638Z
UID:10014431-1878408000-1878411600@zushislist.com
SUMMARY:TACOS & TANYA
DESCRIPTION:Come join the young professionals of Midtown for Tacos & Tanya\, a weekly deep-dive into Chassidut’s most impactful teachings. \nFor young men and women. \nWeekly classes exploring Chassidut’s most impactful teachings \nBeginning Tuesday\, April 21 | 8pm \nChabad at Midtown Miami \nDM to reserve your spot!
URL:https://zushislist.com/single-event/tacos-tanya/2029-07-10/
LOCATION:Chabad at Midtown Miami\, United States
CATEGORIES:Young Professionals
ATTACH;FMTTYPE=image/png:https://zushislist.com/wp-content/uploads/2026/04/Tacos-Tanya.png
END:VEVENT
BEGIN:VEVENT
DTSTART;TZID=America/New_York:20290717T200000
DTEND;TZID=America/New_York:20290717T210000
DTSTAMP:20260420T052853
CREATED:20260417T175638Z
LAST-MODIFIED:20260417T175638Z
UID:10014432-1879012800-1879016400@zushislist.com
SUMMARY:TACOS & TANYA
DESCRIPTION:Come join the young professionals of Midtown for Tacos & Tanya\, a weekly deep-dive into Chassidut’s most impactful teachings. \nFor young men and women. \nWeekly classes exploring Chassidut’s most impactful teachings \nBeginning Tuesday\, April 21 | 8pm \nChabad at Midtown Miami \nDM to reserve your spot!
URL:https://zushislist.com/single-event/tacos-tanya/2029-07-17/
LOCATION:Chabad at Midtown Miami\, United States
CATEGORIES:Young Professionals
ATTACH;FMTTYPE=image/png:https://zushislist.com/wp-content/uploads/2026/04/Tacos-Tanya.png
END:VEVENT
BEGIN:VEVENT
DTSTART;TZID=America/New_York:20290724T200000
DTEND;TZID=America/New_York:20290724T210000
DTSTAMP:20260420T052853
CREATED:20260417T175638Z
LAST-MODIFIED:20260417T175638Z
UID:10014433-1879617600-1879621200@zushislist.com
SUMMARY:TACOS & TANYA
DESCRIPTION:Come join the young professionals of Midtown for Tacos & Tanya\, a weekly deep-dive into Chassidut’s most impactful teachings. \nFor young men and women. \nWeekly classes exploring Chassidut’s most impactful teachings \nBeginning Tuesday\, April 21 | 8pm \nChabad at Midtown Miami \nDM to reserve your spot!
URL:https://zushislist.com/single-event/tacos-tanya/2029-07-24/
LOCATION:Chabad at Midtown Miami\, United States
CATEGORIES:Young Professionals
ATTACH;FMTTYPE=image/png:https://zushislist.com/wp-content/uploads/2026/04/Tacos-Tanya.png
END:VEVENT
BEGIN:VEVENT
DTSTART;TZID=America/New_York:20290731T200000
DTEND;TZID=America/New_York:20290731T210000
DTSTAMP:20260420T052853
CREATED:20260417T175638Z
LAST-MODIFIED:20260417T175638Z
UID:10014434-1880222400-1880226000@zushislist.com
SUMMARY:TACOS & TANYA
DESCRIPTION:Come join the young professionals of Midtown for Tacos & Tanya\, a weekly deep-dive into Chassidut’s most impactful teachings. \nFor young men and women. \nWeekly classes exploring Chassidut’s most impactful teachings \nBeginning Tuesday\, April 21 | 8pm \nChabad at Midtown Miami \nDM to reserve your spot!
URL:https://zushislist.com/single-event/tacos-tanya/2029-07-31/
LOCATION:Chabad at Midtown Miami\, United States
CATEGORIES:Young Professionals
ATTACH;FMTTYPE=image/png:https://zushislist.com/wp-content/uploads/2026/04/Tacos-Tanya.png
END:VEVENT
BEGIN:VEVENT
DTSTART;TZID=America/New_York:20290807T200000
DTEND;TZID=America/New_York:20290807T210000
DTSTAMP:20260420T052853
CREATED:20260417T175638Z
LAST-MODIFIED:20260417T175638Z
UID:10014435-1880827200-1880830800@zushislist.com
SUMMARY:TACOS & TANYA
DESCRIPTION:Come join the young professionals of Midtown for Tacos & Tanya\, a weekly deep-dive into Chassidut’s most impactful teachings. \nFor young men and women. \nWeekly classes exploring Chassidut’s most impactful teachings \nBeginning Tuesday\, April 21 | 8pm \nChabad at Midtown Miami \nDM to reserve your spot!
URL:https://zushislist.com/single-event/tacos-tanya/2029-08-07/
LOCATION:Chabad at Midtown Miami\, United States
CATEGORIES:Young Professionals
ATTACH;FMTTYPE=image/png:https://zushislist.com/wp-content/uploads/2026/04/Tacos-Tanya.png
END:VEVENT
BEGIN:VEVENT
DTSTART;TZID=America/New_York:20290814T200000
DTEND;TZID=America/New_York:20290814T210000
DTSTAMP:20260420T052853
CREATED:20260417T175638Z
LAST-MODIFIED:20260417T175638Z
UID:10014436-1881432000-1881435600@zushislist.com
SUMMARY:TACOS & TANYA
DESCRIPTION:Come join the young professionals of Midtown for Tacos & Tanya\, a weekly deep-dive into Chassidut’s most impactful teachings. \nFor young men and women. \nWeekly classes exploring Chassidut’s most impactful teachings \nBeginning Tuesday\, April 21 | 8pm \nChabad at Midtown Miami \nDM to reserve your spot!
URL:https://zushislist.com/single-event/tacos-tanya/2029-08-14/
LOCATION:Chabad at Midtown Miami\, United States
CATEGORIES:Young Professionals
ATTACH;FMTTYPE=image/png:https://zushislist.com/wp-content/uploads/2026/04/Tacos-Tanya.png
END:VEVENT
BEGIN:VEVENT
DTSTART;TZID=America/New_York:20290821T200000
DTEND;TZID=America/New_York:20290821T210000
DTSTAMP:20260420T052853
CREATED:20260417T175638Z
LAST-MODIFIED:20260417T175638Z
UID:10014437-1882036800-1882040400@zushislist.com
SUMMARY:TACOS & TANYA
DESCRIPTION:Come join the young professionals of Midtown for Tacos & Tanya\, a weekly deep-dive into Chassidut’s most impactful teachings. \nFor young men and women. \nWeekly classes exploring Chassidut’s most impactful teachings \nBeginning Tuesday\, April 21 | 8pm \nChabad at Midtown Miami \nDM to reserve your spot!
URL:https://zushislist.com/single-event/tacos-tanya/2029-08-21/
LOCATION:Chabad at Midtown Miami\, United States
CATEGORIES:Young Professionals
ATTACH;FMTTYPE=image/png:https://zushislist.com/wp-content/uploads/2026/04/Tacos-Tanya.png
END:VEVENT
BEGIN:VEVENT
DTSTART;TZID=America/New_York:20290828T200000
DTEND;TZID=America/New_York:20290828T210000
DTSTAMP:20260420T052853
CREATED:20260417T175638Z
LAST-MODIFIED:20260417T175638Z
UID:10014438-1882641600-1882645200@zushislist.com
SUMMARY:TACOS & TANYA
DESCRIPTION:Come join the young professionals of Midtown for Tacos & Tanya\, a weekly deep-dive into Chassidut’s most impactful teachings. \nFor young men and women. \nWeekly classes exploring Chassidut’s most impactful teachings \nBeginning Tuesday\, April 21 | 8pm \nChabad at Midtown Miami \nDM to reserve your spot!
URL:https://zushislist.com/single-event/tacos-tanya/2029-08-28/
LOCATION:Chabad at Midtown Miami\, United States
CATEGORIES:Young Professionals
ATTACH;FMTTYPE=image/png:https://zushislist.com/wp-content/uploads/2026/04/Tacos-Tanya.png
END:VEVENT
BEGIN:VEVENT
DTSTART;TZID=America/New_York:20290904T200000
DTEND;TZID=America/New_York:20290904T210000
DTSTAMP:20260420T052853
CREATED:20260417T175638Z
LAST-MODIFIED:20260417T175638Z
UID:10014439-1883246400-1883250000@zushislist.com
SUMMARY:TACOS & TANYA
DESCRIPTION:Come join the young professionals of Midtown for Tacos & Tanya\, a weekly deep-dive into Chassidut’s most impactful teachings. \nFor young men and women. \nWeekly classes exploring Chassidut’s most impactful teachings \nBeginning Tuesday\, April 21 | 8pm \nChabad at Midtown Miami \nDM to reserve your spot!
URL:https://zushislist.com/single-event/tacos-tanya/2029-09-04/
LOCATION:Chabad at Midtown Miami\, United States
CATEGORIES:Young Professionals
ATTACH;FMTTYPE=image/png:https://zushislist.com/wp-content/uploads/2026/04/Tacos-Tanya.png
END:VEVENT
BEGIN:VEVENT
DTSTART;TZID=America/New_York:20290911T200000
DTEND;TZID=America/New_York:20290911T210000
DTSTAMP:20260420T052853
CREATED:20260417T175638Z
LAST-MODIFIED:20260417T175638Z
UID:10014440-1883851200-1883854800@zushislist.com
SUMMARY:TACOS & TANYA
DESCRIPTION:Come join the young professionals of Midtown for Tacos & Tanya\, a weekly deep-dive into Chassidut’s most impactful teachings. \nFor young men and women. \nWeekly classes exploring Chassidut’s most impactful teachings \nBeginning Tuesday\, April 21 | 8pm \nChabad at Midtown Miami \nDM to reserve your spot!
URL:https://zushislist.com/single-event/tacos-tanya/2029-09-11/
LOCATION:Chabad at Midtown Miami\, United States
CATEGORIES:Young Professionals
ATTACH;FMTTYPE=image/png:https://zushislist.com/wp-content/uploads/2026/04/Tacos-Tanya.png
END:VEVENT
BEGIN:VEVENT
DTSTART;TZID=America/New_York:20290918T200000
DTEND;TZID=America/New_York:20290918T210000
DTSTAMP:20260420T052853
CREATED:20260417T175638Z
LAST-MODIFIED:20260417T175638Z
UID:10014441-1884456000-1884459600@zushislist.com
SUMMARY:TACOS & TANYA
DESCRIPTION:Come join the young professionals of Midtown for Tacos & Tanya\, a weekly deep-dive into Chassidut’s most impactful teachings. \nFor young men and women. \nWeekly classes exploring Chassidut’s most impactful teachings \nBeginning Tuesday\, April 21 | 8pm \nChabad at Midtown Miami \nDM to reserve your spot!
URL:https://zushislist.com/single-event/tacos-tanya/2029-09-18/
LOCATION:Chabad at Midtown Miami\, United States
CATEGORIES:Young Professionals
ATTACH;FMTTYPE=image/png:https://zushislist.com/wp-content/uploads/2026/04/Tacos-Tanya.png
END:VEVENT
BEGIN:VEVENT
DTSTART;TZID=America/New_York:20290925T200000
DTEND;TZID=America/New_York:20290925T210000
DTSTAMP:20260420T052853
CREATED:20260417T175638Z
LAST-MODIFIED:20260417T175638Z
UID:10014442-1885060800-1885064400@zushislist.com
SUMMARY:TACOS & TANYA
DESCRIPTION:Come join the young professionals of Midtown for Tacos & Tanya\, a weekly deep-dive into Chassidut’s most impactful teachings. \nFor young men and women. \nWeekly classes exploring Chassidut’s most impactful teachings \nBeginning Tuesday\, April 21 | 8pm \nChabad at Midtown Miami \nDM to reserve your spot!
URL:https://zushislist.com/single-event/tacos-tanya/2029-09-25/
LOCATION:Chabad at Midtown Miami\, United States
CATEGORIES:Young Professionals
ATTACH;FMTTYPE=image/png:https://zushislist.com/wp-content/uploads/2026/04/Tacos-Tanya.png
END:VEVENT
END:VCALENDAR