BEGIN:VCALENDAR
VERSION:2.0
PRODID:-//Zushi&#039;s List - ECPv6.15.20//NONSGML v1.0//EN
CALSCALE:GREGORIAN
METHOD:PUBLISH
X-ORIGINAL-URL:https://zushislist.com
X-WR-CALDESC:Events for Zushi&#039;s List
REFRESH-INTERVAL;VALUE=DURATION:PT1H
X-Robots-Tag:noindex
X-PUBLISHED-TTL:PT1H
BEGIN:VTIMEZONE
TZID:America/New_York
BEGIN:DAYLIGHT
TZOFFSETFROM:-0500
TZOFFSETTO:-0400
TZNAME:EDT
DTSTART:20290311T070000
END:DAYLIGHT
BEGIN:STANDARD
TZOFFSETFROM:-0400
TZOFFSETTO:-0500
TZNAME:EST
DTSTART:20291104T060000
END:STANDARD
BEGIN:DAYLIGHT
TZOFFSETFROM:-0500
TZOFFSETTO:-0400
TZNAME:EDT
DTSTART:20300310T070000
END:DAYLIGHT
BEGIN:STANDARD
TZOFFSETFROM:-0400
TZOFFSETTO:-0500
TZNAME:EST
DTSTART:20301103T060000
END:STANDARD
BEGIN:DAYLIGHT
TZOFFSETFROM:-0500
TZOFFSETTO:-0400
TZNAME:EDT
DTSTART:20310309T070000
END:DAYLIGHT
BEGIN:STANDARD
TZOFFSETFROM:-0400
TZOFFSETTO:-0500
TZNAME:EST
DTSTART:20311102T060000
END:STANDARD
END:VTIMEZONE
BEGIN:VEVENT
DTSTART;TZID=America/New_York:20300219T200000
DTEND;TZID=America/New_York:20300219T210000
DTSTAMP:20260420T082311
CREATED:20260417T175638Z
LAST-MODIFIED:20260417T175638Z
UID:10014463-1897761600-1897765200@zushislist.com
SUMMARY:TACOS & TANYA
DESCRIPTION:Come join the young professionals of Midtown for Tacos & Tanya\, a weekly deep-dive into Chassidut’s most impactful teachings. \nFor young men and women. \nWeekly classes exploring Chassidut’s most impactful teachings \nBeginning Tuesday\, April 21 | 8pm \nChabad at Midtown Miami \nDM to reserve your spot!
URL:https://zushislist.com/single-event/tacos-tanya/2030-02-19/
LOCATION:Chabad at Midtown Miami\, United States
CATEGORIES:Young Professionals
ATTACH;FMTTYPE=image/png:https://zushislist.com/wp-content/uploads/2026/04/Tacos-Tanya.png
END:VEVENT
BEGIN:VEVENT
DTSTART;TZID=America/New_York:20300226T200000
DTEND;TZID=America/New_York:20300226T210000
DTSTAMP:20260420T082311
CREATED:20260417T175638Z
LAST-MODIFIED:20260417T175638Z
UID:10014464-1898366400-1898370000@zushislist.com
SUMMARY:TACOS & TANYA
DESCRIPTION:Come join the young professionals of Midtown for Tacos & Tanya\, a weekly deep-dive into Chassidut’s most impactful teachings. \nFor young men and women. \nWeekly classes exploring Chassidut’s most impactful teachings \nBeginning Tuesday\, April 21 | 8pm \nChabad at Midtown Miami \nDM to reserve your spot!
URL:https://zushislist.com/single-event/tacos-tanya/2030-02-26/
LOCATION:Chabad at Midtown Miami\, United States
CATEGORIES:Young Professionals
ATTACH;FMTTYPE=image/png:https://zushislist.com/wp-content/uploads/2026/04/Tacos-Tanya.png
END:VEVENT
BEGIN:VEVENT
DTSTART;TZID=America/New_York:20300305T200000
DTEND;TZID=America/New_York:20300305T210000
DTSTAMP:20260420T082311
CREATED:20260417T175638Z
LAST-MODIFIED:20260417T175638Z
UID:10014465-1898971200-1898974800@zushislist.com
SUMMARY:TACOS & TANYA
DESCRIPTION:Come join the young professionals of Midtown for Tacos & Tanya\, a weekly deep-dive into Chassidut’s most impactful teachings. \nFor young men and women. \nWeekly classes exploring Chassidut’s most impactful teachings \nBeginning Tuesday\, April 21 | 8pm \nChabad at Midtown Miami \nDM to reserve your spot!
URL:https://zushislist.com/single-event/tacos-tanya/2030-03-05/
LOCATION:Chabad at Midtown Miami\, United States
CATEGORIES:Young Professionals
ATTACH;FMTTYPE=image/png:https://zushislist.com/wp-content/uploads/2026/04/Tacos-Tanya.png
END:VEVENT
BEGIN:VEVENT
DTSTART;TZID=America/New_York:20300312T200000
DTEND;TZID=America/New_York:20300312T210000
DTSTAMP:20260420T082311
CREATED:20260417T175638Z
LAST-MODIFIED:20260417T175638Z
UID:10014466-1899576000-1899579600@zushislist.com
SUMMARY:TACOS & TANYA
DESCRIPTION:Come join the young professionals of Midtown for Tacos & Tanya\, a weekly deep-dive into Chassidut’s most impactful teachings. \nFor young men and women. \nWeekly classes exploring Chassidut’s most impactful teachings \nBeginning Tuesday\, April 21 | 8pm \nChabad at Midtown Miami \nDM to reserve your spot!
URL:https://zushislist.com/single-event/tacos-tanya/2030-03-12/
LOCATION:Chabad at Midtown Miami\, United States
CATEGORIES:Young Professionals
ATTACH;FMTTYPE=image/png:https://zushislist.com/wp-content/uploads/2026/04/Tacos-Tanya.png
END:VEVENT
BEGIN:VEVENT
DTSTART;TZID=America/New_York:20300319T200000
DTEND;TZID=America/New_York:20300319T210000
DTSTAMP:20260420T082311
CREATED:20260417T175638Z
LAST-MODIFIED:20260417T175638Z
UID:10014467-1900180800-1900184400@zushislist.com
SUMMARY:TACOS & TANYA
DESCRIPTION:Come join the young professionals of Midtown for Tacos & Tanya\, a weekly deep-dive into Chassidut’s most impactful teachings. \nFor young men and women. \nWeekly classes exploring Chassidut’s most impactful teachings \nBeginning Tuesday\, April 21 | 8pm \nChabad at Midtown Miami \nDM to reserve your spot!
URL:https://zushislist.com/single-event/tacos-tanya/2030-03-19/
LOCATION:Chabad at Midtown Miami\, United States
CATEGORIES:Young Professionals
ATTACH;FMTTYPE=image/png:https://zushislist.com/wp-content/uploads/2026/04/Tacos-Tanya.png
END:VEVENT
BEGIN:VEVENT
DTSTART;TZID=America/New_York:20300326T200000
DTEND;TZID=America/New_York:20300326T210000
DTSTAMP:20260420T082311
CREATED:20260417T175638Z
LAST-MODIFIED:20260417T175638Z
UID:10014468-1900785600-1900789200@zushislist.com
SUMMARY:TACOS & TANYA
DESCRIPTION:Come join the young professionals of Midtown for Tacos & Tanya\, a weekly deep-dive into Chassidut’s most impactful teachings. \nFor young men and women. \nWeekly classes exploring Chassidut’s most impactful teachings \nBeginning Tuesday\, April 21 | 8pm \nChabad at Midtown Miami \nDM to reserve your spot!
URL:https://zushislist.com/single-event/tacos-tanya/2030-03-26/
LOCATION:Chabad at Midtown Miami\, United States
CATEGORIES:Young Professionals
ATTACH;FMTTYPE=image/png:https://zushislist.com/wp-content/uploads/2026/04/Tacos-Tanya.png
END:VEVENT
BEGIN:VEVENT
DTSTART;TZID=America/New_York:20300402T200000
DTEND;TZID=America/New_York:20300402T210000
DTSTAMP:20260420T082311
CREATED:20260417T175638Z
LAST-MODIFIED:20260417T175638Z
UID:10014469-1901390400-1901394000@zushislist.com
SUMMARY:TACOS & TANYA
DESCRIPTION:Come join the young professionals of Midtown for Tacos & Tanya\, a weekly deep-dive into Chassidut’s most impactful teachings. \nFor young men and women. \nWeekly classes exploring Chassidut’s most impactful teachings \nBeginning Tuesday\, April 21 | 8pm \nChabad at Midtown Miami \nDM to reserve your spot!
URL:https://zushislist.com/single-event/tacos-tanya/2030-04-02/
LOCATION:Chabad at Midtown Miami\, United States
CATEGORIES:Young Professionals
ATTACH;FMTTYPE=image/png:https://zushislist.com/wp-content/uploads/2026/04/Tacos-Tanya.png
END:VEVENT
BEGIN:VEVENT
DTSTART;TZID=America/New_York:20300409T200000
DTEND;TZID=America/New_York:20300409T210000
DTSTAMP:20260420T082311
CREATED:20260417T175638Z
LAST-MODIFIED:20260417T175638Z
UID:10014470-1901995200-1901998800@zushislist.com
SUMMARY:TACOS & TANYA
DESCRIPTION:Come join the young professionals of Midtown for Tacos & Tanya\, a weekly deep-dive into Chassidut’s most impactful teachings. \nFor young men and women. \nWeekly classes exploring Chassidut’s most impactful teachings \nBeginning Tuesday\, April 21 | 8pm \nChabad at Midtown Miami \nDM to reserve your spot!
URL:https://zushislist.com/single-event/tacos-tanya/2030-04-09/
LOCATION:Chabad at Midtown Miami\, United States
CATEGORIES:Young Professionals
ATTACH;FMTTYPE=image/png:https://zushislist.com/wp-content/uploads/2026/04/Tacos-Tanya.png
END:VEVENT
BEGIN:VEVENT
DTSTART;TZID=America/New_York:20300416T200000
DTEND;TZID=America/New_York:20300416T210000
DTSTAMP:20260420T082311
CREATED:20260417T175638Z
LAST-MODIFIED:20260417T175638Z
UID:10014471-1902600000-1902603600@zushislist.com
SUMMARY:TACOS & TANYA
DESCRIPTION:Come join the young professionals of Midtown for Tacos & Tanya\, a weekly deep-dive into Chassidut’s most impactful teachings. \nFor young men and women. \nWeekly classes exploring Chassidut’s most impactful teachings \nBeginning Tuesday\, April 21 | 8pm \nChabad at Midtown Miami \nDM to reserve your spot!
URL:https://zushislist.com/single-event/tacos-tanya/2030-04-16/
LOCATION:Chabad at Midtown Miami\, United States
CATEGORIES:Young Professionals
ATTACH;FMTTYPE=image/png:https://zushislist.com/wp-content/uploads/2026/04/Tacos-Tanya.png
END:VEVENT
BEGIN:VEVENT
DTSTART;TZID=America/New_York:20300423T200000
DTEND;TZID=America/New_York:20300423T210000
DTSTAMP:20260420T082311
CREATED:20260417T175638Z
LAST-MODIFIED:20260417T175638Z
UID:10014472-1903204800-1903208400@zushislist.com
SUMMARY:TACOS & TANYA
DESCRIPTION:Come join the young professionals of Midtown for Tacos & Tanya\, a weekly deep-dive into Chassidut’s most impactful teachings. \nFor young men and women. \nWeekly classes exploring Chassidut’s most impactful teachings \nBeginning Tuesday\, April 21 | 8pm \nChabad at Midtown Miami \nDM to reserve your spot!
URL:https://zushislist.com/single-event/tacos-tanya/2030-04-23/
LOCATION:Chabad at Midtown Miami\, United States
CATEGORIES:Young Professionals
ATTACH;FMTTYPE=image/png:https://zushislist.com/wp-content/uploads/2026/04/Tacos-Tanya.png
END:VEVENT
BEGIN:VEVENT
DTSTART;TZID=America/New_York:20300430T200000
DTEND;TZID=America/New_York:20300430T210000
DTSTAMP:20260420T082311
CREATED:20260417T175638Z
LAST-MODIFIED:20260417T175638Z
UID:10014473-1903809600-1903813200@zushislist.com
SUMMARY:TACOS & TANYA
DESCRIPTION:Come join the young professionals of Midtown for Tacos & Tanya\, a weekly deep-dive into Chassidut’s most impactful teachings. \nFor young men and women. \nWeekly classes exploring Chassidut’s most impactful teachings \nBeginning Tuesday\, April 21 | 8pm \nChabad at Midtown Miami \nDM to reserve your spot!
URL:https://zushislist.com/single-event/tacos-tanya/2030-04-30/
LOCATION:Chabad at Midtown Miami\, United States
CATEGORIES:Young Professionals
ATTACH;FMTTYPE=image/png:https://zushislist.com/wp-content/uploads/2026/04/Tacos-Tanya.png
END:VEVENT
BEGIN:VEVENT
DTSTART;TZID=America/New_York:20300507T200000
DTEND;TZID=America/New_York:20300507T210000
DTSTAMP:20260420T082311
CREATED:20260417T175638Z
LAST-MODIFIED:20260417T175638Z
UID:10014474-1904414400-1904418000@zushislist.com
SUMMARY:TACOS & TANYA
DESCRIPTION:Come join the young professionals of Midtown for Tacos & Tanya\, a weekly deep-dive into Chassidut’s most impactful teachings. \nFor young men and women. \nWeekly classes exploring Chassidut’s most impactful teachings \nBeginning Tuesday\, April 21 | 8pm \nChabad at Midtown Miami \nDM to reserve your spot!
URL:https://zushislist.com/single-event/tacos-tanya/2030-05-07/
LOCATION:Chabad at Midtown Miami\, United States
CATEGORIES:Young Professionals
ATTACH;FMTTYPE=image/png:https://zushislist.com/wp-content/uploads/2026/04/Tacos-Tanya.png
END:VEVENT
BEGIN:VEVENT
DTSTART;TZID=America/New_York:20300514T200000
DTEND;TZID=America/New_York:20300514T210000
DTSTAMP:20260420T082311
CREATED:20260417T175638Z
LAST-MODIFIED:20260417T175638Z
UID:10014475-1905019200-1905022800@zushislist.com
SUMMARY:TACOS & TANYA
DESCRIPTION:Come join the young professionals of Midtown for Tacos & Tanya\, a weekly deep-dive into Chassidut’s most impactful teachings. \nFor young men and women. \nWeekly classes exploring Chassidut’s most impactful teachings \nBeginning Tuesday\, April 21 | 8pm \nChabad at Midtown Miami \nDM to reserve your spot!
URL:https://zushislist.com/single-event/tacos-tanya/2030-05-14/
LOCATION:Chabad at Midtown Miami\, United States
CATEGORIES:Young Professionals
ATTACH;FMTTYPE=image/png:https://zushislist.com/wp-content/uploads/2026/04/Tacos-Tanya.png
END:VEVENT
BEGIN:VEVENT
DTSTART;TZID=America/New_York:20300521T200000
DTEND;TZID=America/New_York:20300521T210000
DTSTAMP:20260420T082311
CREATED:20260417T175638Z
LAST-MODIFIED:20260417T175638Z
UID:10014476-1905624000-1905627600@zushislist.com
SUMMARY:TACOS & TANYA
DESCRIPTION:Come join the young professionals of Midtown for Tacos & Tanya\, a weekly deep-dive into Chassidut’s most impactful teachings. \nFor young men and women. \nWeekly classes exploring Chassidut’s most impactful teachings \nBeginning Tuesday\, April 21 | 8pm \nChabad at Midtown Miami \nDM to reserve your spot!
URL:https://zushislist.com/single-event/tacos-tanya/2030-05-21/
LOCATION:Chabad at Midtown Miami\, United States
CATEGORIES:Young Professionals
ATTACH;FMTTYPE=image/png:https://zushislist.com/wp-content/uploads/2026/04/Tacos-Tanya.png
END:VEVENT
BEGIN:VEVENT
DTSTART;TZID=America/New_York:20300528T200000
DTEND;TZID=America/New_York:20300528T210000
DTSTAMP:20260420T082311
CREATED:20260417T175638Z
LAST-MODIFIED:20260417T175638Z
UID:10014477-1906228800-1906232400@zushislist.com
SUMMARY:TACOS & TANYA
DESCRIPTION:Come join the young professionals of Midtown for Tacos & Tanya\, a weekly deep-dive into Chassidut’s most impactful teachings. \nFor young men and women. \nWeekly classes exploring Chassidut’s most impactful teachings \nBeginning Tuesday\, April 21 | 8pm \nChabad at Midtown Miami \nDM to reserve your spot!
URL:https://zushislist.com/single-event/tacos-tanya/2030-05-28/
LOCATION:Chabad at Midtown Miami\, United States
CATEGORIES:Young Professionals
ATTACH;FMTTYPE=image/png:https://zushislist.com/wp-content/uploads/2026/04/Tacos-Tanya.png
END:VEVENT
BEGIN:VEVENT
DTSTART;TZID=America/New_York:20300604T200000
DTEND;TZID=America/New_York:20300604T210000
DTSTAMP:20260420T082311
CREATED:20260417T175638Z
LAST-MODIFIED:20260417T175638Z
UID:10014478-1906833600-1906837200@zushislist.com
SUMMARY:TACOS & TANYA
DESCRIPTION:Come join the young professionals of Midtown for Tacos & Tanya\, a weekly deep-dive into Chassidut’s most impactful teachings. \nFor young men and women. \nWeekly classes exploring Chassidut’s most impactful teachings \nBeginning Tuesday\, April 21 | 8pm \nChabad at Midtown Miami \nDM to reserve your spot!
URL:https://zushislist.com/single-event/tacos-tanya/2030-06-04/
LOCATION:Chabad at Midtown Miami\, United States
CATEGORIES:Young Professionals
ATTACH;FMTTYPE=image/png:https://zushislist.com/wp-content/uploads/2026/04/Tacos-Tanya.png
END:VEVENT
BEGIN:VEVENT
DTSTART;TZID=America/New_York:20300611T200000
DTEND;TZID=America/New_York:20300611T210000
DTSTAMP:20260420T082311
CREATED:20260417T175638Z
LAST-MODIFIED:20260417T175638Z
UID:10014479-1907438400-1907442000@zushislist.com
SUMMARY:TACOS & TANYA
DESCRIPTION:Come join the young professionals of Midtown for Tacos & Tanya\, a weekly deep-dive into Chassidut’s most impactful teachings. \nFor young men and women. \nWeekly classes exploring Chassidut’s most impactful teachings \nBeginning Tuesday\, April 21 | 8pm \nChabad at Midtown Miami \nDM to reserve your spot!
URL:https://zushislist.com/single-event/tacos-tanya/2030-06-11/
LOCATION:Chabad at Midtown Miami\, United States
CATEGORIES:Young Professionals
ATTACH;FMTTYPE=image/png:https://zushislist.com/wp-content/uploads/2026/04/Tacos-Tanya.png
END:VEVENT
BEGIN:VEVENT
DTSTART;TZID=America/New_York:20300618T200000
DTEND;TZID=America/New_York:20300618T210000
DTSTAMP:20260420T082311
CREATED:20260417T175638Z
LAST-MODIFIED:20260417T175638Z
UID:10014480-1908043200-1908046800@zushislist.com
SUMMARY:TACOS & TANYA
DESCRIPTION:Come join the young professionals of Midtown for Tacos & Tanya\, a weekly deep-dive into Chassidut’s most impactful teachings. \nFor young men and women. \nWeekly classes exploring Chassidut’s most impactful teachings \nBeginning Tuesday\, April 21 | 8pm \nChabad at Midtown Miami \nDM to reserve your spot!
URL:https://zushislist.com/single-event/tacos-tanya/2030-06-18/
LOCATION:Chabad at Midtown Miami\, United States
CATEGORIES:Young Professionals
ATTACH;FMTTYPE=image/png:https://zushislist.com/wp-content/uploads/2026/04/Tacos-Tanya.png
END:VEVENT
BEGIN:VEVENT
DTSTART;TZID=America/New_York:20300625T200000
DTEND;TZID=America/New_York:20300625T210000
DTSTAMP:20260420T082311
CREATED:20260417T175638Z
LAST-MODIFIED:20260417T175638Z
UID:10014481-1908648000-1908651600@zushislist.com
SUMMARY:TACOS & TANYA
DESCRIPTION:Come join the young professionals of Midtown for Tacos & Tanya\, a weekly deep-dive into Chassidut’s most impactful teachings. \nFor young men and women. \nWeekly classes exploring Chassidut’s most impactful teachings \nBeginning Tuesday\, April 21 | 8pm \nChabad at Midtown Miami \nDM to reserve your spot!
URL:https://zushislist.com/single-event/tacos-tanya/2030-06-25/
LOCATION:Chabad at Midtown Miami\, United States
CATEGORIES:Young Professionals
ATTACH;FMTTYPE=image/png:https://zushislist.com/wp-content/uploads/2026/04/Tacos-Tanya.png
END:VEVENT
BEGIN:VEVENT
DTSTART;TZID=America/New_York:20300702T200000
DTEND;TZID=America/New_York:20300702T210000
DTSTAMP:20260420T082311
CREATED:20260417T175638Z
LAST-MODIFIED:20260417T175638Z
UID:10014482-1909252800-1909256400@zushislist.com
SUMMARY:TACOS & TANYA
DESCRIPTION:Come join the young professionals of Midtown for Tacos & Tanya\, a weekly deep-dive into Chassidut’s most impactful teachings. \nFor young men and women. \nWeekly classes exploring Chassidut’s most impactful teachings \nBeginning Tuesday\, April 21 | 8pm \nChabad at Midtown Miami \nDM to reserve your spot!
URL:https://zushislist.com/single-event/tacos-tanya/2030-07-02/
LOCATION:Chabad at Midtown Miami\, United States
CATEGORIES:Young Professionals
ATTACH;FMTTYPE=image/png:https://zushislist.com/wp-content/uploads/2026/04/Tacos-Tanya.png
END:VEVENT
BEGIN:VEVENT
DTSTART;TZID=America/New_York:20300709T200000
DTEND;TZID=America/New_York:20300709T210000
DTSTAMP:20260420T082311
CREATED:20260417T175638Z
LAST-MODIFIED:20260417T175638Z
UID:10014483-1909857600-1909861200@zushislist.com
SUMMARY:TACOS & TANYA
DESCRIPTION:Come join the young professionals of Midtown for Tacos & Tanya\, a weekly deep-dive into Chassidut’s most impactful teachings. \nFor young men and women. \nWeekly classes exploring Chassidut’s most impactful teachings \nBeginning Tuesday\, April 21 | 8pm \nChabad at Midtown Miami \nDM to reserve your spot!
URL:https://zushislist.com/single-event/tacos-tanya/2030-07-09/
LOCATION:Chabad at Midtown Miami\, United States
CATEGORIES:Young Professionals
ATTACH;FMTTYPE=image/png:https://zushislist.com/wp-content/uploads/2026/04/Tacos-Tanya.png
END:VEVENT
BEGIN:VEVENT
DTSTART;TZID=America/New_York:20300716T200000
DTEND;TZID=America/New_York:20300716T210000
DTSTAMP:20260420T082311
CREATED:20260417T175638Z
LAST-MODIFIED:20260417T175638Z
UID:10014484-1910462400-1910466000@zushislist.com
SUMMARY:TACOS & TANYA
DESCRIPTION:Come join the young professionals of Midtown for Tacos & Tanya\, a weekly deep-dive into Chassidut’s most impactful teachings. \nFor young men and women. \nWeekly classes exploring Chassidut’s most impactful teachings \nBeginning Tuesday\, April 21 | 8pm \nChabad at Midtown Miami \nDM to reserve your spot!
URL:https://zushislist.com/single-event/tacos-tanya/2030-07-16/
LOCATION:Chabad at Midtown Miami\, United States
CATEGORIES:Young Professionals
ATTACH;FMTTYPE=image/png:https://zushislist.com/wp-content/uploads/2026/04/Tacos-Tanya.png
END:VEVENT
BEGIN:VEVENT
DTSTART;TZID=America/New_York:20300723T200000
DTEND;TZID=America/New_York:20300723T210000
DTSTAMP:20260420T082311
CREATED:20260417T175638Z
LAST-MODIFIED:20260417T175638Z
UID:10014485-1911067200-1911070800@zushislist.com
SUMMARY:TACOS & TANYA
DESCRIPTION:Come join the young professionals of Midtown for Tacos & Tanya\, a weekly deep-dive into Chassidut’s most impactful teachings. \nFor young men and women. \nWeekly classes exploring Chassidut’s most impactful teachings \nBeginning Tuesday\, April 21 | 8pm \nChabad at Midtown Miami \nDM to reserve your spot!
URL:https://zushislist.com/single-event/tacos-tanya/2030-07-23/
LOCATION:Chabad at Midtown Miami\, United States
CATEGORIES:Young Professionals
ATTACH;FMTTYPE=image/png:https://zushislist.com/wp-content/uploads/2026/04/Tacos-Tanya.png
END:VEVENT
BEGIN:VEVENT
DTSTART;TZID=America/New_York:20300730T200000
DTEND;TZID=America/New_York:20300730T210000
DTSTAMP:20260420T082311
CREATED:20260417T175638Z
LAST-MODIFIED:20260417T175638Z
UID:10014486-1911672000-1911675600@zushislist.com
SUMMARY:TACOS & TANYA
DESCRIPTION:Come join the young professionals of Midtown for Tacos & Tanya\, a weekly deep-dive into Chassidut’s most impactful teachings. \nFor young men and women. \nWeekly classes exploring Chassidut’s most impactful teachings \nBeginning Tuesday\, April 21 | 8pm \nChabad at Midtown Miami \nDM to reserve your spot!
URL:https://zushislist.com/single-event/tacos-tanya/2030-07-30/
LOCATION:Chabad at Midtown Miami\, United States
CATEGORIES:Young Professionals
ATTACH;FMTTYPE=image/png:https://zushislist.com/wp-content/uploads/2026/04/Tacos-Tanya.png
END:VEVENT
BEGIN:VEVENT
DTSTART;TZID=America/New_York:20300806T200000
DTEND;TZID=America/New_York:20300806T210000
DTSTAMP:20260420T082311
CREATED:20260417T175638Z
LAST-MODIFIED:20260417T175638Z
UID:10014487-1912276800-1912280400@zushislist.com
SUMMARY:TACOS & TANYA
DESCRIPTION:Come join the young professionals of Midtown for Tacos & Tanya\, a weekly deep-dive into Chassidut’s most impactful teachings. \nFor young men and women. \nWeekly classes exploring Chassidut’s most impactful teachings \nBeginning Tuesday\, April 21 | 8pm \nChabad at Midtown Miami \nDM to reserve your spot!
URL:https://zushislist.com/single-event/tacos-tanya/2030-08-06/
LOCATION:Chabad at Midtown Miami\, United States
CATEGORIES:Young Professionals
ATTACH;FMTTYPE=image/png:https://zushislist.com/wp-content/uploads/2026/04/Tacos-Tanya.png
END:VEVENT
BEGIN:VEVENT
DTSTART;TZID=America/New_York:20300813T200000
DTEND;TZID=America/New_York:20300813T210000
DTSTAMP:20260420T082311
CREATED:20260417T175638Z
LAST-MODIFIED:20260417T175638Z
UID:10014488-1912881600-1912885200@zushislist.com
SUMMARY:TACOS & TANYA
DESCRIPTION:Come join the young professionals of Midtown for Tacos & Tanya\, a weekly deep-dive into Chassidut’s most impactful teachings. \nFor young men and women. \nWeekly classes exploring Chassidut’s most impactful teachings \nBeginning Tuesday\, April 21 | 8pm \nChabad at Midtown Miami \nDM to reserve your spot!
URL:https://zushislist.com/single-event/tacos-tanya/2030-08-13/
LOCATION:Chabad at Midtown Miami\, United States
CATEGORIES:Young Professionals
ATTACH;FMTTYPE=image/png:https://zushislist.com/wp-content/uploads/2026/04/Tacos-Tanya.png
END:VEVENT
BEGIN:VEVENT
DTSTART;TZID=America/New_York:20300820T200000
DTEND;TZID=America/New_York:20300820T210000
DTSTAMP:20260420T082311
CREATED:20260417T175638Z
LAST-MODIFIED:20260417T175638Z
UID:10014489-1913486400-1913490000@zushislist.com
SUMMARY:TACOS & TANYA
DESCRIPTION:Come join the young professionals of Midtown for Tacos & Tanya\, a weekly deep-dive into Chassidut’s most impactful teachings. \nFor young men and women. \nWeekly classes exploring Chassidut’s most impactful teachings \nBeginning Tuesday\, April 21 | 8pm \nChabad at Midtown Miami \nDM to reserve your spot!
URL:https://zushislist.com/single-event/tacos-tanya/2030-08-20/
LOCATION:Chabad at Midtown Miami\, United States
CATEGORIES:Young Professionals
ATTACH;FMTTYPE=image/png:https://zushislist.com/wp-content/uploads/2026/04/Tacos-Tanya.png
END:VEVENT
BEGIN:VEVENT
DTSTART;TZID=America/New_York:20300827T200000
DTEND;TZID=America/New_York:20300827T210000
DTSTAMP:20260420T082311
CREATED:20260417T175638Z
LAST-MODIFIED:20260417T175638Z
UID:10014490-1914091200-1914094800@zushislist.com
SUMMARY:TACOS & TANYA
DESCRIPTION:Come join the young professionals of Midtown for Tacos & Tanya\, a weekly deep-dive into Chassidut’s most impactful teachings. \nFor young men and women. \nWeekly classes exploring Chassidut’s most impactful teachings \nBeginning Tuesday\, April 21 | 8pm \nChabad at Midtown Miami \nDM to reserve your spot!
URL:https://zushislist.com/single-event/tacos-tanya/2030-08-27/
LOCATION:Chabad at Midtown Miami\, United States
CATEGORIES:Young Professionals
ATTACH;FMTTYPE=image/png:https://zushislist.com/wp-content/uploads/2026/04/Tacos-Tanya.png
END:VEVENT
BEGIN:VEVENT
DTSTART;TZID=America/New_York:20300903T200000
DTEND;TZID=America/New_York:20300903T210000
DTSTAMP:20260420T082311
CREATED:20260417T175638Z
LAST-MODIFIED:20260417T175638Z
UID:10014491-1914696000-1914699600@zushislist.com
SUMMARY:TACOS & TANYA
DESCRIPTION:Come join the young professionals of Midtown for Tacos & Tanya\, a weekly deep-dive into Chassidut’s most impactful teachings. \nFor young men and women. \nWeekly classes exploring Chassidut’s most impactful teachings \nBeginning Tuesday\, April 21 | 8pm \nChabad at Midtown Miami \nDM to reserve your spot!
URL:https://zushislist.com/single-event/tacos-tanya/2030-09-03/
LOCATION:Chabad at Midtown Miami\, United States
CATEGORIES:Young Professionals
ATTACH;FMTTYPE=image/png:https://zushislist.com/wp-content/uploads/2026/04/Tacos-Tanya.png
END:VEVENT
BEGIN:VEVENT
DTSTART;TZID=America/New_York:20300910T200000
DTEND;TZID=America/New_York:20300910T210000
DTSTAMP:20260420T082311
CREATED:20260417T175638Z
LAST-MODIFIED:20260417T175638Z
UID:10014492-1915300800-1915304400@zushislist.com
SUMMARY:TACOS & TANYA
DESCRIPTION:Come join the young professionals of Midtown for Tacos & Tanya\, a weekly deep-dive into Chassidut’s most impactful teachings. \nFor young men and women. \nWeekly classes exploring Chassidut’s most impactful teachings \nBeginning Tuesday\, April 21 | 8pm \nChabad at Midtown Miami \nDM to reserve your spot!
URL:https://zushislist.com/single-event/tacos-tanya/2030-09-10/
LOCATION:Chabad at Midtown Miami\, United States
CATEGORIES:Young Professionals
ATTACH;FMTTYPE=image/png:https://zushislist.com/wp-content/uploads/2026/04/Tacos-Tanya.png
END:VEVENT
END:VCALENDAR