BEGIN:VCALENDAR
VERSION:2.0
PRODID:-//Zushi&#039;s List - ECPv6.15.20//NONSGML v1.0//EN
CALSCALE:GREGORIAN
METHOD:PUBLISH
X-ORIGINAL-URL:https://zushislist.com
X-WR-CALDESC:Events for Zushi&#039;s List
REFRESH-INTERVAL;VALUE=DURATION:PT1H
X-Robots-Tag:noindex
X-PUBLISHED-TTL:PT1H
BEGIN:VTIMEZONE
TZID:America/New_York
BEGIN:DAYLIGHT
TZOFFSETFROM:-0500
TZOFFSETTO:-0400
TZNAME:EDT
DTSTART:20250309T070000
END:DAYLIGHT
BEGIN:STANDARD
TZOFFSETFROM:-0400
TZOFFSETTO:-0500
TZNAME:EST
DTSTART:20251102T060000
END:STANDARD
BEGIN:DAYLIGHT
TZOFFSETFROM:-0500
TZOFFSETTO:-0400
TZNAME:EDT
DTSTART:20260308T070000
END:DAYLIGHT
BEGIN:STANDARD
TZOFFSETFROM:-0400
TZOFFSETTO:-0500
TZNAME:EST
DTSTART:20261101T060000
END:STANDARD
BEGIN:DAYLIGHT
TZOFFSETFROM:-0500
TZOFFSETTO:-0400
TZNAME:EDT
DTSTART:20270314T070000
END:DAYLIGHT
BEGIN:STANDARD
TZOFFSETFROM:-0400
TZOFFSETTO:-0500
TZNAME:EST
DTSTART:20271107T060000
END:STANDARD
END:VTIMEZONE
BEGIN:VEVENT
DTSTART;TZID=America/New_York:20260424T180000
DTEND;TZID=America/New_York:20260424T190000
DTSTAMP:20260423T161206
CREATED:20260423T152356Z
LAST-MODIFIED:20260423T152356Z
UID:10015694-1777053600-1777057200@zushislist.com
SUMMARY:TASTE OF JERUSALEM
DESCRIPTION:TASTE OF JERUSALEM \nJERUSALEM ARCHAEOLOGY PRESENTATION + SHABBAT DINNER \nFRIDAY\, APRIL 24\, 2026 • 6 PM \nChabad Coral Gables \n6 PM • LECTURE \nTHE ARCHAEOLOGICAL CLAIM TO JERUSALEM AN ARCHAEOLOGICAL REFUTATION OF CRITICS DENYING THE JEWISH CONNECTION TO THEIR ANCIENT HOMELAND IN ISRAEL \n7 PM • CANDLE LIGHTING & SERVICE \nTASTE OF JERUSALEM SHABBAT DINNER \nRSVP: CHABADGABLES.COM/JERUSALEM \nCOMPLIMENTARY LECTURE WITH RSVP BY APRIL 23 \n($15 AFTER) \nSHABBAT DINNER: $36 ADULT • $25 CHILD BY 4/19 \n$45 ADULT • $30 CHILD AFTER
URL:https://zushislist.com/single-event/taste-of-jerusalem/
LOCATION:Chabad Coral Gables\, United States
CATEGORIES:Community
ATTACH;FMTTYPE=image/png:https://zushislist.com/wp-content/uploads/2026/04/Taste-of-jerusalem.png
END:VEVENT
END:VCALENDAR