BEGIN:VCALENDAR
VERSION:2.0
PRODID:-//Zushi&#039;s List - ECPv6.15.20//NONSGML v1.0//EN
CALSCALE:GREGORIAN
METHOD:PUBLISH
X-WR-CALNAME:Zushi&#039;s List
X-ORIGINAL-URL:https://zushislist.com
X-WR-CALDESC:Events for Zushi&#039;s List
REFRESH-INTERVAL;VALUE=DURATION:PT1H
X-Robots-Tag:noindex
X-PUBLISHED-TTL:PT1H
BEGIN:VTIMEZONE
TZID:America/New_York
BEGIN:DAYLIGHT
TZOFFSETFROM:-0500
TZOFFSETTO:-0400
TZNAME:EDT
DTSTART:20250309T070000
END:DAYLIGHT
BEGIN:STANDARD
TZOFFSETFROM:-0400
TZOFFSETTO:-0500
TZNAME:EST
DTSTART:20251102T060000
END:STANDARD
BEGIN:DAYLIGHT
TZOFFSETFROM:-0500
TZOFFSETTO:-0400
TZNAME:EDT
DTSTART:20260308T070000
END:DAYLIGHT
BEGIN:STANDARD
TZOFFSETFROM:-0400
TZOFFSETTO:-0500
TZNAME:EST
DTSTART:20261101T060000
END:STANDARD
BEGIN:DAYLIGHT
TZOFFSETFROM:-0500
TZOFFSETTO:-0400
TZNAME:EDT
DTSTART:20270314T070000
END:DAYLIGHT
BEGIN:STANDARD
TZOFFSETFROM:-0400
TZOFFSETTO:-0500
TZNAME:EST
DTSTART:20271107T060000
END:STANDARD
END:VTIMEZONE
BEGIN:VEVENT
DTSTART;TZID=America/New_York:20260324T190000
DTEND;TZID=America/New_York:20260324T210000
DTSTAMP:20260420T065513
CREATED:20260313T172918Z
LAST-MODIFIED:20260313T172918Z
UID:10010916-1774378800-1774386000@zushislist.com
SUMMARY:Crunch Time - A RASHBEE PRE-HOLIDAY EXPERIENCE
DESCRIPTION:Get ready for a Passover prep session that’s anything but dry 🍷 \nWe’re diving into the Kaballah and traditions of the holiday while building our own epic creations at a fully stocked DIY Taco Bar 🌮 \nCome for the bright flavors\, stay for the insights\, and leave ready for your best Passover yet 🌟 \nDon’t miss this chance to enrich your Passover experience! \ntues\, march 24 • 7 PM \nChabad of Venetian & Sunset Islands tickets: rashbee.com/crunch \nFREE FOR RASHBEE MEMBERS \n*for Jewish adults of all ages
URL:https://zushislist.com/single-event/crunch-time-a-rashbee-pre-holiday-experience/
LOCATION:Chabad of Venetian & Sunset Islands\, United States
CATEGORIES:Community
ATTACH;FMTTYPE=image/png:https://zushislist.com/wp-content/uploads/2026/03/Crunch-Time.png
END:VEVENT
END:VCALENDAR