BEGIN:VCALENDAR
VERSION:2.0
PRODID:-//Zushi&#039;s List - ECPv6.15.20//NONSGML v1.0//EN
CALSCALE:GREGORIAN
METHOD:PUBLISH
X-WR-CALNAME:Zushi&#039;s List
X-ORIGINAL-URL:https://zushislist.com
X-WR-CALDESC:Events for Zushi&#039;s List
REFRESH-INTERVAL;VALUE=DURATION:PT1H
X-Robots-Tag:noindex
X-PUBLISHED-TTL:PT1H
BEGIN:VTIMEZONE
TZID:UTC
BEGIN:STANDARD
TZOFFSETFROM:+0000
TZOFFSETTO:+0000
TZNAME:UTC
DTSTART:20250101T000000
END:STANDARD
END:VTIMEZONE
BEGIN:VTIMEZONE
TZID:America/New_York
BEGIN:DAYLIGHT
TZOFFSETFROM:-0500
TZOFFSETTO:-0400
TZNAME:EDT
DTSTART:20250309T070000
END:DAYLIGHT
BEGIN:STANDARD
TZOFFSETFROM:-0400
TZOFFSETTO:-0500
TZNAME:EST
DTSTART:20251102T060000
END:STANDARD
BEGIN:DAYLIGHT
TZOFFSETFROM:-0500
TZOFFSETTO:-0400
TZNAME:EDT
DTSTART:20260308T070000
END:DAYLIGHT
BEGIN:STANDARD
TZOFFSETFROM:-0400
TZOFFSETTO:-0500
TZNAME:EST
DTSTART:20261101T060000
END:STANDARD
BEGIN:DAYLIGHT
TZOFFSETFROM:-0500
TZOFFSETTO:-0400
TZNAME:EDT
DTSTART:20270314T070000
END:DAYLIGHT
BEGIN:STANDARD
TZOFFSETFROM:-0400
TZOFFSETTO:-0500
TZNAME:EST
DTSTART:20271107T060000
END:STANDARD
END:VTIMEZONE
BEGIN:VEVENT
DTSTART;TZID=UTC:20260416T230000
DTEND;TZID=UTC:20260417T010000
DTSTAMP:20260419T190424
CREATED:20260411T135952Z
LAST-MODIFIED:20260411T135952Z
UID:10013688-1776380400-1776387600@zushislist.com
SUMMARY:Art Exhibit Stories of Strength Told Through Art
DESCRIPTION:Join us to experience this moving exhibition—be inspired\, reflect and stand in solidarity through art.\nCurated by Ariel Penzer\, founder of Art World for Israel\, “Rising from the Flames” showcases Jewish artists who have confronted antisemitism and cultural blacklisting with resilience\, courage and creative defiance.\nThis powerful exhibition documents their experiences while celebrating identity\, community and artistic perseverance. Featuring works created in both the diaspora and Israel during times of conflict\, the collection highlights the enduring strength and voice of Jewish creativity.\nFeatured artists include Shira Klein\, Jacqueline Kott-Wolle\, Ubab Mad\, Sara Schraeter-Mowers and many more. join us to meet the curator and artists and enjoy light bite.\nThe exhibition will be on view from April 16- May 24\, 2026\nhttps://www.dpjcc.org/art-exhibits\n 
URL:https://zushislist.com/single-event/art-exhibit-stories-of-strength-told-through-art/
LOCATION:David Posnack JCC\, 5850 S Pine Island Rd\, Fort Lauderdale\, FL\, United States
CATEGORIES:Community Event
GEO:26.046597;-80.25987
X-APPLE-STRUCTURED-LOCATION;VALUE=URI;X-ADDRESS=David Posnack JCC 5850 S Pine Island Rd Fort Lauderdale FL United States;X-APPLE-RADIUS=500;X-TITLE=5850 S Pine Island Rd:geo:-80.25987,26.046597
END:VEVENT
BEGIN:VEVENT
DTSTART;TZID=UTC:20260412T200000
DTEND;TZID=UTC:20260412T213000
DTSTAMP:20260419T190424
CREATED:20260328T134450Z
LAST-MODIFIED:20260411T135950Z
UID:10013456-1776024000-1776029400@zushislist.com
SUMMARY:Yom HaShoah Commemoration
DESCRIPTION:Join us for a powerful day of commemoration through music. Featuring a special violin performance by Ilana Zaks honoring Jewish composers whose lives and work were impacted by the Holocaust. The program will also premiere an original song created through our Testimony to Teach program\, composed by students in response to survivor testimony and performed by Jeff Jacob and a live band with student support.\n 
URL:https://zushislist.com/single-event/yom-hashoah-commemoration-2/
LOCATION:David Posnack JCC\, 5850 S Pine Island Rd\, Fort Lauderdale\, FL\, United States
CATEGORIES:Community Event
GEO:26.046597;-80.25987
X-APPLE-STRUCTURED-LOCATION;VALUE=URI;X-ADDRESS=David Posnack JCC 5850 S Pine Island Rd Fort Lauderdale FL United States;X-APPLE-RADIUS=500;X-TITLE=5850 S Pine Island Rd:geo:-80.25987,26.046597
END:VEVENT
BEGIN:VEVENT
DTSTART;TZID=UTC:20260325T230000
DTEND;TZID=UTC:20260326T010000
DTSTAMP:20260419T190424
CREATED:20250920T121506Z
LAST-MODIFIED:20260321T134503Z
UID:10006377-1774479600-1774486800@zushislist.com
SUMMARY:Women's History Month Celebration
DESCRIPTION:Join us for an evening of powerful fiction and unforgettable storytelling with three acclaimed authors whose novels take us back in time to the 1920s to showcase the strength and resilience of women\, as well as the challenges of the immigrant experience.\nJennifer Brown\, author of The Whisper Sister\nSamantha Woodruff\, author of The Trade Off\nJacqueline Friedland\, author of Counting Backwards
URL:https://zushislist.com/single-event/womens-history-month-celebration/
LOCATION:David Posnack JCC\, 5850 S Pine Island Rd\, Fort Lauderdale\, FL\, United States
CATEGORIES:Community Event
GEO:26.046597;-80.25987
X-APPLE-STRUCTURED-LOCATION;VALUE=URI;X-ADDRESS=David Posnack JCC 5850 S Pine Island Rd Fort Lauderdale FL United States;X-APPLE-RADIUS=500;X-TITLE=5850 S Pine Island Rd:geo:-80.25987,26.046597
END:VEVENT
BEGIN:VEVENT
DTSTART;TZID=America/New_York:20260325T190000
DTEND;TZID=America/New_York:20260325T210000
DTSTAMP:20260419T190424
CREATED:20260313T174017Z
LAST-MODIFIED:20260313T174017Z
UID:10010921-1774465200-1774472400@zushislist.com
SUMMARY:KNISH + TELL
DESCRIPTION:Two authors \n✨ Powerful stories \n🥟 And yes… knish \nJoin us for Knish & Tell in celebration of Women’s History Month with Jennifer Brown and Samantha Woodruff. \nModerator\, Michelle B. Weinstein. \n$18 MEMBERS I $25 COMMUNITY \nBoth novels explore stories of Jewish women in 1920s New York City as they navigate immigration\, career ambitions and even a speakeasy. \nLight\, deli-inspired nosh will be served. \n📅 March 25 | 7 PM \n📍 David Posnack JCC
URL:https://zushislist.com/single-event/knish-tell/
LOCATION:David Posnack JCC\, 5850 S Pine Island Rd\, Fort Lauderdale\, FL\, United States
CATEGORIES:JCC-U
ATTACH;FMTTYPE=image/png:https://zushislist.com/wp-content/uploads/2026/03/Knish-Tell.png
GEO:26.046597;-80.25987
X-APPLE-STRUCTURED-LOCATION;VALUE=URI;X-ADDRESS=David Posnack JCC 5850 S Pine Island Rd Fort Lauderdale FL United States;X-APPLE-RADIUS=500;X-TITLE=5850 S Pine Island Rd:geo:-80.25987,26.046597
END:VEVENT
END:VCALENDAR