BEGIN:VCALENDAR
VERSION:2.0
PRODID:-//Zushi&#039;s List - ECPv6.15.20//NONSGML v1.0//EN
CALSCALE:GREGORIAN
METHOD:PUBLISH
X-ORIGINAL-URL:https://zushislist.com
X-WR-CALDESC:Events for Zushi&#039;s List
REFRESH-INTERVAL;VALUE=DURATION:PT1H
X-Robots-Tag:noindex
X-PUBLISHED-TTL:PT1H
BEGIN:VTIMEZONE
TZID:UTC
BEGIN:STANDARD
TZOFFSETFROM:+0000
TZOFFSETTO:+0000
TZNAME:UTC
DTSTART:20250101T000000
END:STANDARD
END:VTIMEZONE
BEGIN:VEVENT
DTSTART;TZID=UTC:20260420T230000
DTEND;TZID=UTC:20260421T010000
DTSTAMP:20260417T211214
CREATED:20260411T135953Z
LAST-MODIFIED:20260411T135953Z
UID:10013691-1776726000-1776733200@zushislist.com
SUMMARY:Elise Stefanik Discusses Poisoned Ivies
DESCRIPTION:Join us for a special conversation with Congresswoman Elise Stefanik as she discusses her new book\, “Poisoned Ivies”. In this timely and thought-provoking talk\, the Congresswoman will share her perspective on higher education\, free speech\, and the cultural challenges facing America’s top universities.\nhttps://www.dpjcc.org/inperson\nIndividual Ticket: 1 Ticket & 1 Signed Copy of Poisoned Ivies ($45)\nBundle: 2 Tickets & 1 Signed Copy of Poisoned Ivies ($65)
URL:https://zushislist.com/single-event/elise-stefanik-discusses-poisoned-ivies/
LOCATION:David Posnack JCC\, 5850 S Pine Island Rd\, Fort Lauderdale\, FL\, United States
CATEGORIES:Community Event
GEO:26.046597;-80.25987
X-APPLE-STRUCTURED-LOCATION;VALUE=URI;X-ADDRESS=David Posnack JCC 5850 S Pine Island Rd Fort Lauderdale FL United States;X-APPLE-RADIUS=500;X-TITLE=5850 S Pine Island Rd:geo:-80.25987,26.046597
END:VEVENT
BEGIN:VEVENT
DTSTART;TZID=UTC:20260503T140000
DTEND;TZID=UTC:20260503T160000
DTSTAMP:20260417T211214
CREATED:20260411T135954Z
LAST-MODIFIED:20260411T135954Z
UID:10013692-1777816800-1777824000@zushislist.com
SUMMARY:Shuk It Up: Community Celebration Israeli Market & Family Fun Day
DESCRIPTION:Discover the flavors and fun of Israel at our Family Fun Day!\nBring the whole family for a lively morning filled with kids’ attractions\, food\, connection and fun.\nhttps://www.dpjcc.org/shuk\nUnlimited activity wristbands are available for purchase at $30 online or $36 at the door. Individual tickets will be available at the door for $1 each.\nInterested in becoming a shuk vendor?\nContact Maayan Naor-Levy at: mnaorlevy@dpjcc.org or 954-434-0499 ext. 1403\n 
URL:https://zushislist.com/single-event/shuk-it-up-community-celebration-israeli-market-family-fun-day/
LOCATION:David Posnack JCC\, 5850 S Pine Island Rd\, Fort Lauderdale\, FL\, United States
CATEGORIES:Community Event
GEO:26.046597;-80.25987
X-APPLE-STRUCTURED-LOCATION;VALUE=URI;X-ADDRESS=David Posnack JCC 5850 S Pine Island Rd Fort Lauderdale FL United States;X-APPLE-RADIUS=500;X-TITLE=5850 S Pine Island Rd:geo:-80.25987,26.046597
END:VEVENT
BEGIN:VEVENT
DTSTART;TZID=UTC:20260527T231500
DTEND;TZID=UTC:20260528T004500
DTSTAMP:20260417T211214
CREATED:20260314T134459Z
LAST-MODIFIED:20260411T135957Z
UID:10010984-1779923700-1779929100@zushislist.com
SUMMARY:Cooking with Ben Gingi
DESCRIPTION:Cooking with Ben Gingi\nJoin us for an evening with BenGingi\, Israeli baker and Instagram sensation. Founder of NYC’s Buba Bureka and author of Eat Small Plates\, he blends traditional flavors with modern craftsmanship.\nWednesday\, May 27\, 2026\nDavid Posnack JCC\n7:15 PM\nTickets:\nVIP $225\nMeet & Greet $150\nGeneral Admission $75\nURL: https://www.dpjcc.org/bengingi\nVIP Experience – $225 (until April 20)\, $250 (after April 20)\n4:00 PM – 5:00 PM\nHands-on baking session with Ben.\nIncludes dinner & a signed copy of his cookbook\, Eat Small Plates\nMeet & Greet – $150 (until April 20)\, $175 (after April 20)\n5:30 pm- 6:30 pm\nWine and cheese reception with BenGingi & a copy of his cookbook\, Eat Small Plates\nGeneral Admission – $75 (until April 20)\, $100 (after April 20)\nCooking demo\, cookbook available for purchase\nDoors open at 6:45 PM\, Program from 7:15 PM – 8:45 PM\n________________________________\nSponsorship Opportunities\nSmall Bites ($360) – 1 VIP Ticket\, Premier Seating at Main Event\, Seat at Lanny’s Counter at VIP Experience\, 1 Reserved Parking Space\, Name/Logo on all Marketing Materials\, a signed copy of Eat Small Plates\nBig Plates ($1\,000) – 3 VIP Tickets\, Premier Seating at Main Event\, 3 Seats at Lanny’s Counter at VIP Experience\, 2 Reserved Parking Spaces\, Name/Logo on all Marketing Materials\, 2 signed copies of Eat Small Plates\n 
URL:https://zushislist.com/single-event/cooking-with-ben-gingi/
LOCATION:David Posnack JCC\, 5850 S Pine Island Rd\, Fort Lauderdale\, FL\, United States
CATEGORIES:Community Event
ATTACH;FMTTYPE=image/png:https://zushislist.com/wp-content/uploads/2026/03/Bengingi.png
GEO:26.046597;-80.25987
X-APPLE-STRUCTURED-LOCATION;VALUE=URI;X-ADDRESS=David Posnack JCC 5850 S Pine Island Rd Fort Lauderdale FL United States;X-APPLE-RADIUS=500;X-TITLE=5850 S Pine Island Rd:geo:-80.25987,26.046597
END:VEVENT
BEGIN:VEVENT
DTSTART;TZID=UTC:20260527T231500
DTEND;TZID=UTC:20260528T004500
DTSTAMP:20260417T211214
CREATED:20260411T135957Z
LAST-MODIFIED:20260411T135957Z
UID:10013694-1779923700-1779929100@zushislist.com
SUMMARY:Cooking w/ BenGingi
DESCRIPTION:BenGingi Comes to the David Posnack JCC!\nBenGingi is an Israeli-American chef and restaurateur celebrated for his mastery of Middle Eastern cuisine and artisan breads. As the founder of NYC’s Buba Bureka and author of Eat Small Plates\, he blends traditional flavors with modern craftsmanship. Join BenGingi for an amazing evening at the DPJCC!\n📅 Date: Wednesday\, May 27\, 2026\n📍Location: David Posnack JCC – Orlove Auditorium\nhttps://www.dpjcc.org/bengingi\nTickets:\nVIP Experience – $225 (until April 20)\, $250 (after April 20)\n4:00 PM – 5:00 PM\nHands-on baking session with Ben.\nIncludes dinner & a signed copy of his cookbook\, Eat Small Plates\nMeet & Greet – $150 (until April 20)\, $175 (after April 20)\n5:30 pm- 6:30 pm\nWine and cheese reception with BenGingi & a copy of his cookbook\, Eat Small Plates\nGeneral Admission – $75 (until April 20)\, $100 (after April 20)\nCooking demo\, cookbooks are available for purchase in advance-please note they will not be available for purchase on the day of the event.\nDoors open at 6:45 PM\, Program from 7:15 PM – 8:45 PM\nSponsorship Opportunities:\nSmall Bites ($360) – 1 VIP Ticket\, Premier Seating at Main Event\, Seat at Lanny’s Counter at VIP Experience\, 1 Reserved Parking Space\, Name/Logo on all Marketing Materials\, a signed copy of Eat Small Plates\nBig Plates ($1\,000) – 3 VIP Tickets\, Premier Seating at Main Event\, 3 Seats at Lanny’s Counter at VIP Experience\, 2 Reserved Parking Spaces\, Name/Logo on all Marketing Materials\, 2 signed copies of Eat Small Plates\nFor more information\, please email Maayan Naor-Levy\, DPJCC Israel Engagement Coordinator at mnaorlevy@dpjcc.org or call 954-434-0499 ext. 1403.\n 
URL:https://zushislist.com/single-event/cooking-w-bengingi/
LOCATION:David Posnack JCC\, 5850 S Pine Island Rd\, Fort Lauderdale\, FL\, United States
CATEGORIES:Community Event
GEO:26.046597;-80.25987
X-APPLE-STRUCTURED-LOCATION;VALUE=URI;X-ADDRESS=David Posnack JCC 5850 S Pine Island Rd Fort Lauderdale FL United States;X-APPLE-RADIUS=500;X-TITLE=5850 S Pine Island Rd:geo:-80.25987,26.046597
END:VEVENT
BEGIN:VEVENT
DTSTART;TZID=UTC:20260930T230000
DTEND;TZID=UTC:20261001T010000
DTSTAMP:20260417T211214
CREATED:20260117T131639Z
LAST-MODIFIED:20260411T135959Z
UID:10009201-1790809200-1790816400@zushislist.com
SUMMARY:LGBTQ+ Persecution during the Nazi Era
DESCRIPTION:This program explores the systematic persecution of LGBTQ+ individuals under the Nazi regime\, with a focus on Paragraph 175 and the targeting of gay men and other gender and sexual minorities. Through historical context and survivor narratives\, participants will examine how prejudice was codified into law\, the lasting impact of this persecution\, and why remembering these stories is essential to understanding the full scope of the Holocaust and standing against hatred today.
URL:https://zushislist.com/single-event/lgbtq-persecution-during-the-nazi-era/
LOCATION:David Posnack JCC\, 5850 S Pine Island Rd\, Fort Lauderdale\, FL\, United States
CATEGORIES:Community Event
GEO:26.046597;-80.25987
X-APPLE-STRUCTURED-LOCATION;VALUE=URI;X-ADDRESS=David Posnack JCC 5850 S Pine Island Rd Fort Lauderdale FL United States;X-APPLE-RADIUS=500;X-TITLE=5850 S Pine Island Rd:geo:-80.25987,26.046597
END:VEVENT
BEGIN:VEVENT
DTSTART;TZID=UTC:20261206T190000
DTEND;TZID=UTC:20261206T220000
DTSTAMP:20260417T211214
CREATED:20251220T124658Z
LAST-MODIFIED:20260411T140000Z
UID:10008689-1796583600-1796594400@zushislist.com
SUMMARY:Hanukkah Family Program
DESCRIPTION:Hanukkah program with culinary\, crafts and fun activities for the whole family!
URL:https://zushislist.com/single-event/hanukkah-family-program/
LOCATION:David Posnack JCC\, 5850 S Pine Island Rd\, Fort Lauderdale\, FL\, United States
CATEGORIES:Community Event
GEO:26.046597;-80.25987
X-APPLE-STRUCTURED-LOCATION;VALUE=URI;X-ADDRESS=David Posnack JCC 5850 S Pine Island Rd Fort Lauderdale FL United States;X-APPLE-RADIUS=500;X-TITLE=5850 S Pine Island Rd:geo:-80.25987,26.046597
END:VEVENT
END:VCALENDAR