BEGIN:VCALENDAR
VERSION:2.0
PRODID:-//Zushi&#039;s List - ECPv6.15.20//NONSGML v1.0//EN
CALSCALE:GREGORIAN
METHOD:PUBLISH
X-ORIGINAL-URL:https://zushislist.com
X-WR-CALDESC:Events for Zushi&#039;s List
REFRESH-INTERVAL;VALUE=DURATION:PT1H
X-Robots-Tag:noindex
X-PUBLISHED-TTL:PT1H
BEGIN:VTIMEZONE
TZID:America/New_York
BEGIN:DAYLIGHT
TZOFFSETFROM:-0500
TZOFFSETTO:-0400
TZNAME:EDT
DTSTART:20250309T070000
END:DAYLIGHT
BEGIN:STANDARD
TZOFFSETFROM:-0400
TZOFFSETTO:-0500
TZNAME:EST
DTSTART:20251102T060000
END:STANDARD
BEGIN:DAYLIGHT
TZOFFSETFROM:-0500
TZOFFSETTO:-0400
TZNAME:EDT
DTSTART:20260308T070000
END:DAYLIGHT
BEGIN:STANDARD
TZOFFSETFROM:-0400
TZOFFSETTO:-0500
TZNAME:EST
DTSTART:20261101T060000
END:STANDARD
BEGIN:DAYLIGHT
TZOFFSETFROM:-0500
TZOFFSETTO:-0400
TZNAME:EDT
DTSTART:20270314T070000
END:DAYLIGHT
BEGIN:STANDARD
TZOFFSETFROM:-0400
TZOFFSETTO:-0500
TZNAME:EST
DTSTART:20271107T060000
END:STANDARD
END:VTIMEZONE
BEGIN:VEVENT
DTSTART;TZID=America/New_York:20260327T190000
DTEND;TZID=America/New_York:20260327T190000
DTSTAMP:20260420T135708
CREATED:20260321T104439Z
LAST-MODIFIED:20260321T104439Z
UID:10011858-1774638000-1774638000@zushislist.com
SUMMARY:Shabbat Illuminated: Under the Stars at Beth Torah
DESCRIPTION:REGISTER
URL:https://zushislist.com/single-event/shabbat-illuminated-under-the-stars-at-beth-torah/
LOCATION:Mars Family Field\, 20350 NE 26th Ave\, Ojus\, FL\, United States
CATEGORIES:Shabbat
GEO:25.963904;-80.149637
X-APPLE-STRUCTURED-LOCATION;VALUE=URI;X-ADDRESS=Mars Family Field 20350 NE 26th Ave Ojus FL United States;X-APPLE-RADIUS=500;X-TITLE=20350 NE 26th Ave:geo:-80.149637,25.963904
END:VEVENT
END:VCALENDAR