BEGIN:VCALENDAR
VERSION:2.0
PRODID:-//Zushi&#039;s List - ECPv6.15.20//NONSGML v1.0//EN
CALSCALE:GREGORIAN
METHOD:PUBLISH
X-WR-CALNAME:Zushi&#039;s List
X-ORIGINAL-URL:https://zushislist.com
X-WR-CALDESC:Events for Zushi&#039;s List
REFRESH-INTERVAL;VALUE=DURATION:PT1H
X-Robots-Tag:noindex
X-PUBLISHED-TTL:PT1H
BEGIN:VTIMEZONE
TZID:America/New_York
BEGIN:DAYLIGHT
TZOFFSETFROM:-0500
TZOFFSETTO:-0400
TZNAME:EDT
DTSTART:20250309T070000
END:DAYLIGHT
BEGIN:STANDARD
TZOFFSETFROM:-0400
TZOFFSETTO:-0500
TZNAME:EST
DTSTART:20251102T060000
END:STANDARD
BEGIN:DAYLIGHT
TZOFFSETFROM:-0500
TZOFFSETTO:-0400
TZNAME:EDT
DTSTART:20260308T070000
END:DAYLIGHT
BEGIN:STANDARD
TZOFFSETFROM:-0400
TZOFFSETTO:-0500
TZNAME:EST
DTSTART:20261101T060000
END:STANDARD
BEGIN:DAYLIGHT
TZOFFSETFROM:-0500
TZOFFSETTO:-0400
TZNAME:EDT
DTSTART:20270314T070000
END:DAYLIGHT
BEGIN:STANDARD
TZOFFSETFROM:-0400
TZOFFSETTO:-0500
TZNAME:EST
DTSTART:20271107T060000
END:STANDARD
END:VTIMEZONE
BEGIN:VEVENT
DTSTART;TZID=America/New_York:20260421T180000
DTEND;TZID=America/New_York:20260421T180000
DTSTAMP:20260418T080814
CREATED:20260418T111302Z
LAST-MODIFIED:20260418T111302Z
UID:10014530-1776794400-1776794400@zushislist.com
SUMMARY:Ulpan Class
DESCRIPTION:
URL:https://zushislist.com/single-event/ulpan-class-24/
LOCATION:Sneider Boardroom
CATEGORIES:Adult Learning
END:VEVENT
BEGIN:VEVENT
DTSTART;TZID=America/New_York:20260427T193000
DTEND;TZID=America/New_York:20260427T193000
DTSTAMP:20260418T080814
CREATED:20260404T104525Z
LAST-MODIFIED:20260411T110028Z
UID:10013584-1777318200-1777318200@zushislist.com
SUMMARY:Adult Education
DESCRIPTION:REGISTER  \n 
URL:https://zushislist.com/single-event/adult-education-17/
LOCATION:Sneider Boardroom
CATEGORIES:Adult Learning
END:VEVENT
END:VCALENDAR