BEGIN:VCALENDAR
VERSION:2.0
PRODID:-//Zushi&#039;s List - ECPv6.15.20//NONSGML v1.0//EN
CALSCALE:GREGORIAN
METHOD:PUBLISH
X-ORIGINAL-URL:https://zushislist.com
X-WR-CALDESC:Events for Zushi&#039;s List
REFRESH-INTERVAL;VALUE=DURATION:PT1H
X-Robots-Tag:noindex
X-PUBLISHED-TTL:PT1H
BEGIN:VTIMEZONE
TZID:UTC
BEGIN:STANDARD
TZOFFSETFROM:+0000
TZOFFSETTO:+0000
TZNAME:UTC
DTSTART:20250101T000000
END:STANDARD
END:VTIMEZONE
BEGIN:VEVENT
DTSTART;TZID=UTC:20260509T140000
DTEND;TZID=UTC:20260509T153000
DTSTAMP:20260420T114013
CREATED:20251122T122822Z
LAST-MODIFIED:20260418T141253Z
UID:10008162-1778335200-1778340600@zushislist.com
SUMMARY:2nd Saturday Shabbatstock & Shuk
DESCRIPTION:Join us for 2nd Saturday Shabbatstock & Shuk\, a morning filled with music\, worship\, and community. Experience an uplifting service featuring JewGrass Revival\, blending tradition with soulful sounds that inspire connection and joy.\nDon’t miss The Shuk Farmers Market (9am – 1pm) and our guest coffee truck on the lawn!
URL:https://zushislist.com/single-event/2nd-saturday-shabbatstock-shuk-6/
LOCATION:Temple Beth El of Hollywood\, 1351 S 14th Ave\, Hollywood\, FL\, United States
CATEGORIES:Community Event
GEO:26.000317;-80.134622
X-APPLE-STRUCTURED-LOCATION;VALUE=URI;X-ADDRESS=Temple Beth El of Hollywood 1351 S 14th Ave Hollywood FL United States;X-APPLE-RADIUS=500;X-TITLE=1351 S 14th Ave:geo:-80.134622,26.000317
END:VEVENT
END:VCALENDAR