BEGIN:VCALENDAR
VERSION:2.0
PRODID:-//Zushi&#039;s List - ECPv6.15.20//NONSGML v1.0//EN
CALSCALE:GREGORIAN
METHOD:PUBLISH
X-ORIGINAL-URL:https://zushislist.com
X-WR-CALDESC:Events for Zushi&#039;s List
REFRESH-INTERVAL;VALUE=DURATION:PT1H
X-Robots-Tag:noindex
X-PUBLISHED-TTL:PT1H
BEGIN:VTIMEZONE
TZID:America/New_York
BEGIN:DAYLIGHT
TZOFFSETFROM:-0500
TZOFFSETTO:-0400
TZNAME:EDT
DTSTART:20250309T070000
END:DAYLIGHT
BEGIN:STANDARD
TZOFFSETFROM:-0400
TZOFFSETTO:-0500
TZNAME:EST
DTSTART:20251102T060000
END:STANDARD
BEGIN:DAYLIGHT
TZOFFSETFROM:-0500
TZOFFSETTO:-0400
TZNAME:EDT
DTSTART:20260308T070000
END:DAYLIGHT
BEGIN:STANDARD
TZOFFSETFROM:-0400
TZOFFSETTO:-0500
TZNAME:EST
DTSTART:20261101T060000
END:STANDARD
BEGIN:DAYLIGHT
TZOFFSETFROM:-0500
TZOFFSETTO:-0400
TZNAME:EDT
DTSTART:20270314T070000
END:DAYLIGHT
BEGIN:STANDARD
TZOFFSETFROM:-0400
TZOFFSETTO:-0500
TZNAME:EST
DTSTART:20271107T060000
END:STANDARD
END:VTIMEZONE
BEGIN:VEVENT
DTSTART;TZID=America/New_York:20260329T150000
DTEND;TZID=America/New_York:20260329T170000
DTSTAMP:20260421T062634
CREATED:20260327T180122Z
LAST-MODIFIED:20260327T180122Z
UID:10013430-1774796400-1774803600@zushislist.com
SUMMARY:South Dade Community Women's Seder
DESCRIPTION:We can’t wait to celebrate Passover with you! We’ll see you Sunday from 3-5 p.m. at Temple Judea in Coral Gables. There’s still time to register! \nTake your seat at the table \nSave the date\, March 29\, 2026 | 3-5 PM | Temple Judea \nDON’T FORGET TO SIGN UP AND JOIN US \n 
URL:https://zushislist.com/single-event/south-dade-community-womens-seder/
LOCATION:Temple Judea\, 5500 Granada Blvd FL\, Florida\, 32176\, United States
CATEGORIES:Women
ATTACH;FMTTYPE=image/png:https://zushislist.com/wp-content/uploads/2026/03/Women-seder.png
END:VEVENT
END:VCALENDAR