BEGIN:VCALENDAR
VERSION:2.0
PRODID:-//Zushi&#039;s List - ECPv6.15.20//NONSGML v1.0//EN
CALSCALE:GREGORIAN
METHOD:PUBLISH
X-WR-CALNAME:Zushi&#039;s List
X-ORIGINAL-URL:https://zushislist.com
X-WR-CALDESC:Events for Zushi&#039;s List
REFRESH-INTERVAL;VALUE=DURATION:PT1H
X-Robots-Tag:noindex
X-PUBLISHED-TTL:PT1H
BEGIN:VTIMEZONE
TZID:America/New_York
BEGIN:DAYLIGHT
TZOFFSETFROM:-0500
TZOFFSETTO:-0400
TZNAME:EDT
DTSTART:20290311T070000
END:DAYLIGHT
BEGIN:STANDARD
TZOFFSETFROM:-0400
TZOFFSETTO:-0500
TZNAME:EST
DTSTART:20291104T060000
END:STANDARD
BEGIN:DAYLIGHT
TZOFFSETFROM:-0500
TZOFFSETTO:-0400
TZNAME:EDT
DTSTART:20300310T070000
END:DAYLIGHT
BEGIN:STANDARD
TZOFFSETFROM:-0400
TZOFFSETTO:-0500
TZNAME:EST
DTSTART:20301103T060000
END:STANDARD
BEGIN:DAYLIGHT
TZOFFSETFROM:-0500
TZOFFSETTO:-0400
TZNAME:EDT
DTSTART:20310309T070000
END:DAYLIGHT
BEGIN:STANDARD
TZOFFSETFROM:-0400
TZOFFSETTO:-0500
TZNAME:EST
DTSTART:20311102T060000
END:STANDARD
BEGIN:DAYLIGHT
TZOFFSETFROM:-0500
TZOFFSETTO:-0400
TZNAME:EDT
DTSTART:20320314T070000
END:DAYLIGHT
BEGIN:STANDARD
TZOFFSETFROM:-0400
TZOFFSETTO:-0500
TZNAME:EST
DTSTART:20321107T060000
END:STANDARD
END:VTIMEZONE
BEGIN:VEVENT
DTSTART;TZID=America/New_York:20300819T200000
DTEND;TZID=America/New_York:20300819T220000
DTSTAMP:20260424T094607
CREATED:20260422T171028Z
LAST-MODIFIED:20260422T171028Z
UID:10014860-1913400000-1913407200@zushislist.com
SUMMARY:MONDAY NIGHT LIVE FOR COLLEGE STUDENTS
DESCRIPTION:YEHUDI SOFLO CAMPUSES PRESENTS \nMONDAY NIGHT LIVE FOR COLLEGE STUDENTS \nVIBE WITH AWESOME PEOPLE \nEVERY MONDAY 8-10PM \nDYNAMIC SPEAKERS AND DISCUSSIONS \nFREE  DINNER AND DESSERT \n@THE HUB | 3790 ROYAL PALM AVE
URL:https://zushislist.com/single-event/monday-night-live-for-college-students/2030-08-19/
LOCATION:The Hub\, 3790 ROYAL PALM AVE\, United States
CATEGORIES:Youth
ATTACH;FMTTYPE=image/png:https://zushislist.com/wp-content/uploads/2026/04/Every-monday-night.png
END:VEVENT
BEGIN:VEVENT
DTSTART;TZID=America/New_York:20300826T200000
DTEND;TZID=America/New_York:20300826T220000
DTSTAMP:20260424T094607
CREATED:20260422T171028Z
LAST-MODIFIED:20260422T171028Z
UID:10014861-1914004800-1914012000@zushislist.com
SUMMARY:MONDAY NIGHT LIVE FOR COLLEGE STUDENTS
DESCRIPTION:YEHUDI SOFLO CAMPUSES PRESENTS \nMONDAY NIGHT LIVE FOR COLLEGE STUDENTS \nVIBE WITH AWESOME PEOPLE \nEVERY MONDAY 8-10PM \nDYNAMIC SPEAKERS AND DISCUSSIONS \nFREE  DINNER AND DESSERT \n@THE HUB | 3790 ROYAL PALM AVE
URL:https://zushislist.com/single-event/monday-night-live-for-college-students/2030-08-26/
LOCATION:The Hub\, 3790 ROYAL PALM AVE\, United States
CATEGORIES:Youth
ATTACH;FMTTYPE=image/png:https://zushislist.com/wp-content/uploads/2026/04/Every-monday-night.png
END:VEVENT
BEGIN:VEVENT
DTSTART;TZID=America/New_York:20300902T200000
DTEND;TZID=America/New_York:20300902T220000
DTSTAMP:20260424T094607
CREATED:20260422T171028Z
LAST-MODIFIED:20260422T171028Z
UID:10014862-1914609600-1914616800@zushislist.com
SUMMARY:MONDAY NIGHT LIVE FOR COLLEGE STUDENTS
DESCRIPTION:YEHUDI SOFLO CAMPUSES PRESENTS \nMONDAY NIGHT LIVE FOR COLLEGE STUDENTS \nVIBE WITH AWESOME PEOPLE \nEVERY MONDAY 8-10PM \nDYNAMIC SPEAKERS AND DISCUSSIONS \nFREE  DINNER AND DESSERT \n@THE HUB | 3790 ROYAL PALM AVE
URL:https://zushislist.com/single-event/monday-night-live-for-college-students/2030-09-02/
LOCATION:The Hub\, 3790 ROYAL PALM AVE\, United States
CATEGORIES:Youth
ATTACH;FMTTYPE=image/png:https://zushislist.com/wp-content/uploads/2026/04/Every-monday-night.png
END:VEVENT
BEGIN:VEVENT
DTSTART;TZID=America/New_York:20300909T200000
DTEND;TZID=America/New_York:20300909T220000
DTSTAMP:20260424T094607
CREATED:20260422T171028Z
LAST-MODIFIED:20260422T171028Z
UID:10014863-1915214400-1915221600@zushislist.com
SUMMARY:MONDAY NIGHT LIVE FOR COLLEGE STUDENTS
DESCRIPTION:YEHUDI SOFLO CAMPUSES PRESENTS \nMONDAY NIGHT LIVE FOR COLLEGE STUDENTS \nVIBE WITH AWESOME PEOPLE \nEVERY MONDAY 8-10PM \nDYNAMIC SPEAKERS AND DISCUSSIONS \nFREE  DINNER AND DESSERT \n@THE HUB | 3790 ROYAL PALM AVE
URL:https://zushislist.com/single-event/monday-night-live-for-college-students/2030-09-09/
LOCATION:The Hub\, 3790 ROYAL PALM AVE\, United States
CATEGORIES:Youth
ATTACH;FMTTYPE=image/png:https://zushislist.com/wp-content/uploads/2026/04/Every-monday-night.png
END:VEVENT
BEGIN:VEVENT
DTSTART;TZID=America/New_York:20300916T200000
DTEND;TZID=America/New_York:20300916T220000
DTSTAMP:20260424T094607
CREATED:20260422T171028Z
LAST-MODIFIED:20260422T171028Z
UID:10014864-1915819200-1915826400@zushislist.com
SUMMARY:MONDAY NIGHT LIVE FOR COLLEGE STUDENTS
DESCRIPTION:YEHUDI SOFLO CAMPUSES PRESENTS \nMONDAY NIGHT LIVE FOR COLLEGE STUDENTS \nVIBE WITH AWESOME PEOPLE \nEVERY MONDAY 8-10PM \nDYNAMIC SPEAKERS AND DISCUSSIONS \nFREE  DINNER AND DESSERT \n@THE HUB | 3790 ROYAL PALM AVE
URL:https://zushislist.com/single-event/monday-night-live-for-college-students/2030-09-16/
LOCATION:The Hub\, 3790 ROYAL PALM AVE\, United States
CATEGORIES:Youth
ATTACH;FMTTYPE=image/png:https://zushislist.com/wp-content/uploads/2026/04/Every-monday-night.png
END:VEVENT
BEGIN:VEVENT
DTSTART;TZID=America/New_York:20300923T200000
DTEND;TZID=America/New_York:20300923T220000
DTSTAMP:20260424T094607
CREATED:20260422T171028Z
LAST-MODIFIED:20260422T171028Z
UID:10014865-1916424000-1916431200@zushislist.com
SUMMARY:MONDAY NIGHT LIVE FOR COLLEGE STUDENTS
DESCRIPTION:YEHUDI SOFLO CAMPUSES PRESENTS \nMONDAY NIGHT LIVE FOR COLLEGE STUDENTS \nVIBE WITH AWESOME PEOPLE \nEVERY MONDAY 8-10PM \nDYNAMIC SPEAKERS AND DISCUSSIONS \nFREE  DINNER AND DESSERT \n@THE HUB | 3790 ROYAL PALM AVE
URL:https://zushislist.com/single-event/monday-night-live-for-college-students/2030-09-23/
LOCATION:The Hub\, 3790 ROYAL PALM AVE\, United States
CATEGORIES:Youth
ATTACH;FMTTYPE=image/png:https://zushislist.com/wp-content/uploads/2026/04/Every-monday-night.png
END:VEVENT
BEGIN:VEVENT
DTSTART;TZID=America/New_York:20300930T200000
DTEND;TZID=America/New_York:20300930T220000
DTSTAMP:20260424T094607
CREATED:20260422T171028Z
LAST-MODIFIED:20260422T171028Z
UID:10014866-1917028800-1917036000@zushislist.com
SUMMARY:MONDAY NIGHT LIVE FOR COLLEGE STUDENTS
DESCRIPTION:YEHUDI SOFLO CAMPUSES PRESENTS \nMONDAY NIGHT LIVE FOR COLLEGE STUDENTS \nVIBE WITH AWESOME PEOPLE \nEVERY MONDAY 8-10PM \nDYNAMIC SPEAKERS AND DISCUSSIONS \nFREE  DINNER AND DESSERT \n@THE HUB | 3790 ROYAL PALM AVE
URL:https://zushislist.com/single-event/monday-night-live-for-college-students/2030-09-30/
LOCATION:The Hub\, 3790 ROYAL PALM AVE\, United States
CATEGORIES:Youth
ATTACH;FMTTYPE=image/png:https://zushislist.com/wp-content/uploads/2026/04/Every-monday-night.png
END:VEVENT
BEGIN:VEVENT
DTSTART;TZID=America/New_York:20301007T200000
DTEND;TZID=America/New_York:20301007T220000
DTSTAMP:20260424T094607
CREATED:20260422T171028Z
LAST-MODIFIED:20260422T171028Z
UID:10014867-1917633600-1917640800@zushislist.com
SUMMARY:MONDAY NIGHT LIVE FOR COLLEGE STUDENTS
DESCRIPTION:YEHUDI SOFLO CAMPUSES PRESENTS \nMONDAY NIGHT LIVE FOR COLLEGE STUDENTS \nVIBE WITH AWESOME PEOPLE \nEVERY MONDAY 8-10PM \nDYNAMIC SPEAKERS AND DISCUSSIONS \nFREE  DINNER AND DESSERT \n@THE HUB | 3790 ROYAL PALM AVE
URL:https://zushislist.com/single-event/monday-night-live-for-college-students/2030-10-07/
LOCATION:The Hub\, 3790 ROYAL PALM AVE\, United States
CATEGORIES:Youth
ATTACH;FMTTYPE=image/png:https://zushislist.com/wp-content/uploads/2026/04/Every-monday-night.png
END:VEVENT
BEGIN:VEVENT
DTSTART;TZID=America/New_York:20301014T200000
DTEND;TZID=America/New_York:20301014T220000
DTSTAMP:20260424T094607
CREATED:20260422T171028Z
LAST-MODIFIED:20260422T171028Z
UID:10014868-1918238400-1918245600@zushislist.com
SUMMARY:MONDAY NIGHT LIVE FOR COLLEGE STUDENTS
DESCRIPTION:YEHUDI SOFLO CAMPUSES PRESENTS \nMONDAY NIGHT LIVE FOR COLLEGE STUDENTS \nVIBE WITH AWESOME PEOPLE \nEVERY MONDAY 8-10PM \nDYNAMIC SPEAKERS AND DISCUSSIONS \nFREE  DINNER AND DESSERT \n@THE HUB | 3790 ROYAL PALM AVE
URL:https://zushislist.com/single-event/monday-night-live-for-college-students/2030-10-14/
LOCATION:The Hub\, 3790 ROYAL PALM AVE\, United States
CATEGORIES:Youth
ATTACH;FMTTYPE=image/png:https://zushislist.com/wp-content/uploads/2026/04/Every-monday-night.png
END:VEVENT
BEGIN:VEVENT
DTSTART;TZID=America/New_York:20301021T200000
DTEND;TZID=America/New_York:20301021T220000
DTSTAMP:20260424T094607
CREATED:20260422T171028Z
LAST-MODIFIED:20260422T171028Z
UID:10014869-1918843200-1918850400@zushislist.com
SUMMARY:MONDAY NIGHT LIVE FOR COLLEGE STUDENTS
DESCRIPTION:YEHUDI SOFLO CAMPUSES PRESENTS \nMONDAY NIGHT LIVE FOR COLLEGE STUDENTS \nVIBE WITH AWESOME PEOPLE \nEVERY MONDAY 8-10PM \nDYNAMIC SPEAKERS AND DISCUSSIONS \nFREE  DINNER AND DESSERT \n@THE HUB | 3790 ROYAL PALM AVE
URL:https://zushislist.com/single-event/monday-night-live-for-college-students/2030-10-21/
LOCATION:The Hub\, 3790 ROYAL PALM AVE\, United States
CATEGORIES:Youth
ATTACH;FMTTYPE=image/png:https://zushislist.com/wp-content/uploads/2026/04/Every-monday-night.png
END:VEVENT
BEGIN:VEVENT
DTSTART;TZID=America/New_York:20301028T200000
DTEND;TZID=America/New_York:20301028T220000
DTSTAMP:20260424T094607
CREATED:20260422T171028Z
LAST-MODIFIED:20260422T171028Z
UID:10014870-1919448000-1919455200@zushislist.com
SUMMARY:MONDAY NIGHT LIVE FOR COLLEGE STUDENTS
DESCRIPTION:YEHUDI SOFLO CAMPUSES PRESENTS \nMONDAY NIGHT LIVE FOR COLLEGE STUDENTS \nVIBE WITH AWESOME PEOPLE \nEVERY MONDAY 8-10PM \nDYNAMIC SPEAKERS AND DISCUSSIONS \nFREE  DINNER AND DESSERT \n@THE HUB | 3790 ROYAL PALM AVE
URL:https://zushislist.com/single-event/monday-night-live-for-college-students/2030-10-28/
LOCATION:The Hub\, 3790 ROYAL PALM AVE\, United States
CATEGORIES:Youth
ATTACH;FMTTYPE=image/png:https://zushislist.com/wp-content/uploads/2026/04/Every-monday-night.png
END:VEVENT
BEGIN:VEVENT
DTSTART;TZID=America/New_York:20301104T200000
DTEND;TZID=America/New_York:20301104T220000
DTSTAMP:20260424T094607
CREATED:20260422T171028Z
LAST-MODIFIED:20260422T171028Z
UID:10014871-1920052800-1920060000@zushislist.com
SUMMARY:MONDAY NIGHT LIVE FOR COLLEGE STUDENTS
DESCRIPTION:YEHUDI SOFLO CAMPUSES PRESENTS \nMONDAY NIGHT LIVE FOR COLLEGE STUDENTS \nVIBE WITH AWESOME PEOPLE \nEVERY MONDAY 8-10PM \nDYNAMIC SPEAKERS AND DISCUSSIONS \nFREE  DINNER AND DESSERT \n@THE HUB | 3790 ROYAL PALM AVE
URL:https://zushislist.com/single-event/monday-night-live-for-college-students/2030-11-04/
LOCATION:The Hub\, 3790 ROYAL PALM AVE\, United States
CATEGORIES:Youth
ATTACH;FMTTYPE=image/png:https://zushislist.com/wp-content/uploads/2026/04/Every-monday-night.png
END:VEVENT
BEGIN:VEVENT
DTSTART;TZID=America/New_York:20301111T200000
DTEND;TZID=America/New_York:20301111T220000
DTSTAMP:20260424T094607
CREATED:20260422T171028Z
LAST-MODIFIED:20260422T171028Z
UID:10014872-1920657600-1920664800@zushislist.com
SUMMARY:MONDAY NIGHT LIVE FOR COLLEGE STUDENTS
DESCRIPTION:YEHUDI SOFLO CAMPUSES PRESENTS \nMONDAY NIGHT LIVE FOR COLLEGE STUDENTS \nVIBE WITH AWESOME PEOPLE \nEVERY MONDAY 8-10PM \nDYNAMIC SPEAKERS AND DISCUSSIONS \nFREE  DINNER AND DESSERT \n@THE HUB | 3790 ROYAL PALM AVE
URL:https://zushislist.com/single-event/monday-night-live-for-college-students/2030-11-11/
LOCATION:The Hub\, 3790 ROYAL PALM AVE\, United States
CATEGORIES:Youth
ATTACH;FMTTYPE=image/png:https://zushislist.com/wp-content/uploads/2026/04/Every-monday-night.png
END:VEVENT
BEGIN:VEVENT
DTSTART;TZID=America/New_York:20301118T200000
DTEND;TZID=America/New_York:20301118T220000
DTSTAMP:20260424T094607
CREATED:20260422T171028Z
LAST-MODIFIED:20260422T171028Z
UID:10014873-1921262400-1921269600@zushislist.com
SUMMARY:MONDAY NIGHT LIVE FOR COLLEGE STUDENTS
DESCRIPTION:YEHUDI SOFLO CAMPUSES PRESENTS \nMONDAY NIGHT LIVE FOR COLLEGE STUDENTS \nVIBE WITH AWESOME PEOPLE \nEVERY MONDAY 8-10PM \nDYNAMIC SPEAKERS AND DISCUSSIONS \nFREE  DINNER AND DESSERT \n@THE HUB | 3790 ROYAL PALM AVE
URL:https://zushislist.com/single-event/monday-night-live-for-college-students/2030-11-18/
LOCATION:The Hub\, 3790 ROYAL PALM AVE\, United States
CATEGORIES:Youth
ATTACH;FMTTYPE=image/png:https://zushislist.com/wp-content/uploads/2026/04/Every-monday-night.png
END:VEVENT
BEGIN:VEVENT
DTSTART;TZID=America/New_York:20301125T200000
DTEND;TZID=America/New_York:20301125T220000
DTSTAMP:20260424T094607
CREATED:20260422T171028Z
LAST-MODIFIED:20260422T171028Z
UID:10014874-1921867200-1921874400@zushislist.com
SUMMARY:MONDAY NIGHT LIVE FOR COLLEGE STUDENTS
DESCRIPTION:YEHUDI SOFLO CAMPUSES PRESENTS \nMONDAY NIGHT LIVE FOR COLLEGE STUDENTS \nVIBE WITH AWESOME PEOPLE \nEVERY MONDAY 8-10PM \nDYNAMIC SPEAKERS AND DISCUSSIONS \nFREE  DINNER AND DESSERT \n@THE HUB | 3790 ROYAL PALM AVE
URL:https://zushislist.com/single-event/monday-night-live-for-college-students/2030-11-25/
LOCATION:The Hub\, 3790 ROYAL PALM AVE\, United States
CATEGORIES:Youth
ATTACH;FMTTYPE=image/png:https://zushislist.com/wp-content/uploads/2026/04/Every-monday-night.png
END:VEVENT
BEGIN:VEVENT
DTSTART;TZID=America/New_York:20301202T200000
DTEND;TZID=America/New_York:20301202T220000
DTSTAMP:20260424T094607
CREATED:20260422T171028Z
LAST-MODIFIED:20260422T171028Z
UID:10014875-1922472000-1922479200@zushislist.com
SUMMARY:MONDAY NIGHT LIVE FOR COLLEGE STUDENTS
DESCRIPTION:YEHUDI SOFLO CAMPUSES PRESENTS \nMONDAY NIGHT LIVE FOR COLLEGE STUDENTS \nVIBE WITH AWESOME PEOPLE \nEVERY MONDAY 8-10PM \nDYNAMIC SPEAKERS AND DISCUSSIONS \nFREE  DINNER AND DESSERT \n@THE HUB | 3790 ROYAL PALM AVE
URL:https://zushislist.com/single-event/monday-night-live-for-college-students/2030-12-02/
LOCATION:The Hub\, 3790 ROYAL PALM AVE\, United States
CATEGORIES:Youth
ATTACH;FMTTYPE=image/png:https://zushislist.com/wp-content/uploads/2026/04/Every-monday-night.png
END:VEVENT
BEGIN:VEVENT
DTSTART;TZID=America/New_York:20301209T200000
DTEND;TZID=America/New_York:20301209T220000
DTSTAMP:20260424T094607
CREATED:20260422T171028Z
LAST-MODIFIED:20260422T171028Z
UID:10014876-1923076800-1923084000@zushislist.com
SUMMARY:MONDAY NIGHT LIVE FOR COLLEGE STUDENTS
DESCRIPTION:YEHUDI SOFLO CAMPUSES PRESENTS \nMONDAY NIGHT LIVE FOR COLLEGE STUDENTS \nVIBE WITH AWESOME PEOPLE \nEVERY MONDAY 8-10PM \nDYNAMIC SPEAKERS AND DISCUSSIONS \nFREE  DINNER AND DESSERT \n@THE HUB | 3790 ROYAL PALM AVE
URL:https://zushislist.com/single-event/monday-night-live-for-college-students/2030-12-09/
LOCATION:The Hub\, 3790 ROYAL PALM AVE\, United States
CATEGORIES:Youth
ATTACH;FMTTYPE=image/png:https://zushislist.com/wp-content/uploads/2026/04/Every-monday-night.png
END:VEVENT
BEGIN:VEVENT
DTSTART;TZID=America/New_York:20301216T200000
DTEND;TZID=America/New_York:20301216T220000
DTSTAMP:20260424T094607
CREATED:20260422T171028Z
LAST-MODIFIED:20260422T171028Z
UID:10014877-1923681600-1923688800@zushislist.com
SUMMARY:MONDAY NIGHT LIVE FOR COLLEGE STUDENTS
DESCRIPTION:YEHUDI SOFLO CAMPUSES PRESENTS \nMONDAY NIGHT LIVE FOR COLLEGE STUDENTS \nVIBE WITH AWESOME PEOPLE \nEVERY MONDAY 8-10PM \nDYNAMIC SPEAKERS AND DISCUSSIONS \nFREE  DINNER AND DESSERT \n@THE HUB | 3790 ROYAL PALM AVE
URL:https://zushislist.com/single-event/monday-night-live-for-college-students/2030-12-16/
LOCATION:The Hub\, 3790 ROYAL PALM AVE\, United States
CATEGORIES:Youth
ATTACH;FMTTYPE=image/png:https://zushislist.com/wp-content/uploads/2026/04/Every-monday-night.png
END:VEVENT
BEGIN:VEVENT
DTSTART;TZID=America/New_York:20301223T200000
DTEND;TZID=America/New_York:20301223T220000
DTSTAMP:20260424T094607
CREATED:20260422T171028Z
LAST-MODIFIED:20260422T171028Z
UID:10014878-1924286400-1924293600@zushislist.com
SUMMARY:MONDAY NIGHT LIVE FOR COLLEGE STUDENTS
DESCRIPTION:YEHUDI SOFLO CAMPUSES PRESENTS \nMONDAY NIGHT LIVE FOR COLLEGE STUDENTS \nVIBE WITH AWESOME PEOPLE \nEVERY MONDAY 8-10PM \nDYNAMIC SPEAKERS AND DISCUSSIONS \nFREE  DINNER AND DESSERT \n@THE HUB | 3790 ROYAL PALM AVE
URL:https://zushislist.com/single-event/monday-night-live-for-college-students/2030-12-23/
LOCATION:The Hub\, 3790 ROYAL PALM AVE\, United States
CATEGORIES:Youth
ATTACH;FMTTYPE=image/png:https://zushislist.com/wp-content/uploads/2026/04/Every-monday-night.png
END:VEVENT
BEGIN:VEVENT
DTSTART;TZID=America/New_York:20301230T200000
DTEND;TZID=America/New_York:20301230T220000
DTSTAMP:20260424T094607
CREATED:20260422T171028Z
LAST-MODIFIED:20260422T171028Z
UID:10014879-1924891200-1924898400@zushislist.com
SUMMARY:MONDAY NIGHT LIVE FOR COLLEGE STUDENTS
DESCRIPTION:YEHUDI SOFLO CAMPUSES PRESENTS \nMONDAY NIGHT LIVE FOR COLLEGE STUDENTS \nVIBE WITH AWESOME PEOPLE \nEVERY MONDAY 8-10PM \nDYNAMIC SPEAKERS AND DISCUSSIONS \nFREE  DINNER AND DESSERT \n@THE HUB | 3790 ROYAL PALM AVE
URL:https://zushislist.com/single-event/monday-night-live-for-college-students/2030-12-30/
LOCATION:The Hub\, 3790 ROYAL PALM AVE\, United States
CATEGORIES:Youth
ATTACH;FMTTYPE=image/png:https://zushislist.com/wp-content/uploads/2026/04/Every-monday-night.png
END:VEVENT
BEGIN:VEVENT
DTSTART;TZID=America/New_York:20310106T200000
DTEND;TZID=America/New_York:20310106T220000
DTSTAMP:20260424T094607
CREATED:20260422T171028Z
LAST-MODIFIED:20260422T171028Z
UID:10014880-1925496000-1925503200@zushislist.com
SUMMARY:MONDAY NIGHT LIVE FOR COLLEGE STUDENTS
DESCRIPTION:YEHUDI SOFLO CAMPUSES PRESENTS \nMONDAY NIGHT LIVE FOR COLLEGE STUDENTS \nVIBE WITH AWESOME PEOPLE \nEVERY MONDAY 8-10PM \nDYNAMIC SPEAKERS AND DISCUSSIONS \nFREE  DINNER AND DESSERT \n@THE HUB | 3790 ROYAL PALM AVE
URL:https://zushislist.com/single-event/monday-night-live-for-college-students/2031-01-06/
LOCATION:The Hub\, 3790 ROYAL PALM AVE\, United States
CATEGORIES:Youth
ATTACH;FMTTYPE=image/png:https://zushislist.com/wp-content/uploads/2026/04/Every-monday-night.png
END:VEVENT
BEGIN:VEVENT
DTSTART;TZID=America/New_York:20310113T200000
DTEND;TZID=America/New_York:20310113T220000
DTSTAMP:20260424T094607
CREATED:20260422T171028Z
LAST-MODIFIED:20260422T171028Z
UID:10014881-1926100800-1926108000@zushislist.com
SUMMARY:MONDAY NIGHT LIVE FOR COLLEGE STUDENTS
DESCRIPTION:YEHUDI SOFLO CAMPUSES PRESENTS \nMONDAY NIGHT LIVE FOR COLLEGE STUDENTS \nVIBE WITH AWESOME PEOPLE \nEVERY MONDAY 8-10PM \nDYNAMIC SPEAKERS AND DISCUSSIONS \nFREE  DINNER AND DESSERT \n@THE HUB | 3790 ROYAL PALM AVE
URL:https://zushislist.com/single-event/monday-night-live-for-college-students/2031-01-13/
LOCATION:The Hub\, 3790 ROYAL PALM AVE\, United States
CATEGORIES:Youth
ATTACH;FMTTYPE=image/png:https://zushislist.com/wp-content/uploads/2026/04/Every-monday-night.png
END:VEVENT
BEGIN:VEVENT
DTSTART;TZID=America/New_York:20310120T200000
DTEND;TZID=America/New_York:20310120T220000
DTSTAMP:20260424T094607
CREATED:20260422T171028Z
LAST-MODIFIED:20260422T171028Z
UID:10014882-1926705600-1926712800@zushislist.com
SUMMARY:MONDAY NIGHT LIVE FOR COLLEGE STUDENTS
DESCRIPTION:YEHUDI SOFLO CAMPUSES PRESENTS \nMONDAY NIGHT LIVE FOR COLLEGE STUDENTS \nVIBE WITH AWESOME PEOPLE \nEVERY MONDAY 8-10PM \nDYNAMIC SPEAKERS AND DISCUSSIONS \nFREE  DINNER AND DESSERT \n@THE HUB | 3790 ROYAL PALM AVE
URL:https://zushislist.com/single-event/monday-night-live-for-college-students/2031-01-20/
LOCATION:The Hub\, 3790 ROYAL PALM AVE\, United States
CATEGORIES:Youth
ATTACH;FMTTYPE=image/png:https://zushislist.com/wp-content/uploads/2026/04/Every-monday-night.png
END:VEVENT
BEGIN:VEVENT
DTSTART;TZID=America/New_York:20310127T200000
DTEND;TZID=America/New_York:20310127T220000
DTSTAMP:20260424T094607
CREATED:20260422T171028Z
LAST-MODIFIED:20260422T171028Z
UID:10014883-1927310400-1927317600@zushislist.com
SUMMARY:MONDAY NIGHT LIVE FOR COLLEGE STUDENTS
DESCRIPTION:YEHUDI SOFLO CAMPUSES PRESENTS \nMONDAY NIGHT LIVE FOR COLLEGE STUDENTS \nVIBE WITH AWESOME PEOPLE \nEVERY MONDAY 8-10PM \nDYNAMIC SPEAKERS AND DISCUSSIONS \nFREE  DINNER AND DESSERT \n@THE HUB | 3790 ROYAL PALM AVE
URL:https://zushislist.com/single-event/monday-night-live-for-college-students/2031-01-27/
LOCATION:The Hub\, 3790 ROYAL PALM AVE\, United States
CATEGORIES:Youth
ATTACH;FMTTYPE=image/png:https://zushislist.com/wp-content/uploads/2026/04/Every-monday-night.png
END:VEVENT
BEGIN:VEVENT
DTSTART;TZID=America/New_York:20310203T200000
DTEND;TZID=America/New_York:20310203T220000
DTSTAMP:20260424T094607
CREATED:20260422T171028Z
LAST-MODIFIED:20260422T171028Z
UID:10014884-1927915200-1927922400@zushislist.com
SUMMARY:MONDAY NIGHT LIVE FOR COLLEGE STUDENTS
DESCRIPTION:YEHUDI SOFLO CAMPUSES PRESENTS \nMONDAY NIGHT LIVE FOR COLLEGE STUDENTS \nVIBE WITH AWESOME PEOPLE \nEVERY MONDAY 8-10PM \nDYNAMIC SPEAKERS AND DISCUSSIONS \nFREE  DINNER AND DESSERT \n@THE HUB | 3790 ROYAL PALM AVE
URL:https://zushislist.com/single-event/monday-night-live-for-college-students/2031-02-03/
LOCATION:The Hub\, 3790 ROYAL PALM AVE\, United States
CATEGORIES:Youth
ATTACH;FMTTYPE=image/png:https://zushislist.com/wp-content/uploads/2026/04/Every-monday-night.png
END:VEVENT
BEGIN:VEVENT
DTSTART;TZID=America/New_York:20310210T200000
DTEND;TZID=America/New_York:20310210T220000
DTSTAMP:20260424T094607
CREATED:20260422T171028Z
LAST-MODIFIED:20260422T171028Z
UID:10014885-1928520000-1928527200@zushislist.com
SUMMARY:MONDAY NIGHT LIVE FOR COLLEGE STUDENTS
DESCRIPTION:YEHUDI SOFLO CAMPUSES PRESENTS \nMONDAY NIGHT LIVE FOR COLLEGE STUDENTS \nVIBE WITH AWESOME PEOPLE \nEVERY MONDAY 8-10PM \nDYNAMIC SPEAKERS AND DISCUSSIONS \nFREE  DINNER AND DESSERT \n@THE HUB | 3790 ROYAL PALM AVE
URL:https://zushislist.com/single-event/monday-night-live-for-college-students/2031-02-10/
LOCATION:The Hub\, 3790 ROYAL PALM AVE\, United States
CATEGORIES:Youth
ATTACH;FMTTYPE=image/png:https://zushislist.com/wp-content/uploads/2026/04/Every-monday-night.png
END:VEVENT
BEGIN:VEVENT
DTSTART;TZID=America/New_York:20310217T200000
DTEND;TZID=America/New_York:20310217T220000
DTSTAMP:20260424T094607
CREATED:20260422T171028Z
LAST-MODIFIED:20260422T171028Z
UID:10014886-1929124800-1929132000@zushislist.com
SUMMARY:MONDAY NIGHT LIVE FOR COLLEGE STUDENTS
DESCRIPTION:YEHUDI SOFLO CAMPUSES PRESENTS \nMONDAY NIGHT LIVE FOR COLLEGE STUDENTS \nVIBE WITH AWESOME PEOPLE \nEVERY MONDAY 8-10PM \nDYNAMIC SPEAKERS AND DISCUSSIONS \nFREE  DINNER AND DESSERT \n@THE HUB | 3790 ROYAL PALM AVE
URL:https://zushislist.com/single-event/monday-night-live-for-college-students/2031-02-17/
LOCATION:The Hub\, 3790 ROYAL PALM AVE\, United States
CATEGORIES:Youth
ATTACH;FMTTYPE=image/png:https://zushislist.com/wp-content/uploads/2026/04/Every-monday-night.png
END:VEVENT
BEGIN:VEVENT
DTSTART;TZID=America/New_York:20310224T200000
DTEND;TZID=America/New_York:20310224T220000
DTSTAMP:20260424T094607
CREATED:20260422T171028Z
LAST-MODIFIED:20260422T171028Z
UID:10014887-1929729600-1929736800@zushislist.com
SUMMARY:MONDAY NIGHT LIVE FOR COLLEGE STUDENTS
DESCRIPTION:YEHUDI SOFLO CAMPUSES PRESENTS \nMONDAY NIGHT LIVE FOR COLLEGE STUDENTS \nVIBE WITH AWESOME PEOPLE \nEVERY MONDAY 8-10PM \nDYNAMIC SPEAKERS AND DISCUSSIONS \nFREE  DINNER AND DESSERT \n@THE HUB | 3790 ROYAL PALM AVE
URL:https://zushislist.com/single-event/monday-night-live-for-college-students/2031-02-24/
LOCATION:The Hub\, 3790 ROYAL PALM AVE\, United States
CATEGORIES:Youth
ATTACH;FMTTYPE=image/png:https://zushislist.com/wp-content/uploads/2026/04/Every-monday-night.png
END:VEVENT
BEGIN:VEVENT
DTSTART;TZID=America/New_York:20310303T200000
DTEND;TZID=America/New_York:20310303T220000
DTSTAMP:20260424T094607
CREATED:20260422T171028Z
LAST-MODIFIED:20260422T171028Z
UID:10014888-1930334400-1930341600@zushislist.com
SUMMARY:MONDAY NIGHT LIVE FOR COLLEGE STUDENTS
DESCRIPTION:YEHUDI SOFLO CAMPUSES PRESENTS \nMONDAY NIGHT LIVE FOR COLLEGE STUDENTS \nVIBE WITH AWESOME PEOPLE \nEVERY MONDAY 8-10PM \nDYNAMIC SPEAKERS AND DISCUSSIONS \nFREE  DINNER AND DESSERT \n@THE HUB | 3790 ROYAL PALM AVE
URL:https://zushislist.com/single-event/monday-night-live-for-college-students/2031-03-03/
LOCATION:The Hub\, 3790 ROYAL PALM AVE\, United States
CATEGORIES:Youth
ATTACH;FMTTYPE=image/png:https://zushislist.com/wp-content/uploads/2026/04/Every-monday-night.png
END:VEVENT
BEGIN:VEVENT
DTSTART;TZID=America/New_York:20310310T200000
DTEND;TZID=America/New_York:20310310T220000
DTSTAMP:20260424T094607
CREATED:20260422T171028Z
LAST-MODIFIED:20260422T171028Z
UID:10014889-1930939200-1930946400@zushislist.com
SUMMARY:MONDAY NIGHT LIVE FOR COLLEGE STUDENTS
DESCRIPTION:YEHUDI SOFLO CAMPUSES PRESENTS \nMONDAY NIGHT LIVE FOR COLLEGE STUDENTS \nVIBE WITH AWESOME PEOPLE \nEVERY MONDAY 8-10PM \nDYNAMIC SPEAKERS AND DISCUSSIONS \nFREE  DINNER AND DESSERT \n@THE HUB | 3790 ROYAL PALM AVE
URL:https://zushislist.com/single-event/monday-night-live-for-college-students/2031-03-10/
LOCATION:The Hub\, 3790 ROYAL PALM AVE\, United States
CATEGORIES:Youth
ATTACH;FMTTYPE=image/png:https://zushislist.com/wp-content/uploads/2026/04/Every-monday-night.png
END:VEVENT
END:VCALENDAR