BEGIN:VCALENDAR
VERSION:2.0
PRODID:-//Zushi&#039;s List - ECPv6.15.20//NONSGML v1.0//EN
CALSCALE:GREGORIAN
METHOD:PUBLISH
X-ORIGINAL-URL:https://zushislist.com
X-WR-CALDESC:Events for Zushi&#039;s List
REFRESH-INTERVAL;VALUE=DURATION:PT1H
X-Robots-Tag:noindex
X-PUBLISHED-TTL:PT1H
BEGIN:VTIMEZONE
TZID:America/New_York
BEGIN:DAYLIGHT
TZOFFSETFROM:-0500
TZOFFSETTO:-0400
TZNAME:EDT
DTSTART:20260308T070000
END:DAYLIGHT
BEGIN:STANDARD
TZOFFSETFROM:-0400
TZOFFSETTO:-0500
TZNAME:EST
DTSTART:20261101T060000
END:STANDARD
BEGIN:DAYLIGHT
TZOFFSETFROM:-0500
TZOFFSETTO:-0400
TZNAME:EDT
DTSTART:20270314T070000
END:DAYLIGHT
BEGIN:STANDARD
TZOFFSETFROM:-0400
TZOFFSETTO:-0500
TZNAME:EST
DTSTART:20271107T060000
END:STANDARD
BEGIN:DAYLIGHT
TZOFFSETFROM:-0500
TZOFFSETTO:-0400
TZNAME:EDT
DTSTART:20280312T070000
END:DAYLIGHT
BEGIN:STANDARD
TZOFFSETFROM:-0400
TZOFFSETTO:-0500
TZNAME:EST
DTSTART:20281105T060000
END:STANDARD
BEGIN:DAYLIGHT
TZOFFSETFROM:-0500
TZOFFSETTO:-0400
TZNAME:EDT
DTSTART:20290311T070000
END:DAYLIGHT
BEGIN:STANDARD
TZOFFSETFROM:-0400
TZOFFSETTO:-0500
TZNAME:EST
DTSTART:20291104T060000
END:STANDARD
END:VTIMEZONE
BEGIN:VEVENT
DTSTART;TZID=America/New_York:20271004T200000
DTEND;TZID=America/New_York:20271004T220000
DTSTAMP:20260423T225146
CREATED:20260422T171028Z
LAST-MODIFIED:20260422T171028Z
UID:10014710-1822680000-1822687200@zushislist.com
SUMMARY:MONDAY NIGHT LIVE FOR COLLEGE STUDENTS
DESCRIPTION:YEHUDI SOFLO CAMPUSES PRESENTS \nMONDAY NIGHT LIVE FOR COLLEGE STUDENTS \nVIBE WITH AWESOME PEOPLE \nEVERY MONDAY 8-10PM \nDYNAMIC SPEAKERS AND DISCUSSIONS \nFREE  DINNER AND DESSERT \n@THE HUB | 3790 ROYAL PALM AVE
URL:https://zushislist.com/single-event/monday-night-live-for-college-students/2027-10-04/
LOCATION:The Hub\, 3790 ROYAL PALM AVE\, United States
CATEGORIES:Youth
ATTACH;FMTTYPE=image/png:https://zushislist.com/wp-content/uploads/2026/04/Every-monday-night.png
END:VEVENT
BEGIN:VEVENT
DTSTART;TZID=America/New_York:20271011T200000
DTEND;TZID=America/New_York:20271011T220000
DTSTAMP:20260423T225146
CREATED:20260422T171028Z
LAST-MODIFIED:20260422T171028Z
UID:10014711-1823284800-1823292000@zushislist.com
SUMMARY:MONDAY NIGHT LIVE FOR COLLEGE STUDENTS
DESCRIPTION:YEHUDI SOFLO CAMPUSES PRESENTS \nMONDAY NIGHT LIVE FOR COLLEGE STUDENTS \nVIBE WITH AWESOME PEOPLE \nEVERY MONDAY 8-10PM \nDYNAMIC SPEAKERS AND DISCUSSIONS \nFREE  DINNER AND DESSERT \n@THE HUB | 3790 ROYAL PALM AVE
URL:https://zushislist.com/single-event/monday-night-live-for-college-students/2027-10-11/
LOCATION:The Hub\, 3790 ROYAL PALM AVE\, United States
CATEGORIES:Youth
ATTACH;FMTTYPE=image/png:https://zushislist.com/wp-content/uploads/2026/04/Every-monday-night.png
END:VEVENT
BEGIN:VEVENT
DTSTART;TZID=America/New_York:20271018T200000
DTEND;TZID=America/New_York:20271018T220000
DTSTAMP:20260423T225146
CREATED:20260422T171028Z
LAST-MODIFIED:20260422T171028Z
UID:10014712-1823889600-1823896800@zushislist.com
SUMMARY:MONDAY NIGHT LIVE FOR COLLEGE STUDENTS
DESCRIPTION:YEHUDI SOFLO CAMPUSES PRESENTS \nMONDAY NIGHT LIVE FOR COLLEGE STUDENTS \nVIBE WITH AWESOME PEOPLE \nEVERY MONDAY 8-10PM \nDYNAMIC SPEAKERS AND DISCUSSIONS \nFREE  DINNER AND DESSERT \n@THE HUB | 3790 ROYAL PALM AVE
URL:https://zushislist.com/single-event/monday-night-live-for-college-students/2027-10-18/
LOCATION:The Hub\, 3790 ROYAL PALM AVE\, United States
CATEGORIES:Youth
ATTACH;FMTTYPE=image/png:https://zushislist.com/wp-content/uploads/2026/04/Every-monday-night.png
END:VEVENT
BEGIN:VEVENT
DTSTART;TZID=America/New_York:20271025T200000
DTEND;TZID=America/New_York:20271025T220000
DTSTAMP:20260423T225146
CREATED:20260422T171028Z
LAST-MODIFIED:20260422T171028Z
UID:10014713-1824494400-1824501600@zushislist.com
SUMMARY:MONDAY NIGHT LIVE FOR COLLEGE STUDENTS
DESCRIPTION:YEHUDI SOFLO CAMPUSES PRESENTS \nMONDAY NIGHT LIVE FOR COLLEGE STUDENTS \nVIBE WITH AWESOME PEOPLE \nEVERY MONDAY 8-10PM \nDYNAMIC SPEAKERS AND DISCUSSIONS \nFREE  DINNER AND DESSERT \n@THE HUB | 3790 ROYAL PALM AVE
URL:https://zushislist.com/single-event/monday-night-live-for-college-students/2027-10-25/
LOCATION:The Hub\, 3790 ROYAL PALM AVE\, United States
CATEGORIES:Youth
ATTACH;FMTTYPE=image/png:https://zushislist.com/wp-content/uploads/2026/04/Every-monday-night.png
END:VEVENT
BEGIN:VEVENT
DTSTART;TZID=America/New_York:20271101T200000
DTEND;TZID=America/New_York:20271101T220000
DTSTAMP:20260423T225146
CREATED:20260422T171028Z
LAST-MODIFIED:20260422T171028Z
UID:10014714-1825099200-1825106400@zushislist.com
SUMMARY:MONDAY NIGHT LIVE FOR COLLEGE STUDENTS
DESCRIPTION:YEHUDI SOFLO CAMPUSES PRESENTS \nMONDAY NIGHT LIVE FOR COLLEGE STUDENTS \nVIBE WITH AWESOME PEOPLE \nEVERY MONDAY 8-10PM \nDYNAMIC SPEAKERS AND DISCUSSIONS \nFREE  DINNER AND DESSERT \n@THE HUB | 3790 ROYAL PALM AVE
URL:https://zushislist.com/single-event/monday-night-live-for-college-students/2027-11-01/
LOCATION:The Hub\, 3790 ROYAL PALM AVE\, United States
CATEGORIES:Youth
ATTACH;FMTTYPE=image/png:https://zushislist.com/wp-content/uploads/2026/04/Every-monday-night.png
END:VEVENT
BEGIN:VEVENT
DTSTART;TZID=America/New_York:20271108T200000
DTEND;TZID=America/New_York:20271108T220000
DTSTAMP:20260423T225146
CREATED:20260422T171028Z
LAST-MODIFIED:20260422T171028Z
UID:10014715-1825704000-1825711200@zushislist.com
SUMMARY:MONDAY NIGHT LIVE FOR COLLEGE STUDENTS
DESCRIPTION:YEHUDI SOFLO CAMPUSES PRESENTS \nMONDAY NIGHT LIVE FOR COLLEGE STUDENTS \nVIBE WITH AWESOME PEOPLE \nEVERY MONDAY 8-10PM \nDYNAMIC SPEAKERS AND DISCUSSIONS \nFREE  DINNER AND DESSERT \n@THE HUB | 3790 ROYAL PALM AVE
URL:https://zushislist.com/single-event/monday-night-live-for-college-students/2027-11-08/
LOCATION:The Hub\, 3790 ROYAL PALM AVE\, United States
CATEGORIES:Youth
ATTACH;FMTTYPE=image/png:https://zushislist.com/wp-content/uploads/2026/04/Every-monday-night.png
END:VEVENT
BEGIN:VEVENT
DTSTART;TZID=America/New_York:20271115T200000
DTEND;TZID=America/New_York:20271115T220000
DTSTAMP:20260423T225146
CREATED:20260422T171028Z
LAST-MODIFIED:20260422T171028Z
UID:10014716-1826308800-1826316000@zushislist.com
SUMMARY:MONDAY NIGHT LIVE FOR COLLEGE STUDENTS
DESCRIPTION:YEHUDI SOFLO CAMPUSES PRESENTS \nMONDAY NIGHT LIVE FOR COLLEGE STUDENTS \nVIBE WITH AWESOME PEOPLE \nEVERY MONDAY 8-10PM \nDYNAMIC SPEAKERS AND DISCUSSIONS \nFREE  DINNER AND DESSERT \n@THE HUB | 3790 ROYAL PALM AVE
URL:https://zushislist.com/single-event/monday-night-live-for-college-students/2027-11-15/
LOCATION:The Hub\, 3790 ROYAL PALM AVE\, United States
CATEGORIES:Youth
ATTACH;FMTTYPE=image/png:https://zushislist.com/wp-content/uploads/2026/04/Every-monday-night.png
END:VEVENT
BEGIN:VEVENT
DTSTART;TZID=America/New_York:20271122T200000
DTEND;TZID=America/New_York:20271122T220000
DTSTAMP:20260423T225146
CREATED:20260422T171028Z
LAST-MODIFIED:20260422T171028Z
UID:10014717-1826913600-1826920800@zushislist.com
SUMMARY:MONDAY NIGHT LIVE FOR COLLEGE STUDENTS
DESCRIPTION:YEHUDI SOFLO CAMPUSES PRESENTS \nMONDAY NIGHT LIVE FOR COLLEGE STUDENTS \nVIBE WITH AWESOME PEOPLE \nEVERY MONDAY 8-10PM \nDYNAMIC SPEAKERS AND DISCUSSIONS \nFREE  DINNER AND DESSERT \n@THE HUB | 3790 ROYAL PALM AVE
URL:https://zushislist.com/single-event/monday-night-live-for-college-students/2027-11-22/
LOCATION:The Hub\, 3790 ROYAL PALM AVE\, United States
CATEGORIES:Youth
ATTACH;FMTTYPE=image/png:https://zushislist.com/wp-content/uploads/2026/04/Every-monday-night.png
END:VEVENT
BEGIN:VEVENT
DTSTART;TZID=America/New_York:20271129T200000
DTEND;TZID=America/New_York:20271129T220000
DTSTAMP:20260423T225146
CREATED:20260422T171028Z
LAST-MODIFIED:20260422T171028Z
UID:10014718-1827518400-1827525600@zushislist.com
SUMMARY:MONDAY NIGHT LIVE FOR COLLEGE STUDENTS
DESCRIPTION:YEHUDI SOFLO CAMPUSES PRESENTS \nMONDAY NIGHT LIVE FOR COLLEGE STUDENTS \nVIBE WITH AWESOME PEOPLE \nEVERY MONDAY 8-10PM \nDYNAMIC SPEAKERS AND DISCUSSIONS \nFREE  DINNER AND DESSERT \n@THE HUB | 3790 ROYAL PALM AVE
URL:https://zushislist.com/single-event/monday-night-live-for-college-students/2027-11-29/
LOCATION:The Hub\, 3790 ROYAL PALM AVE\, United States
CATEGORIES:Youth
ATTACH;FMTTYPE=image/png:https://zushislist.com/wp-content/uploads/2026/04/Every-monday-night.png
END:VEVENT
BEGIN:VEVENT
DTSTART;TZID=America/New_York:20271206T200000
DTEND;TZID=America/New_York:20271206T220000
DTSTAMP:20260423T225146
CREATED:20260422T171028Z
LAST-MODIFIED:20260422T171028Z
UID:10014719-1828123200-1828130400@zushislist.com
SUMMARY:MONDAY NIGHT LIVE FOR COLLEGE STUDENTS
DESCRIPTION:YEHUDI SOFLO CAMPUSES PRESENTS \nMONDAY NIGHT LIVE FOR COLLEGE STUDENTS \nVIBE WITH AWESOME PEOPLE \nEVERY MONDAY 8-10PM \nDYNAMIC SPEAKERS AND DISCUSSIONS \nFREE  DINNER AND DESSERT \n@THE HUB | 3790 ROYAL PALM AVE
URL:https://zushislist.com/single-event/monday-night-live-for-college-students/2027-12-06/
LOCATION:The Hub\, 3790 ROYAL PALM AVE\, United States
CATEGORIES:Youth
ATTACH;FMTTYPE=image/png:https://zushislist.com/wp-content/uploads/2026/04/Every-monday-night.png
END:VEVENT
BEGIN:VEVENT
DTSTART;TZID=America/New_York:20271213T200000
DTEND;TZID=America/New_York:20271213T220000
DTSTAMP:20260423T225146
CREATED:20260422T171028Z
LAST-MODIFIED:20260422T171028Z
UID:10014720-1828728000-1828735200@zushislist.com
SUMMARY:MONDAY NIGHT LIVE FOR COLLEGE STUDENTS
DESCRIPTION:YEHUDI SOFLO CAMPUSES PRESENTS \nMONDAY NIGHT LIVE FOR COLLEGE STUDENTS \nVIBE WITH AWESOME PEOPLE \nEVERY MONDAY 8-10PM \nDYNAMIC SPEAKERS AND DISCUSSIONS \nFREE  DINNER AND DESSERT \n@THE HUB | 3790 ROYAL PALM AVE
URL:https://zushislist.com/single-event/monday-night-live-for-college-students/2027-12-13/
LOCATION:The Hub\, 3790 ROYAL PALM AVE\, United States
CATEGORIES:Youth
ATTACH;FMTTYPE=image/png:https://zushislist.com/wp-content/uploads/2026/04/Every-monday-night.png
END:VEVENT
BEGIN:VEVENT
DTSTART;TZID=America/New_York:20271220T200000
DTEND;TZID=America/New_York:20271220T220000
DTSTAMP:20260423T225146
CREATED:20260422T171028Z
LAST-MODIFIED:20260422T171028Z
UID:10014721-1829332800-1829340000@zushislist.com
SUMMARY:MONDAY NIGHT LIVE FOR COLLEGE STUDENTS
DESCRIPTION:YEHUDI SOFLO CAMPUSES PRESENTS \nMONDAY NIGHT LIVE FOR COLLEGE STUDENTS \nVIBE WITH AWESOME PEOPLE \nEVERY MONDAY 8-10PM \nDYNAMIC SPEAKERS AND DISCUSSIONS \nFREE  DINNER AND DESSERT \n@THE HUB | 3790 ROYAL PALM AVE
URL:https://zushislist.com/single-event/monday-night-live-for-college-students/2027-12-20/
LOCATION:The Hub\, 3790 ROYAL PALM AVE\, United States
CATEGORIES:Youth
ATTACH;FMTTYPE=image/png:https://zushislist.com/wp-content/uploads/2026/04/Every-monday-night.png
END:VEVENT
BEGIN:VEVENT
DTSTART;TZID=America/New_York:20271227T200000
DTEND;TZID=America/New_York:20271227T220000
DTSTAMP:20260423T225146
CREATED:20260422T171028Z
LAST-MODIFIED:20260422T171028Z
UID:10014722-1829937600-1829944800@zushislist.com
SUMMARY:MONDAY NIGHT LIVE FOR COLLEGE STUDENTS
DESCRIPTION:YEHUDI SOFLO CAMPUSES PRESENTS \nMONDAY NIGHT LIVE FOR COLLEGE STUDENTS \nVIBE WITH AWESOME PEOPLE \nEVERY MONDAY 8-10PM \nDYNAMIC SPEAKERS AND DISCUSSIONS \nFREE  DINNER AND DESSERT \n@THE HUB | 3790 ROYAL PALM AVE
URL:https://zushislist.com/single-event/monday-night-live-for-college-students/2027-12-27/
LOCATION:The Hub\, 3790 ROYAL PALM AVE\, United States
CATEGORIES:Youth
ATTACH;FMTTYPE=image/png:https://zushislist.com/wp-content/uploads/2026/04/Every-monday-night.png
END:VEVENT
BEGIN:VEVENT
DTSTART;TZID=America/New_York:20280103T200000
DTEND;TZID=America/New_York:20280103T220000
DTSTAMP:20260423T225146
CREATED:20260422T171028Z
LAST-MODIFIED:20260422T171028Z
UID:10014723-1830542400-1830549600@zushislist.com
SUMMARY:MONDAY NIGHT LIVE FOR COLLEGE STUDENTS
DESCRIPTION:YEHUDI SOFLO CAMPUSES PRESENTS \nMONDAY NIGHT LIVE FOR COLLEGE STUDENTS \nVIBE WITH AWESOME PEOPLE \nEVERY MONDAY 8-10PM \nDYNAMIC SPEAKERS AND DISCUSSIONS \nFREE  DINNER AND DESSERT \n@THE HUB | 3790 ROYAL PALM AVE
URL:https://zushislist.com/single-event/monday-night-live-for-college-students/2028-01-03/
LOCATION:The Hub\, 3790 ROYAL PALM AVE\, United States
CATEGORIES:Youth
ATTACH;FMTTYPE=image/png:https://zushislist.com/wp-content/uploads/2026/04/Every-monday-night.png
END:VEVENT
BEGIN:VEVENT
DTSTART;TZID=America/New_York:20280110T200000
DTEND;TZID=America/New_York:20280110T220000
DTSTAMP:20260423T225146
CREATED:20260422T171028Z
LAST-MODIFIED:20260422T171028Z
UID:10014724-1831147200-1831154400@zushislist.com
SUMMARY:MONDAY NIGHT LIVE FOR COLLEGE STUDENTS
DESCRIPTION:YEHUDI SOFLO CAMPUSES PRESENTS \nMONDAY NIGHT LIVE FOR COLLEGE STUDENTS \nVIBE WITH AWESOME PEOPLE \nEVERY MONDAY 8-10PM \nDYNAMIC SPEAKERS AND DISCUSSIONS \nFREE  DINNER AND DESSERT \n@THE HUB | 3790 ROYAL PALM AVE
URL:https://zushislist.com/single-event/monday-night-live-for-college-students/2028-01-10/
LOCATION:The Hub\, 3790 ROYAL PALM AVE\, United States
CATEGORIES:Youth
ATTACH;FMTTYPE=image/png:https://zushislist.com/wp-content/uploads/2026/04/Every-monday-night.png
END:VEVENT
BEGIN:VEVENT
DTSTART;TZID=America/New_York:20280117T200000
DTEND;TZID=America/New_York:20280117T220000
DTSTAMP:20260423T225146
CREATED:20260422T171028Z
LAST-MODIFIED:20260422T171028Z
UID:10014725-1831752000-1831759200@zushislist.com
SUMMARY:MONDAY NIGHT LIVE FOR COLLEGE STUDENTS
DESCRIPTION:YEHUDI SOFLO CAMPUSES PRESENTS \nMONDAY NIGHT LIVE FOR COLLEGE STUDENTS \nVIBE WITH AWESOME PEOPLE \nEVERY MONDAY 8-10PM \nDYNAMIC SPEAKERS AND DISCUSSIONS \nFREE  DINNER AND DESSERT \n@THE HUB | 3790 ROYAL PALM AVE
URL:https://zushislist.com/single-event/monday-night-live-for-college-students/2028-01-17/
LOCATION:The Hub\, 3790 ROYAL PALM AVE\, United States
CATEGORIES:Youth
ATTACH;FMTTYPE=image/png:https://zushislist.com/wp-content/uploads/2026/04/Every-monday-night.png
END:VEVENT
BEGIN:VEVENT
DTSTART;TZID=America/New_York:20280124T200000
DTEND;TZID=America/New_York:20280124T220000
DTSTAMP:20260423T225146
CREATED:20260422T171028Z
LAST-MODIFIED:20260422T171028Z
UID:10014726-1832356800-1832364000@zushislist.com
SUMMARY:MONDAY NIGHT LIVE FOR COLLEGE STUDENTS
DESCRIPTION:YEHUDI SOFLO CAMPUSES PRESENTS \nMONDAY NIGHT LIVE FOR COLLEGE STUDENTS \nVIBE WITH AWESOME PEOPLE \nEVERY MONDAY 8-10PM \nDYNAMIC SPEAKERS AND DISCUSSIONS \nFREE  DINNER AND DESSERT \n@THE HUB | 3790 ROYAL PALM AVE
URL:https://zushislist.com/single-event/monday-night-live-for-college-students/2028-01-24/
LOCATION:The Hub\, 3790 ROYAL PALM AVE\, United States
CATEGORIES:Youth
ATTACH;FMTTYPE=image/png:https://zushislist.com/wp-content/uploads/2026/04/Every-monday-night.png
END:VEVENT
BEGIN:VEVENT
DTSTART;TZID=America/New_York:20280131T200000
DTEND;TZID=America/New_York:20280131T220000
DTSTAMP:20260423T225146
CREATED:20260422T171028Z
LAST-MODIFIED:20260422T171028Z
UID:10014727-1832961600-1832968800@zushislist.com
SUMMARY:MONDAY NIGHT LIVE FOR COLLEGE STUDENTS
DESCRIPTION:YEHUDI SOFLO CAMPUSES PRESENTS \nMONDAY NIGHT LIVE FOR COLLEGE STUDENTS \nVIBE WITH AWESOME PEOPLE \nEVERY MONDAY 8-10PM \nDYNAMIC SPEAKERS AND DISCUSSIONS \nFREE  DINNER AND DESSERT \n@THE HUB | 3790 ROYAL PALM AVE
URL:https://zushislist.com/single-event/monday-night-live-for-college-students/2028-01-31/
LOCATION:The Hub\, 3790 ROYAL PALM AVE\, United States
CATEGORIES:Youth
ATTACH;FMTTYPE=image/png:https://zushislist.com/wp-content/uploads/2026/04/Every-monday-night.png
END:VEVENT
BEGIN:VEVENT
DTSTART;TZID=America/New_York:20280207T200000
DTEND;TZID=America/New_York:20280207T220000
DTSTAMP:20260423T225146
CREATED:20260422T171028Z
LAST-MODIFIED:20260422T171028Z
UID:10014728-1833566400-1833573600@zushislist.com
SUMMARY:MONDAY NIGHT LIVE FOR COLLEGE STUDENTS
DESCRIPTION:YEHUDI SOFLO CAMPUSES PRESENTS \nMONDAY NIGHT LIVE FOR COLLEGE STUDENTS \nVIBE WITH AWESOME PEOPLE \nEVERY MONDAY 8-10PM \nDYNAMIC SPEAKERS AND DISCUSSIONS \nFREE  DINNER AND DESSERT \n@THE HUB | 3790 ROYAL PALM AVE
URL:https://zushislist.com/single-event/monday-night-live-for-college-students/2028-02-07/
LOCATION:The Hub\, 3790 ROYAL PALM AVE\, United States
CATEGORIES:Youth
ATTACH;FMTTYPE=image/png:https://zushislist.com/wp-content/uploads/2026/04/Every-monday-night.png
END:VEVENT
BEGIN:VEVENT
DTSTART;TZID=America/New_York:20280214T200000
DTEND;TZID=America/New_York:20280214T220000
DTSTAMP:20260423T225146
CREATED:20260422T171028Z
LAST-MODIFIED:20260422T171028Z
UID:10014729-1834171200-1834178400@zushislist.com
SUMMARY:MONDAY NIGHT LIVE FOR COLLEGE STUDENTS
DESCRIPTION:YEHUDI SOFLO CAMPUSES PRESENTS \nMONDAY NIGHT LIVE FOR COLLEGE STUDENTS \nVIBE WITH AWESOME PEOPLE \nEVERY MONDAY 8-10PM \nDYNAMIC SPEAKERS AND DISCUSSIONS \nFREE  DINNER AND DESSERT \n@THE HUB | 3790 ROYAL PALM AVE
URL:https://zushislist.com/single-event/monday-night-live-for-college-students/2028-02-14/
LOCATION:The Hub\, 3790 ROYAL PALM AVE\, United States
CATEGORIES:Youth
ATTACH;FMTTYPE=image/png:https://zushislist.com/wp-content/uploads/2026/04/Every-monday-night.png
END:VEVENT
BEGIN:VEVENT
DTSTART;TZID=America/New_York:20280221T200000
DTEND;TZID=America/New_York:20280221T220000
DTSTAMP:20260423T225146
CREATED:20260422T171028Z
LAST-MODIFIED:20260422T171028Z
UID:10014730-1834776000-1834783200@zushislist.com
SUMMARY:MONDAY NIGHT LIVE FOR COLLEGE STUDENTS
DESCRIPTION:YEHUDI SOFLO CAMPUSES PRESENTS \nMONDAY NIGHT LIVE FOR COLLEGE STUDENTS \nVIBE WITH AWESOME PEOPLE \nEVERY MONDAY 8-10PM \nDYNAMIC SPEAKERS AND DISCUSSIONS \nFREE  DINNER AND DESSERT \n@THE HUB | 3790 ROYAL PALM AVE
URL:https://zushislist.com/single-event/monday-night-live-for-college-students/2028-02-21/
LOCATION:The Hub\, 3790 ROYAL PALM AVE\, United States
CATEGORIES:Youth
ATTACH;FMTTYPE=image/png:https://zushislist.com/wp-content/uploads/2026/04/Every-monday-night.png
END:VEVENT
BEGIN:VEVENT
DTSTART;TZID=America/New_York:20280228T200000
DTEND;TZID=America/New_York:20280228T220000
DTSTAMP:20260423T225146
CREATED:20260422T171028Z
LAST-MODIFIED:20260422T171028Z
UID:10014731-1835380800-1835388000@zushislist.com
SUMMARY:MONDAY NIGHT LIVE FOR COLLEGE STUDENTS
DESCRIPTION:YEHUDI SOFLO CAMPUSES PRESENTS \nMONDAY NIGHT LIVE FOR COLLEGE STUDENTS \nVIBE WITH AWESOME PEOPLE \nEVERY MONDAY 8-10PM \nDYNAMIC SPEAKERS AND DISCUSSIONS \nFREE  DINNER AND DESSERT \n@THE HUB | 3790 ROYAL PALM AVE
URL:https://zushislist.com/single-event/monday-night-live-for-college-students/2028-02-28/
LOCATION:The Hub\, 3790 ROYAL PALM AVE\, United States
CATEGORIES:Youth
ATTACH;FMTTYPE=image/png:https://zushislist.com/wp-content/uploads/2026/04/Every-monday-night.png
END:VEVENT
BEGIN:VEVENT
DTSTART;TZID=America/New_York:20280306T200000
DTEND;TZID=America/New_York:20280306T220000
DTSTAMP:20260423T225146
CREATED:20260422T171028Z
LAST-MODIFIED:20260422T171028Z
UID:10014732-1835985600-1835992800@zushislist.com
SUMMARY:MONDAY NIGHT LIVE FOR COLLEGE STUDENTS
DESCRIPTION:YEHUDI SOFLO CAMPUSES PRESENTS \nMONDAY NIGHT LIVE FOR COLLEGE STUDENTS \nVIBE WITH AWESOME PEOPLE \nEVERY MONDAY 8-10PM \nDYNAMIC SPEAKERS AND DISCUSSIONS \nFREE  DINNER AND DESSERT \n@THE HUB | 3790 ROYAL PALM AVE
URL:https://zushislist.com/single-event/monday-night-live-for-college-students/2028-03-06/
LOCATION:The Hub\, 3790 ROYAL PALM AVE\, United States
CATEGORIES:Youth
ATTACH;FMTTYPE=image/png:https://zushislist.com/wp-content/uploads/2026/04/Every-monday-night.png
END:VEVENT
BEGIN:VEVENT
DTSTART;TZID=America/New_York:20280313T200000
DTEND;TZID=America/New_York:20280313T220000
DTSTAMP:20260423T225146
CREATED:20260422T171028Z
LAST-MODIFIED:20260422T171028Z
UID:10014733-1836590400-1836597600@zushislist.com
SUMMARY:MONDAY NIGHT LIVE FOR COLLEGE STUDENTS
DESCRIPTION:YEHUDI SOFLO CAMPUSES PRESENTS \nMONDAY NIGHT LIVE FOR COLLEGE STUDENTS \nVIBE WITH AWESOME PEOPLE \nEVERY MONDAY 8-10PM \nDYNAMIC SPEAKERS AND DISCUSSIONS \nFREE  DINNER AND DESSERT \n@THE HUB | 3790 ROYAL PALM AVE
URL:https://zushislist.com/single-event/monday-night-live-for-college-students/2028-03-13/
LOCATION:The Hub\, 3790 ROYAL PALM AVE\, United States
CATEGORIES:Youth
ATTACH;FMTTYPE=image/png:https://zushislist.com/wp-content/uploads/2026/04/Every-monday-night.png
END:VEVENT
BEGIN:VEVENT
DTSTART;TZID=America/New_York:20280320T200000
DTEND;TZID=America/New_York:20280320T220000
DTSTAMP:20260423T225146
CREATED:20260422T171028Z
LAST-MODIFIED:20260422T171028Z
UID:10014734-1837195200-1837202400@zushislist.com
SUMMARY:MONDAY NIGHT LIVE FOR COLLEGE STUDENTS
DESCRIPTION:YEHUDI SOFLO CAMPUSES PRESENTS \nMONDAY NIGHT LIVE FOR COLLEGE STUDENTS \nVIBE WITH AWESOME PEOPLE \nEVERY MONDAY 8-10PM \nDYNAMIC SPEAKERS AND DISCUSSIONS \nFREE  DINNER AND DESSERT \n@THE HUB | 3790 ROYAL PALM AVE
URL:https://zushislist.com/single-event/monday-night-live-for-college-students/2028-03-20/
LOCATION:The Hub\, 3790 ROYAL PALM AVE\, United States
CATEGORIES:Youth
ATTACH;FMTTYPE=image/png:https://zushislist.com/wp-content/uploads/2026/04/Every-monday-night.png
END:VEVENT
BEGIN:VEVENT
DTSTART;TZID=America/New_York:20280327T200000
DTEND;TZID=America/New_York:20280327T220000
DTSTAMP:20260423T225146
CREATED:20260422T171028Z
LAST-MODIFIED:20260422T171028Z
UID:10014735-1837800000-1837807200@zushislist.com
SUMMARY:MONDAY NIGHT LIVE FOR COLLEGE STUDENTS
DESCRIPTION:YEHUDI SOFLO CAMPUSES PRESENTS \nMONDAY NIGHT LIVE FOR COLLEGE STUDENTS \nVIBE WITH AWESOME PEOPLE \nEVERY MONDAY 8-10PM \nDYNAMIC SPEAKERS AND DISCUSSIONS \nFREE  DINNER AND DESSERT \n@THE HUB | 3790 ROYAL PALM AVE
URL:https://zushislist.com/single-event/monday-night-live-for-college-students/2028-03-27/
LOCATION:The Hub\, 3790 ROYAL PALM AVE\, United States
CATEGORIES:Youth
ATTACH;FMTTYPE=image/png:https://zushislist.com/wp-content/uploads/2026/04/Every-monday-night.png
END:VEVENT
BEGIN:VEVENT
DTSTART;TZID=America/New_York:20280403T200000
DTEND;TZID=America/New_York:20280403T220000
DTSTAMP:20260423T225146
CREATED:20260422T171028Z
LAST-MODIFIED:20260422T171028Z
UID:10014736-1838404800-1838412000@zushislist.com
SUMMARY:MONDAY NIGHT LIVE FOR COLLEGE STUDENTS
DESCRIPTION:YEHUDI SOFLO CAMPUSES PRESENTS \nMONDAY NIGHT LIVE FOR COLLEGE STUDENTS \nVIBE WITH AWESOME PEOPLE \nEVERY MONDAY 8-10PM \nDYNAMIC SPEAKERS AND DISCUSSIONS \nFREE  DINNER AND DESSERT \n@THE HUB | 3790 ROYAL PALM AVE
URL:https://zushislist.com/single-event/monday-night-live-for-college-students/2028-04-03/
LOCATION:The Hub\, 3790 ROYAL PALM AVE\, United States
CATEGORIES:Youth
ATTACH;FMTTYPE=image/png:https://zushislist.com/wp-content/uploads/2026/04/Every-monday-night.png
END:VEVENT
BEGIN:VEVENT
DTSTART;TZID=America/New_York:20280410T200000
DTEND;TZID=America/New_York:20280410T220000
DTSTAMP:20260423T225146
CREATED:20260422T171028Z
LAST-MODIFIED:20260422T171028Z
UID:10014737-1839009600-1839016800@zushislist.com
SUMMARY:MONDAY NIGHT LIVE FOR COLLEGE STUDENTS
DESCRIPTION:YEHUDI SOFLO CAMPUSES PRESENTS \nMONDAY NIGHT LIVE FOR COLLEGE STUDENTS \nVIBE WITH AWESOME PEOPLE \nEVERY MONDAY 8-10PM \nDYNAMIC SPEAKERS AND DISCUSSIONS \nFREE  DINNER AND DESSERT \n@THE HUB | 3790 ROYAL PALM AVE
URL:https://zushislist.com/single-event/monday-night-live-for-college-students/2028-04-10/
LOCATION:The Hub\, 3790 ROYAL PALM AVE\, United States
CATEGORIES:Youth
ATTACH;FMTTYPE=image/png:https://zushislist.com/wp-content/uploads/2026/04/Every-monday-night.png
END:VEVENT
BEGIN:VEVENT
DTSTART;TZID=America/New_York:20280417T200000
DTEND;TZID=America/New_York:20280417T220000
DTSTAMP:20260423T225146
CREATED:20260422T171028Z
LAST-MODIFIED:20260422T171028Z
UID:10014738-1839614400-1839621600@zushislist.com
SUMMARY:MONDAY NIGHT LIVE FOR COLLEGE STUDENTS
DESCRIPTION:YEHUDI SOFLO CAMPUSES PRESENTS \nMONDAY NIGHT LIVE FOR COLLEGE STUDENTS \nVIBE WITH AWESOME PEOPLE \nEVERY MONDAY 8-10PM \nDYNAMIC SPEAKERS AND DISCUSSIONS \nFREE  DINNER AND DESSERT \n@THE HUB | 3790 ROYAL PALM AVE
URL:https://zushislist.com/single-event/monday-night-live-for-college-students/2028-04-17/
LOCATION:The Hub\, 3790 ROYAL PALM AVE\, United States
CATEGORIES:Youth
ATTACH;FMTTYPE=image/png:https://zushislist.com/wp-content/uploads/2026/04/Every-monday-night.png
END:VEVENT
BEGIN:VEVENT
DTSTART;TZID=America/New_York:20280424T200000
DTEND;TZID=America/New_York:20280424T220000
DTSTAMP:20260423T225146
CREATED:20260422T171028Z
LAST-MODIFIED:20260422T171028Z
UID:10014739-1840219200-1840226400@zushislist.com
SUMMARY:MONDAY NIGHT LIVE FOR COLLEGE STUDENTS
DESCRIPTION:YEHUDI SOFLO CAMPUSES PRESENTS \nMONDAY NIGHT LIVE FOR COLLEGE STUDENTS \nVIBE WITH AWESOME PEOPLE \nEVERY MONDAY 8-10PM \nDYNAMIC SPEAKERS AND DISCUSSIONS \nFREE  DINNER AND DESSERT \n@THE HUB | 3790 ROYAL PALM AVE
URL:https://zushislist.com/single-event/monday-night-live-for-college-students/2028-04-24/
LOCATION:The Hub\, 3790 ROYAL PALM AVE\, United States
CATEGORIES:Youth
ATTACH;FMTTYPE=image/png:https://zushislist.com/wp-content/uploads/2026/04/Every-monday-night.png
END:VEVENT
END:VCALENDAR