BEGIN:VCALENDAR
VERSION:2.0
PRODID:-//Zushi&#039;s List - ECPv6.15.20//NONSGML v1.0//EN
CALSCALE:GREGORIAN
METHOD:PUBLISH
X-WR-CALNAME:Zushi&#039;s List
X-ORIGINAL-URL:https://zushislist.com
X-WR-CALDESC:Events for Zushi&#039;s List
REFRESH-INTERVAL;VALUE=DURATION:PT1H
X-Robots-Tag:noindex
X-PUBLISHED-TTL:PT1H
BEGIN:VTIMEZONE
TZID:America/New_York
BEGIN:DAYLIGHT
TZOFFSETFROM:-0500
TZOFFSETTO:-0400
TZNAME:EDT
DTSTART:20270314T070000
END:DAYLIGHT
BEGIN:STANDARD
TZOFFSETFROM:-0400
TZOFFSETTO:-0500
TZNAME:EST
DTSTART:20271107T060000
END:STANDARD
BEGIN:DAYLIGHT
TZOFFSETFROM:-0500
TZOFFSETTO:-0400
TZNAME:EDT
DTSTART:20280312T070000
END:DAYLIGHT
BEGIN:STANDARD
TZOFFSETFROM:-0400
TZOFFSETTO:-0500
TZNAME:EST
DTSTART:20281105T060000
END:STANDARD
BEGIN:DAYLIGHT
TZOFFSETFROM:-0500
TZOFFSETTO:-0400
TZNAME:EDT
DTSTART:20290311T070000
END:DAYLIGHT
BEGIN:STANDARD
TZOFFSETFROM:-0400
TZOFFSETTO:-0500
TZNAME:EST
DTSTART:20291104T060000
END:STANDARD
BEGIN:DAYLIGHT
TZOFFSETFROM:-0500
TZOFFSETTO:-0400
TZNAME:EDT
DTSTART:20300310T070000
END:DAYLIGHT
BEGIN:STANDARD
TZOFFSETFROM:-0400
TZOFFSETTO:-0500
TZNAME:EST
DTSTART:20301103T060000
END:STANDARD
END:VTIMEZONE
BEGIN:VEVENT
DTSTART;TZID=America/New_York:20280918T200000
DTEND;TZID=America/New_York:20280918T220000
DTSTAMP:20260424T033516
CREATED:20260422T171028Z
LAST-MODIFIED:20260422T171028Z
UID:10014760-1852920000-1852927200@zushislist.com
SUMMARY:MONDAY NIGHT LIVE FOR COLLEGE STUDENTS
DESCRIPTION:YEHUDI SOFLO CAMPUSES PRESENTS \nMONDAY NIGHT LIVE FOR COLLEGE STUDENTS \nVIBE WITH AWESOME PEOPLE \nEVERY MONDAY 8-10PM \nDYNAMIC SPEAKERS AND DISCUSSIONS \nFREE  DINNER AND DESSERT \n@THE HUB | 3790 ROYAL PALM AVE
URL:https://zushislist.com/single-event/monday-night-live-for-college-students/2028-09-18/
LOCATION:The Hub\, 3790 ROYAL PALM AVE\, United States
CATEGORIES:Youth
ATTACH;FMTTYPE=image/png:https://zushislist.com/wp-content/uploads/2026/04/Every-monday-night.png
END:VEVENT
BEGIN:VEVENT
DTSTART;TZID=America/New_York:20280925T200000
DTEND;TZID=America/New_York:20280925T220000
DTSTAMP:20260424T033516
CREATED:20260422T171028Z
LAST-MODIFIED:20260422T171028Z
UID:10014761-1853524800-1853532000@zushislist.com
SUMMARY:MONDAY NIGHT LIVE FOR COLLEGE STUDENTS
DESCRIPTION:YEHUDI SOFLO CAMPUSES PRESENTS \nMONDAY NIGHT LIVE FOR COLLEGE STUDENTS \nVIBE WITH AWESOME PEOPLE \nEVERY MONDAY 8-10PM \nDYNAMIC SPEAKERS AND DISCUSSIONS \nFREE  DINNER AND DESSERT \n@THE HUB | 3790 ROYAL PALM AVE
URL:https://zushislist.com/single-event/monday-night-live-for-college-students/2028-09-25/
LOCATION:The Hub\, 3790 ROYAL PALM AVE\, United States
CATEGORIES:Youth
ATTACH;FMTTYPE=image/png:https://zushislist.com/wp-content/uploads/2026/04/Every-monday-night.png
END:VEVENT
BEGIN:VEVENT
DTSTART;TZID=America/New_York:20281002T200000
DTEND;TZID=America/New_York:20281002T220000
DTSTAMP:20260424T033516
CREATED:20260422T171028Z
LAST-MODIFIED:20260422T171028Z
UID:10014762-1854129600-1854136800@zushislist.com
SUMMARY:MONDAY NIGHT LIVE FOR COLLEGE STUDENTS
DESCRIPTION:YEHUDI SOFLO CAMPUSES PRESENTS \nMONDAY NIGHT LIVE FOR COLLEGE STUDENTS \nVIBE WITH AWESOME PEOPLE \nEVERY MONDAY 8-10PM \nDYNAMIC SPEAKERS AND DISCUSSIONS \nFREE  DINNER AND DESSERT \n@THE HUB | 3790 ROYAL PALM AVE
URL:https://zushislist.com/single-event/monday-night-live-for-college-students/2028-10-02/
LOCATION:The Hub\, 3790 ROYAL PALM AVE\, United States
CATEGORIES:Youth
ATTACH;FMTTYPE=image/png:https://zushislist.com/wp-content/uploads/2026/04/Every-monday-night.png
END:VEVENT
BEGIN:VEVENT
DTSTART;TZID=America/New_York:20281009T200000
DTEND;TZID=America/New_York:20281009T220000
DTSTAMP:20260424T033516
CREATED:20260422T171028Z
LAST-MODIFIED:20260422T171028Z
UID:10014763-1854734400-1854741600@zushislist.com
SUMMARY:MONDAY NIGHT LIVE FOR COLLEGE STUDENTS
DESCRIPTION:YEHUDI SOFLO CAMPUSES PRESENTS \nMONDAY NIGHT LIVE FOR COLLEGE STUDENTS \nVIBE WITH AWESOME PEOPLE \nEVERY MONDAY 8-10PM \nDYNAMIC SPEAKERS AND DISCUSSIONS \nFREE  DINNER AND DESSERT \n@THE HUB | 3790 ROYAL PALM AVE
URL:https://zushislist.com/single-event/monday-night-live-for-college-students/2028-10-09/
LOCATION:The Hub\, 3790 ROYAL PALM AVE\, United States
CATEGORIES:Youth
ATTACH;FMTTYPE=image/png:https://zushislist.com/wp-content/uploads/2026/04/Every-monday-night.png
END:VEVENT
BEGIN:VEVENT
DTSTART;TZID=America/New_York:20281016T200000
DTEND;TZID=America/New_York:20281016T220000
DTSTAMP:20260424T033516
CREATED:20260422T171028Z
LAST-MODIFIED:20260422T171028Z
UID:10014764-1855339200-1855346400@zushislist.com
SUMMARY:MONDAY NIGHT LIVE FOR COLLEGE STUDENTS
DESCRIPTION:YEHUDI SOFLO CAMPUSES PRESENTS \nMONDAY NIGHT LIVE FOR COLLEGE STUDENTS \nVIBE WITH AWESOME PEOPLE \nEVERY MONDAY 8-10PM \nDYNAMIC SPEAKERS AND DISCUSSIONS \nFREE  DINNER AND DESSERT \n@THE HUB | 3790 ROYAL PALM AVE
URL:https://zushislist.com/single-event/monday-night-live-for-college-students/2028-10-16/
LOCATION:The Hub\, 3790 ROYAL PALM AVE\, United States
CATEGORIES:Youth
ATTACH;FMTTYPE=image/png:https://zushislist.com/wp-content/uploads/2026/04/Every-monday-night.png
END:VEVENT
BEGIN:VEVENT
DTSTART;TZID=America/New_York:20281023T200000
DTEND;TZID=America/New_York:20281023T220000
DTSTAMP:20260424T033516
CREATED:20260422T171028Z
LAST-MODIFIED:20260422T171028Z
UID:10014765-1855944000-1855951200@zushislist.com
SUMMARY:MONDAY NIGHT LIVE FOR COLLEGE STUDENTS
DESCRIPTION:YEHUDI SOFLO CAMPUSES PRESENTS \nMONDAY NIGHT LIVE FOR COLLEGE STUDENTS \nVIBE WITH AWESOME PEOPLE \nEVERY MONDAY 8-10PM \nDYNAMIC SPEAKERS AND DISCUSSIONS \nFREE  DINNER AND DESSERT \n@THE HUB | 3790 ROYAL PALM AVE
URL:https://zushislist.com/single-event/monday-night-live-for-college-students/2028-10-23/
LOCATION:The Hub\, 3790 ROYAL PALM AVE\, United States
CATEGORIES:Youth
ATTACH;FMTTYPE=image/png:https://zushislist.com/wp-content/uploads/2026/04/Every-monday-night.png
END:VEVENT
BEGIN:VEVENT
DTSTART;TZID=America/New_York:20281030T200000
DTEND;TZID=America/New_York:20281030T220000
DTSTAMP:20260424T033516
CREATED:20260422T171028Z
LAST-MODIFIED:20260422T171028Z
UID:10014766-1856548800-1856556000@zushislist.com
SUMMARY:MONDAY NIGHT LIVE FOR COLLEGE STUDENTS
DESCRIPTION:YEHUDI SOFLO CAMPUSES PRESENTS \nMONDAY NIGHT LIVE FOR COLLEGE STUDENTS \nVIBE WITH AWESOME PEOPLE \nEVERY MONDAY 8-10PM \nDYNAMIC SPEAKERS AND DISCUSSIONS \nFREE  DINNER AND DESSERT \n@THE HUB | 3790 ROYAL PALM AVE
URL:https://zushislist.com/single-event/monday-night-live-for-college-students/2028-10-30/
LOCATION:The Hub\, 3790 ROYAL PALM AVE\, United States
CATEGORIES:Youth
ATTACH;FMTTYPE=image/png:https://zushislist.com/wp-content/uploads/2026/04/Every-monday-night.png
END:VEVENT
BEGIN:VEVENT
DTSTART;TZID=America/New_York:20281106T200000
DTEND;TZID=America/New_York:20281106T220000
DTSTAMP:20260424T033516
CREATED:20260422T171028Z
LAST-MODIFIED:20260422T171028Z
UID:10014767-1857153600-1857160800@zushislist.com
SUMMARY:MONDAY NIGHT LIVE FOR COLLEGE STUDENTS
DESCRIPTION:YEHUDI SOFLO CAMPUSES PRESENTS \nMONDAY NIGHT LIVE FOR COLLEGE STUDENTS \nVIBE WITH AWESOME PEOPLE \nEVERY MONDAY 8-10PM \nDYNAMIC SPEAKERS AND DISCUSSIONS \nFREE  DINNER AND DESSERT \n@THE HUB | 3790 ROYAL PALM AVE
URL:https://zushislist.com/single-event/monday-night-live-for-college-students/2028-11-06/
LOCATION:The Hub\, 3790 ROYAL PALM AVE\, United States
CATEGORIES:Youth
ATTACH;FMTTYPE=image/png:https://zushislist.com/wp-content/uploads/2026/04/Every-monday-night.png
END:VEVENT
BEGIN:VEVENT
DTSTART;TZID=America/New_York:20281113T200000
DTEND;TZID=America/New_York:20281113T220000
DTSTAMP:20260424T033516
CREATED:20260422T171028Z
LAST-MODIFIED:20260422T171028Z
UID:10014768-1857758400-1857765600@zushislist.com
SUMMARY:MONDAY NIGHT LIVE FOR COLLEGE STUDENTS
DESCRIPTION:YEHUDI SOFLO CAMPUSES PRESENTS \nMONDAY NIGHT LIVE FOR COLLEGE STUDENTS \nVIBE WITH AWESOME PEOPLE \nEVERY MONDAY 8-10PM \nDYNAMIC SPEAKERS AND DISCUSSIONS \nFREE  DINNER AND DESSERT \n@THE HUB | 3790 ROYAL PALM AVE
URL:https://zushislist.com/single-event/monday-night-live-for-college-students/2028-11-13/
LOCATION:The Hub\, 3790 ROYAL PALM AVE\, United States
CATEGORIES:Youth
ATTACH;FMTTYPE=image/png:https://zushislist.com/wp-content/uploads/2026/04/Every-monday-night.png
END:VEVENT
BEGIN:VEVENT
DTSTART;TZID=America/New_York:20281120T200000
DTEND;TZID=America/New_York:20281120T220000
DTSTAMP:20260424T033516
CREATED:20260422T171028Z
LAST-MODIFIED:20260422T171028Z
UID:10014769-1858363200-1858370400@zushislist.com
SUMMARY:MONDAY NIGHT LIVE FOR COLLEGE STUDENTS
DESCRIPTION:YEHUDI SOFLO CAMPUSES PRESENTS \nMONDAY NIGHT LIVE FOR COLLEGE STUDENTS \nVIBE WITH AWESOME PEOPLE \nEVERY MONDAY 8-10PM \nDYNAMIC SPEAKERS AND DISCUSSIONS \nFREE  DINNER AND DESSERT \n@THE HUB | 3790 ROYAL PALM AVE
URL:https://zushislist.com/single-event/monday-night-live-for-college-students/2028-11-20/
LOCATION:The Hub\, 3790 ROYAL PALM AVE\, United States
CATEGORIES:Youth
ATTACH;FMTTYPE=image/png:https://zushislist.com/wp-content/uploads/2026/04/Every-monday-night.png
END:VEVENT
BEGIN:VEVENT
DTSTART;TZID=America/New_York:20281127T200000
DTEND;TZID=America/New_York:20281127T220000
DTSTAMP:20260424T033516
CREATED:20260422T171028Z
LAST-MODIFIED:20260422T171028Z
UID:10014770-1858968000-1858975200@zushislist.com
SUMMARY:MONDAY NIGHT LIVE FOR COLLEGE STUDENTS
DESCRIPTION:YEHUDI SOFLO CAMPUSES PRESENTS \nMONDAY NIGHT LIVE FOR COLLEGE STUDENTS \nVIBE WITH AWESOME PEOPLE \nEVERY MONDAY 8-10PM \nDYNAMIC SPEAKERS AND DISCUSSIONS \nFREE  DINNER AND DESSERT \n@THE HUB | 3790 ROYAL PALM AVE
URL:https://zushislist.com/single-event/monday-night-live-for-college-students/2028-11-27/
LOCATION:The Hub\, 3790 ROYAL PALM AVE\, United States
CATEGORIES:Youth
ATTACH;FMTTYPE=image/png:https://zushislist.com/wp-content/uploads/2026/04/Every-monday-night.png
END:VEVENT
BEGIN:VEVENT
DTSTART;TZID=America/New_York:20281204T200000
DTEND;TZID=America/New_York:20281204T220000
DTSTAMP:20260424T033516
CREATED:20260422T171028Z
LAST-MODIFIED:20260422T171028Z
UID:10014771-1859572800-1859580000@zushislist.com
SUMMARY:MONDAY NIGHT LIVE FOR COLLEGE STUDENTS
DESCRIPTION:YEHUDI SOFLO CAMPUSES PRESENTS \nMONDAY NIGHT LIVE FOR COLLEGE STUDENTS \nVIBE WITH AWESOME PEOPLE \nEVERY MONDAY 8-10PM \nDYNAMIC SPEAKERS AND DISCUSSIONS \nFREE  DINNER AND DESSERT \n@THE HUB | 3790 ROYAL PALM AVE
URL:https://zushislist.com/single-event/monday-night-live-for-college-students/2028-12-04/
LOCATION:The Hub\, 3790 ROYAL PALM AVE\, United States
CATEGORIES:Youth
ATTACH;FMTTYPE=image/png:https://zushislist.com/wp-content/uploads/2026/04/Every-monday-night.png
END:VEVENT
BEGIN:VEVENT
DTSTART;TZID=America/New_York:20281211T200000
DTEND;TZID=America/New_York:20281211T220000
DTSTAMP:20260424T033516
CREATED:20260422T171028Z
LAST-MODIFIED:20260422T171028Z
UID:10014772-1860177600-1860184800@zushislist.com
SUMMARY:MONDAY NIGHT LIVE FOR COLLEGE STUDENTS
DESCRIPTION:YEHUDI SOFLO CAMPUSES PRESENTS \nMONDAY NIGHT LIVE FOR COLLEGE STUDENTS \nVIBE WITH AWESOME PEOPLE \nEVERY MONDAY 8-10PM \nDYNAMIC SPEAKERS AND DISCUSSIONS \nFREE  DINNER AND DESSERT \n@THE HUB | 3790 ROYAL PALM AVE
URL:https://zushislist.com/single-event/monday-night-live-for-college-students/2028-12-11/
LOCATION:The Hub\, 3790 ROYAL PALM AVE\, United States
CATEGORIES:Youth
ATTACH;FMTTYPE=image/png:https://zushislist.com/wp-content/uploads/2026/04/Every-monday-night.png
END:VEVENT
BEGIN:VEVENT
DTSTART;TZID=America/New_York:20281218T200000
DTEND;TZID=America/New_York:20281218T220000
DTSTAMP:20260424T033516
CREATED:20260422T171028Z
LAST-MODIFIED:20260422T171028Z
UID:10014773-1860782400-1860789600@zushislist.com
SUMMARY:MONDAY NIGHT LIVE FOR COLLEGE STUDENTS
DESCRIPTION:YEHUDI SOFLO CAMPUSES PRESENTS \nMONDAY NIGHT LIVE FOR COLLEGE STUDENTS \nVIBE WITH AWESOME PEOPLE \nEVERY MONDAY 8-10PM \nDYNAMIC SPEAKERS AND DISCUSSIONS \nFREE  DINNER AND DESSERT \n@THE HUB | 3790 ROYAL PALM AVE
URL:https://zushislist.com/single-event/monday-night-live-for-college-students/2028-12-18/
LOCATION:The Hub\, 3790 ROYAL PALM AVE\, United States
CATEGORIES:Youth
ATTACH;FMTTYPE=image/png:https://zushislist.com/wp-content/uploads/2026/04/Every-monday-night.png
END:VEVENT
BEGIN:VEVENT
DTSTART;TZID=America/New_York:20281225T200000
DTEND;TZID=America/New_York:20281225T220000
DTSTAMP:20260424T033516
CREATED:20260422T171028Z
LAST-MODIFIED:20260422T171028Z
UID:10014774-1861387200-1861394400@zushislist.com
SUMMARY:MONDAY NIGHT LIVE FOR COLLEGE STUDENTS
DESCRIPTION:YEHUDI SOFLO CAMPUSES PRESENTS \nMONDAY NIGHT LIVE FOR COLLEGE STUDENTS \nVIBE WITH AWESOME PEOPLE \nEVERY MONDAY 8-10PM \nDYNAMIC SPEAKERS AND DISCUSSIONS \nFREE  DINNER AND DESSERT \n@THE HUB | 3790 ROYAL PALM AVE
URL:https://zushislist.com/single-event/monday-night-live-for-college-students/2028-12-25/
LOCATION:The Hub\, 3790 ROYAL PALM AVE\, United States
CATEGORIES:Youth
ATTACH;FMTTYPE=image/png:https://zushislist.com/wp-content/uploads/2026/04/Every-monday-night.png
END:VEVENT
BEGIN:VEVENT
DTSTART;TZID=America/New_York:20290101T200000
DTEND;TZID=America/New_York:20290101T220000
DTSTAMP:20260424T033516
CREATED:20260422T171028Z
LAST-MODIFIED:20260422T171028Z
UID:10014775-1861992000-1861999200@zushislist.com
SUMMARY:MONDAY NIGHT LIVE FOR COLLEGE STUDENTS
DESCRIPTION:YEHUDI SOFLO CAMPUSES PRESENTS \nMONDAY NIGHT LIVE FOR COLLEGE STUDENTS \nVIBE WITH AWESOME PEOPLE \nEVERY MONDAY 8-10PM \nDYNAMIC SPEAKERS AND DISCUSSIONS \nFREE  DINNER AND DESSERT \n@THE HUB | 3790 ROYAL PALM AVE
URL:https://zushislist.com/single-event/monday-night-live-for-college-students/2029-01-01/
LOCATION:The Hub\, 3790 ROYAL PALM AVE\, United States
CATEGORIES:Youth
ATTACH;FMTTYPE=image/png:https://zushislist.com/wp-content/uploads/2026/04/Every-monday-night.png
END:VEVENT
BEGIN:VEVENT
DTSTART;TZID=America/New_York:20290108T200000
DTEND;TZID=America/New_York:20290108T220000
DTSTAMP:20260424T033516
CREATED:20260422T171028Z
LAST-MODIFIED:20260422T171028Z
UID:10014776-1862596800-1862604000@zushislist.com
SUMMARY:MONDAY NIGHT LIVE FOR COLLEGE STUDENTS
DESCRIPTION:YEHUDI SOFLO CAMPUSES PRESENTS \nMONDAY NIGHT LIVE FOR COLLEGE STUDENTS \nVIBE WITH AWESOME PEOPLE \nEVERY MONDAY 8-10PM \nDYNAMIC SPEAKERS AND DISCUSSIONS \nFREE  DINNER AND DESSERT \n@THE HUB | 3790 ROYAL PALM AVE
URL:https://zushislist.com/single-event/monday-night-live-for-college-students/2029-01-08/
LOCATION:The Hub\, 3790 ROYAL PALM AVE\, United States
CATEGORIES:Youth
ATTACH;FMTTYPE=image/png:https://zushislist.com/wp-content/uploads/2026/04/Every-monday-night.png
END:VEVENT
BEGIN:VEVENT
DTSTART;TZID=America/New_York:20290115T200000
DTEND;TZID=America/New_York:20290115T220000
DTSTAMP:20260424T033516
CREATED:20260422T171028Z
LAST-MODIFIED:20260422T171028Z
UID:10014777-1863201600-1863208800@zushislist.com
SUMMARY:MONDAY NIGHT LIVE FOR COLLEGE STUDENTS
DESCRIPTION:YEHUDI SOFLO CAMPUSES PRESENTS \nMONDAY NIGHT LIVE FOR COLLEGE STUDENTS \nVIBE WITH AWESOME PEOPLE \nEVERY MONDAY 8-10PM \nDYNAMIC SPEAKERS AND DISCUSSIONS \nFREE  DINNER AND DESSERT \n@THE HUB | 3790 ROYAL PALM AVE
URL:https://zushislist.com/single-event/monday-night-live-for-college-students/2029-01-15/
LOCATION:The Hub\, 3790 ROYAL PALM AVE\, United States
CATEGORIES:Youth
ATTACH;FMTTYPE=image/png:https://zushislist.com/wp-content/uploads/2026/04/Every-monday-night.png
END:VEVENT
BEGIN:VEVENT
DTSTART;TZID=America/New_York:20290122T200000
DTEND;TZID=America/New_York:20290122T220000
DTSTAMP:20260424T033516
CREATED:20260422T171028Z
LAST-MODIFIED:20260422T171028Z
UID:10014778-1863806400-1863813600@zushislist.com
SUMMARY:MONDAY NIGHT LIVE FOR COLLEGE STUDENTS
DESCRIPTION:YEHUDI SOFLO CAMPUSES PRESENTS \nMONDAY NIGHT LIVE FOR COLLEGE STUDENTS \nVIBE WITH AWESOME PEOPLE \nEVERY MONDAY 8-10PM \nDYNAMIC SPEAKERS AND DISCUSSIONS \nFREE  DINNER AND DESSERT \n@THE HUB | 3790 ROYAL PALM AVE
URL:https://zushislist.com/single-event/monday-night-live-for-college-students/2029-01-22/
LOCATION:The Hub\, 3790 ROYAL PALM AVE\, United States
CATEGORIES:Youth
ATTACH;FMTTYPE=image/png:https://zushislist.com/wp-content/uploads/2026/04/Every-monday-night.png
END:VEVENT
BEGIN:VEVENT
DTSTART;TZID=America/New_York:20290129T200000
DTEND;TZID=America/New_York:20290129T220000
DTSTAMP:20260424T033516
CREATED:20260422T171028Z
LAST-MODIFIED:20260422T171028Z
UID:10014779-1864411200-1864418400@zushislist.com
SUMMARY:MONDAY NIGHT LIVE FOR COLLEGE STUDENTS
DESCRIPTION:YEHUDI SOFLO CAMPUSES PRESENTS \nMONDAY NIGHT LIVE FOR COLLEGE STUDENTS \nVIBE WITH AWESOME PEOPLE \nEVERY MONDAY 8-10PM \nDYNAMIC SPEAKERS AND DISCUSSIONS \nFREE  DINNER AND DESSERT \n@THE HUB | 3790 ROYAL PALM AVE
URL:https://zushislist.com/single-event/monday-night-live-for-college-students/2029-01-29/
LOCATION:The Hub\, 3790 ROYAL PALM AVE\, United States
CATEGORIES:Youth
ATTACH;FMTTYPE=image/png:https://zushislist.com/wp-content/uploads/2026/04/Every-monday-night.png
END:VEVENT
BEGIN:VEVENT
DTSTART;TZID=America/New_York:20290205T200000
DTEND;TZID=America/New_York:20290205T220000
DTSTAMP:20260424T033516
CREATED:20260422T171028Z
LAST-MODIFIED:20260422T171028Z
UID:10014780-1865016000-1865023200@zushislist.com
SUMMARY:MONDAY NIGHT LIVE FOR COLLEGE STUDENTS
DESCRIPTION:YEHUDI SOFLO CAMPUSES PRESENTS \nMONDAY NIGHT LIVE FOR COLLEGE STUDENTS \nVIBE WITH AWESOME PEOPLE \nEVERY MONDAY 8-10PM \nDYNAMIC SPEAKERS AND DISCUSSIONS \nFREE  DINNER AND DESSERT \n@THE HUB | 3790 ROYAL PALM AVE
URL:https://zushislist.com/single-event/monday-night-live-for-college-students/2029-02-05/
LOCATION:The Hub\, 3790 ROYAL PALM AVE\, United States
CATEGORIES:Youth
ATTACH;FMTTYPE=image/png:https://zushislist.com/wp-content/uploads/2026/04/Every-monday-night.png
END:VEVENT
BEGIN:VEVENT
DTSTART;TZID=America/New_York:20290212T200000
DTEND;TZID=America/New_York:20290212T220000
DTSTAMP:20260424T033516
CREATED:20260422T171028Z
LAST-MODIFIED:20260422T171028Z
UID:10014781-1865620800-1865628000@zushislist.com
SUMMARY:MONDAY NIGHT LIVE FOR COLLEGE STUDENTS
DESCRIPTION:YEHUDI SOFLO CAMPUSES PRESENTS \nMONDAY NIGHT LIVE FOR COLLEGE STUDENTS \nVIBE WITH AWESOME PEOPLE \nEVERY MONDAY 8-10PM \nDYNAMIC SPEAKERS AND DISCUSSIONS \nFREE  DINNER AND DESSERT \n@THE HUB | 3790 ROYAL PALM AVE
URL:https://zushislist.com/single-event/monday-night-live-for-college-students/2029-02-12/
LOCATION:The Hub\, 3790 ROYAL PALM AVE\, United States
CATEGORIES:Youth
ATTACH;FMTTYPE=image/png:https://zushislist.com/wp-content/uploads/2026/04/Every-monday-night.png
END:VEVENT
BEGIN:VEVENT
DTSTART;TZID=America/New_York:20290219T200000
DTEND;TZID=America/New_York:20290219T220000
DTSTAMP:20260424T033516
CREATED:20260422T171028Z
LAST-MODIFIED:20260422T171028Z
UID:10014782-1866225600-1866232800@zushislist.com
SUMMARY:MONDAY NIGHT LIVE FOR COLLEGE STUDENTS
DESCRIPTION:YEHUDI SOFLO CAMPUSES PRESENTS \nMONDAY NIGHT LIVE FOR COLLEGE STUDENTS \nVIBE WITH AWESOME PEOPLE \nEVERY MONDAY 8-10PM \nDYNAMIC SPEAKERS AND DISCUSSIONS \nFREE  DINNER AND DESSERT \n@THE HUB | 3790 ROYAL PALM AVE
URL:https://zushislist.com/single-event/monday-night-live-for-college-students/2029-02-19/
LOCATION:The Hub\, 3790 ROYAL PALM AVE\, United States
CATEGORIES:Youth
ATTACH;FMTTYPE=image/png:https://zushislist.com/wp-content/uploads/2026/04/Every-monday-night.png
END:VEVENT
BEGIN:VEVENT
DTSTART;TZID=America/New_York:20290226T200000
DTEND;TZID=America/New_York:20290226T220000
DTSTAMP:20260424T033516
CREATED:20260422T171028Z
LAST-MODIFIED:20260422T171028Z
UID:10014783-1866830400-1866837600@zushislist.com
SUMMARY:MONDAY NIGHT LIVE FOR COLLEGE STUDENTS
DESCRIPTION:YEHUDI SOFLO CAMPUSES PRESENTS \nMONDAY NIGHT LIVE FOR COLLEGE STUDENTS \nVIBE WITH AWESOME PEOPLE \nEVERY MONDAY 8-10PM \nDYNAMIC SPEAKERS AND DISCUSSIONS \nFREE  DINNER AND DESSERT \n@THE HUB | 3790 ROYAL PALM AVE
URL:https://zushislist.com/single-event/monday-night-live-for-college-students/2029-02-26/
LOCATION:The Hub\, 3790 ROYAL PALM AVE\, United States
CATEGORIES:Youth
ATTACH;FMTTYPE=image/png:https://zushislist.com/wp-content/uploads/2026/04/Every-monday-night.png
END:VEVENT
BEGIN:VEVENT
DTSTART;TZID=America/New_York:20290305T200000
DTEND;TZID=America/New_York:20290305T220000
DTSTAMP:20260424T033516
CREATED:20260422T171028Z
LAST-MODIFIED:20260422T171028Z
UID:10014784-1867435200-1867442400@zushislist.com
SUMMARY:MONDAY NIGHT LIVE FOR COLLEGE STUDENTS
DESCRIPTION:YEHUDI SOFLO CAMPUSES PRESENTS \nMONDAY NIGHT LIVE FOR COLLEGE STUDENTS \nVIBE WITH AWESOME PEOPLE \nEVERY MONDAY 8-10PM \nDYNAMIC SPEAKERS AND DISCUSSIONS \nFREE  DINNER AND DESSERT \n@THE HUB | 3790 ROYAL PALM AVE
URL:https://zushislist.com/single-event/monday-night-live-for-college-students/2029-03-05/
LOCATION:The Hub\, 3790 ROYAL PALM AVE\, United States
CATEGORIES:Youth
ATTACH;FMTTYPE=image/png:https://zushislist.com/wp-content/uploads/2026/04/Every-monday-night.png
END:VEVENT
BEGIN:VEVENT
DTSTART;TZID=America/New_York:20290312T200000
DTEND;TZID=America/New_York:20290312T220000
DTSTAMP:20260424T033516
CREATED:20260422T171028Z
LAST-MODIFIED:20260422T171028Z
UID:10014785-1868040000-1868047200@zushislist.com
SUMMARY:MONDAY NIGHT LIVE FOR COLLEGE STUDENTS
DESCRIPTION:YEHUDI SOFLO CAMPUSES PRESENTS \nMONDAY NIGHT LIVE FOR COLLEGE STUDENTS \nVIBE WITH AWESOME PEOPLE \nEVERY MONDAY 8-10PM \nDYNAMIC SPEAKERS AND DISCUSSIONS \nFREE  DINNER AND DESSERT \n@THE HUB | 3790 ROYAL PALM AVE
URL:https://zushislist.com/single-event/monday-night-live-for-college-students/2029-03-12/
LOCATION:The Hub\, 3790 ROYAL PALM AVE\, United States
CATEGORIES:Youth
ATTACH;FMTTYPE=image/png:https://zushislist.com/wp-content/uploads/2026/04/Every-monday-night.png
END:VEVENT
BEGIN:VEVENT
DTSTART;TZID=America/New_York:20290319T200000
DTEND;TZID=America/New_York:20290319T220000
DTSTAMP:20260424T033516
CREATED:20260422T171028Z
LAST-MODIFIED:20260422T171028Z
UID:10014786-1868644800-1868652000@zushislist.com
SUMMARY:MONDAY NIGHT LIVE FOR COLLEGE STUDENTS
DESCRIPTION:YEHUDI SOFLO CAMPUSES PRESENTS \nMONDAY NIGHT LIVE FOR COLLEGE STUDENTS \nVIBE WITH AWESOME PEOPLE \nEVERY MONDAY 8-10PM \nDYNAMIC SPEAKERS AND DISCUSSIONS \nFREE  DINNER AND DESSERT \n@THE HUB | 3790 ROYAL PALM AVE
URL:https://zushislist.com/single-event/monday-night-live-for-college-students/2029-03-19/
LOCATION:The Hub\, 3790 ROYAL PALM AVE\, United States
CATEGORIES:Youth
ATTACH;FMTTYPE=image/png:https://zushislist.com/wp-content/uploads/2026/04/Every-monday-night.png
END:VEVENT
BEGIN:VEVENT
DTSTART;TZID=America/New_York:20290326T200000
DTEND;TZID=America/New_York:20290326T220000
DTSTAMP:20260424T033516
CREATED:20260422T171028Z
LAST-MODIFIED:20260422T171028Z
UID:10014787-1869249600-1869256800@zushislist.com
SUMMARY:MONDAY NIGHT LIVE FOR COLLEGE STUDENTS
DESCRIPTION:YEHUDI SOFLO CAMPUSES PRESENTS \nMONDAY NIGHT LIVE FOR COLLEGE STUDENTS \nVIBE WITH AWESOME PEOPLE \nEVERY MONDAY 8-10PM \nDYNAMIC SPEAKERS AND DISCUSSIONS \nFREE  DINNER AND DESSERT \n@THE HUB | 3790 ROYAL PALM AVE
URL:https://zushislist.com/single-event/monday-night-live-for-college-students/2029-03-26/
LOCATION:The Hub\, 3790 ROYAL PALM AVE\, United States
CATEGORIES:Youth
ATTACH;FMTTYPE=image/png:https://zushislist.com/wp-content/uploads/2026/04/Every-monday-night.png
END:VEVENT
BEGIN:VEVENT
DTSTART;TZID=America/New_York:20290402T200000
DTEND;TZID=America/New_York:20290402T220000
DTSTAMP:20260424T033516
CREATED:20260422T171028Z
LAST-MODIFIED:20260422T171028Z
UID:10014788-1869854400-1869861600@zushislist.com
SUMMARY:MONDAY NIGHT LIVE FOR COLLEGE STUDENTS
DESCRIPTION:YEHUDI SOFLO CAMPUSES PRESENTS \nMONDAY NIGHT LIVE FOR COLLEGE STUDENTS \nVIBE WITH AWESOME PEOPLE \nEVERY MONDAY 8-10PM \nDYNAMIC SPEAKERS AND DISCUSSIONS \nFREE  DINNER AND DESSERT \n@THE HUB | 3790 ROYAL PALM AVE
URL:https://zushislist.com/single-event/monday-night-live-for-college-students/2029-04-02/
LOCATION:The Hub\, 3790 ROYAL PALM AVE\, United States
CATEGORIES:Youth
ATTACH;FMTTYPE=image/png:https://zushislist.com/wp-content/uploads/2026/04/Every-monday-night.png
END:VEVENT
BEGIN:VEVENT
DTSTART;TZID=America/New_York:20290409T200000
DTEND;TZID=America/New_York:20290409T220000
DTSTAMP:20260424T033516
CREATED:20260422T171028Z
LAST-MODIFIED:20260422T171028Z
UID:10014789-1870459200-1870466400@zushislist.com
SUMMARY:MONDAY NIGHT LIVE FOR COLLEGE STUDENTS
DESCRIPTION:YEHUDI SOFLO CAMPUSES PRESENTS \nMONDAY NIGHT LIVE FOR COLLEGE STUDENTS \nVIBE WITH AWESOME PEOPLE \nEVERY MONDAY 8-10PM \nDYNAMIC SPEAKERS AND DISCUSSIONS \nFREE  DINNER AND DESSERT \n@THE HUB | 3790 ROYAL PALM AVE
URL:https://zushislist.com/single-event/monday-night-live-for-college-students/2029-04-09/
LOCATION:The Hub\, 3790 ROYAL PALM AVE\, United States
CATEGORIES:Youth
ATTACH;FMTTYPE=image/png:https://zushislist.com/wp-content/uploads/2026/04/Every-monday-night.png
END:VEVENT
END:VCALENDAR