BEGIN:VCALENDAR
VERSION:2.0
PRODID:-//Zushi&#039;s List - ECPv6.15.20//NONSGML v1.0//EN
CALSCALE:GREGORIAN
METHOD:PUBLISH
X-ORIGINAL-URL:https://zushislist.com
X-WR-CALDESC:Events for Zushi&#039;s List
REFRESH-INTERVAL;VALUE=DURATION:PT1H
X-Robots-Tag:noindex
X-PUBLISHED-TTL:PT1H
BEGIN:VTIMEZONE
TZID:America/New_York
BEGIN:DAYLIGHT
TZOFFSETFROM:-0500
TZOFFSETTO:-0400
TZNAME:EDT
DTSTART:20250309T070000
END:DAYLIGHT
BEGIN:STANDARD
TZOFFSETFROM:-0400
TZOFFSETTO:-0500
TZNAME:EST
DTSTART:20251102T060000
END:STANDARD
BEGIN:DAYLIGHT
TZOFFSETFROM:-0500
TZOFFSETTO:-0400
TZNAME:EDT
DTSTART:20260308T070000
END:DAYLIGHT
BEGIN:STANDARD
TZOFFSETFROM:-0400
TZOFFSETTO:-0500
TZNAME:EST
DTSTART:20261101T060000
END:STANDARD
BEGIN:DAYLIGHT
TZOFFSETFROM:-0500
TZOFFSETTO:-0400
TZNAME:EDT
DTSTART:20270314T070000
END:DAYLIGHT
BEGIN:STANDARD
TZOFFSETFROM:-0400
TZOFFSETTO:-0500
TZNAME:EST
DTSTART:20271107T060000
END:STANDARD
END:VTIMEZONE
BEGIN:VEVENT
DTSTART;TZID=America/New_York:20260320T180000
DTEND;TZID=America/New_York:20260320T203000
DTSTAMP:20260421T031241
CREATED:20260227T180411Z
LAST-MODIFIED:20260227T180411Z
UID:10010376-1774029600-1774038600@zushislist.com
SUMMARY:SHABBAT
DESCRIPTION:JOIN MIAMI JEWISH YOUNG PROFESSIONALS & GRAD STUDENTS FOR… \nSHABBAT \n\nFRIDAY\, MARCH 20\n7PM Drinks\, Dinner & Shmooze\n6PM Services\nUNIVERSITY OF MIAMI HILLEL\nFREE EVENT\nRSVP BY MARCH 13\nbit.ly/ShabbatUM
URL:https://zushislist.com/single-event/shabbat/
LOCATION:UNIVERSITY OF MIAMI HILLEL
CATEGORIES:Shabbat
ATTACH;FMTTYPE=image/jpeg:https://zushislist.com/wp-content/uploads/2026/02/Jewish-Community-e1772215425222.jpeg
END:VEVENT
END:VCALENDAR