BEGIN:VCALENDAR
VERSION:2.0
PRODID:-//Zushi&#039;s List - ECPv6.15.20//NONSGML v1.0//EN
CALSCALE:GREGORIAN
METHOD:PUBLISH
X-WR-CALNAME:Zushi&#039;s List
X-ORIGINAL-URL:https://zushislist.com
X-WR-CALDESC:Events for Zushi&#039;s List
REFRESH-INTERVAL;VALUE=DURATION:PT1H
X-Robots-Tag:noindex
X-PUBLISHED-TTL:PT1H
BEGIN:VTIMEZONE
TZID:UTC
BEGIN:STANDARD
TZOFFSETFROM:+0000
TZOFFSETTO:+0000
TZNAME:UTC
DTSTART:20250101T000000
END:STANDARD
END:VTIMEZONE
BEGIN:VEVENT
DTSTART;TZID=UTC:20260416T140000
DTEND;TZID=UTC:20260416T180000
DTSTAMP:20260420T071610
CREATED:20251108T121742Z
LAST-MODIFIED:20260411T135952Z
UID:10007955-1776348000-1776362400@zushislist.com
SUMMARY:JAFCO Live\, Love\, Lunch
DESCRIPTION:Boutique\, luncheon\, and heartwarming program to raise money for children who have been impacted by abuse and neglect.
URL:https://zushislist.com/single-event/jafco-live-love-lunch/
LOCATION:University of Miami Shalala Center\, 1330 Miller Dr\, Miami\, FL\, United States
CATEGORIES:Community Event
GEO:25.718913;-80.276164
X-APPLE-STRUCTURED-LOCATION;VALUE=URI;X-ADDRESS=University of Miami Shalala Center 1330 Miller Dr Miami FL United States;X-APPLE-RADIUS=500;X-TITLE=1330 Miller Dr:geo:-80.276164,25.718913
END:VEVENT
END:VCALENDAR