BEGIN:VCALENDAR
VERSION:2.0
PRODID:-//Zushi&#039;s List - ECPv6.15.20//NONSGML v1.0//EN
CALSCALE:GREGORIAN
METHOD:PUBLISH
X-WR-CALNAME:Zushi&#039;s List
X-ORIGINAL-URL:https://zushislist.com
X-WR-CALDESC:Events for Zushi&#039;s List
REFRESH-INTERVAL;VALUE=DURATION:PT1H
X-Robots-Tag:noindex
X-PUBLISHED-TTL:PT1H
BEGIN:VTIMEZONE
TZID:UTC
BEGIN:STANDARD
TZOFFSETFROM:+0000
TZOFFSETTO:+0000
TZNAME:UTC
DTSTART:20250101T000000
END:STANDARD
END:VTIMEZONE
BEGIN:VEVENT
DTSTART;TZID=UTC:20260426T180000
DTEND;TZID=UTC:20260426T200000
DTSTAMP:20260425T175005
CREATED:20260425T141503Z
LAST-MODIFIED:20260425T141503Z
UID:10016018-1777226400-1777233600@zushislist.com
SUMMARY:Nowhereland Songs: A Musical Mosaic
DESCRIPTION:Experience a vibrant fusion of rhythms and sounds hosted by WMODA on April 26\, 2026\, from 2:00 pm to 4:00 pm. Singer and songwriter Alejandra Czarny will perform a repertoire marked by intimacy and clarity\, weaving together the melodies of the resilient Yiddish language with the passionate\, colorful soundscapes of Latin America. Alejandra’s music serves as a unique bridge between her dual heritage of Eastern European traditions and Argentine roots. Each piece is introduced with its own story\, ranging from personal memories to historical echoes\, inviting the audience into the heart of the music and creating a powerful emotional connection. The audience will also experience moments of joyful participation\, transforming the concert into a shared celebration of community. Music has the power to bridge cultures\, breaking down barriers and connecting hearts.\nTickets to this intimate performance include museum admission\, so be sure to enhance your afternoon by arriving early to immerse yourself in the beauty and brilliance of the Fired Arts before the show.\n$40 per person ($30 for WMODA members)\nApril 26 – Nowhereland Songs: A Musical Mosaic
URL:https://zushislist.com/single-event/nowhereland-songs-a-musical-mosaic/
LOCATION:Wiener Museum of Decorative Arts (WMODA)\, 3250 N 29th Ave\, Hollywood\, FL\, United States
CATEGORIES:Community Event
GEO:26.039205;-80.165666
X-APPLE-STRUCTURED-LOCATION;VALUE=URI;X-ADDRESS=Wiener Museum of Decorative Arts (WMODA) 3250 N 29th Ave Hollywood FL United States;X-APPLE-RADIUS=500;X-TITLE=3250 N 29th Ave:geo:-80.165666,26.039205
END:VEVENT
END:VCALENDAR