BEGIN:VCALENDAR
VERSION:2.0
PRODID:-//Zushi&#039;s List - ECPv6.15.20//NONSGML v1.0//EN
CALSCALE:GREGORIAN
METHOD:PUBLISH
X-ORIGINAL-URL:https://zushislist.com
X-WR-CALDESC:Events for Zushi&#039;s List
REFRESH-INTERVAL;VALUE=DURATION:PT1H
X-Robots-Tag:noindex
X-PUBLISHED-TTL:PT1H
BEGIN:VTIMEZONE
TZID:America/New_York
BEGIN:DAYLIGHT
TZOFFSETFROM:-0500
TZOFFSETTO:-0400
TZNAME:EDT
DTSTART:20290311T070000
END:DAYLIGHT
BEGIN:STANDARD
TZOFFSETFROM:-0400
TZOFFSETTO:-0500
TZNAME:EST
DTSTART:20291104T060000
END:STANDARD
BEGIN:DAYLIGHT
TZOFFSETFROM:-0500
TZOFFSETTO:-0400
TZNAME:EDT
DTSTART:20300310T070000
END:DAYLIGHT
BEGIN:STANDARD
TZOFFSETFROM:-0400
TZOFFSETTO:-0500
TZNAME:EST
DTSTART:20301103T060000
END:STANDARD
BEGIN:DAYLIGHT
TZOFFSETFROM:-0500
TZOFFSETTO:-0400
TZNAME:EDT
DTSTART:20310309T070000
END:DAYLIGHT
BEGIN:STANDARD
TZOFFSETFROM:-0400
TZOFFSETTO:-0500
TZNAME:EST
DTSTART:20311102T060000
END:STANDARD
BEGIN:DAYLIGHT
TZOFFSETFROM:-0500
TZOFFSETTO:-0400
TZNAME:EDT
DTSTART:20320314T070000
END:DAYLIGHT
BEGIN:STANDARD
TZOFFSETFROM:-0400
TZOFFSETTO:-0500
TZNAME:EST
DTSTART:20321107T060000
END:STANDARD
END:VTIMEZONE
BEGIN:VEVENT
DTSTART;TZID=America/New_York:20300820T191500
DTEND;TZID=America/New_York:20300820T210000
DTSTAMP:20260424T061920
CREATED:20260422T171726Z
LAST-MODIFIED:20260422T171726Z
UID:10015383-1913483700-1913490000@zushislist.com
SUMMARY:TUESDAYS at Yehudi
DESCRIPTION:TUESDAYS at Yehudi \nWEEKLY EVENT FOR JEWISH YP’S \nYEHUDI HUB MIAMI BEACH \nAGES – 22-32 \nMenu:  POKE\, CHEESE & WINE \nCOME EARLY FOR EXTRA INSPIRATION! \nNEW PRE-EVENT CLASSES @ 7:15 \n 
URL:https://zushislist.com/single-event/tuesdays-at-yehudi/2030-08-20/
LOCATION:YEHUDI HUB MIAMI BEACH\, United States
CATEGORIES:Young Professionals
ATTACH;FMTTYPE=image/png:https://zushislist.com/wp-content/uploads/2026/04/Every-tuesday.png
END:VEVENT
BEGIN:VEVENT
DTSTART;TZID=America/New_York:20300827T191500
DTEND;TZID=America/New_York:20300827T210000
DTSTAMP:20260424T061920
CREATED:20260422T171726Z
LAST-MODIFIED:20260422T171726Z
UID:10015384-1914088500-1914094800@zushislist.com
SUMMARY:TUESDAYS at Yehudi
DESCRIPTION:TUESDAYS at Yehudi \nWEEKLY EVENT FOR JEWISH YP’S \nYEHUDI HUB MIAMI BEACH \nAGES – 22-32 \nMenu:  POKE\, CHEESE & WINE \nCOME EARLY FOR EXTRA INSPIRATION! \nNEW PRE-EVENT CLASSES @ 7:15 \n 
URL:https://zushislist.com/single-event/tuesdays-at-yehudi/2030-08-27/
LOCATION:YEHUDI HUB MIAMI BEACH\, United States
CATEGORIES:Young Professionals
ATTACH;FMTTYPE=image/png:https://zushislist.com/wp-content/uploads/2026/04/Every-tuesday.png
END:VEVENT
BEGIN:VEVENT
DTSTART;TZID=America/New_York:20300903T191500
DTEND;TZID=America/New_York:20300903T210000
DTSTAMP:20260424T061920
CREATED:20260422T171726Z
LAST-MODIFIED:20260422T171726Z
UID:10015385-1914693300-1914699600@zushislist.com
SUMMARY:TUESDAYS at Yehudi
DESCRIPTION:TUESDAYS at Yehudi \nWEEKLY EVENT FOR JEWISH YP’S \nYEHUDI HUB MIAMI BEACH \nAGES – 22-32 \nMenu:  POKE\, CHEESE & WINE \nCOME EARLY FOR EXTRA INSPIRATION! \nNEW PRE-EVENT CLASSES @ 7:15 \n 
URL:https://zushislist.com/single-event/tuesdays-at-yehudi/2030-09-03/
LOCATION:YEHUDI HUB MIAMI BEACH\, United States
CATEGORIES:Young Professionals
ATTACH;FMTTYPE=image/png:https://zushislist.com/wp-content/uploads/2026/04/Every-tuesday.png
END:VEVENT
BEGIN:VEVENT
DTSTART;TZID=America/New_York:20300910T191500
DTEND;TZID=America/New_York:20300910T210000
DTSTAMP:20260424T061920
CREATED:20260422T171726Z
LAST-MODIFIED:20260422T171726Z
UID:10015386-1915298100-1915304400@zushislist.com
SUMMARY:TUESDAYS at Yehudi
DESCRIPTION:TUESDAYS at Yehudi \nWEEKLY EVENT FOR JEWISH YP’S \nYEHUDI HUB MIAMI BEACH \nAGES – 22-32 \nMenu:  POKE\, CHEESE & WINE \nCOME EARLY FOR EXTRA INSPIRATION! \nNEW PRE-EVENT CLASSES @ 7:15 \n 
URL:https://zushislist.com/single-event/tuesdays-at-yehudi/2030-09-10/
LOCATION:YEHUDI HUB MIAMI BEACH\, United States
CATEGORIES:Young Professionals
ATTACH;FMTTYPE=image/png:https://zushislist.com/wp-content/uploads/2026/04/Every-tuesday.png
END:VEVENT
BEGIN:VEVENT
DTSTART;TZID=America/New_York:20300917T191500
DTEND;TZID=America/New_York:20300917T210000
DTSTAMP:20260424T061920
CREATED:20260422T171726Z
LAST-MODIFIED:20260422T171726Z
UID:10015387-1915902900-1915909200@zushislist.com
SUMMARY:TUESDAYS at Yehudi
DESCRIPTION:TUESDAYS at Yehudi \nWEEKLY EVENT FOR JEWISH YP’S \nYEHUDI HUB MIAMI BEACH \nAGES – 22-32 \nMenu:  POKE\, CHEESE & WINE \nCOME EARLY FOR EXTRA INSPIRATION! \nNEW PRE-EVENT CLASSES @ 7:15 \n 
URL:https://zushislist.com/single-event/tuesdays-at-yehudi/2030-09-17/
LOCATION:YEHUDI HUB MIAMI BEACH\, United States
CATEGORIES:Young Professionals
ATTACH;FMTTYPE=image/png:https://zushislist.com/wp-content/uploads/2026/04/Every-tuesday.png
END:VEVENT
BEGIN:VEVENT
DTSTART;TZID=America/New_York:20300924T191500
DTEND;TZID=America/New_York:20300924T210000
DTSTAMP:20260424T061920
CREATED:20260422T171726Z
LAST-MODIFIED:20260422T171726Z
UID:10015388-1916507700-1916514000@zushislist.com
SUMMARY:TUESDAYS at Yehudi
DESCRIPTION:TUESDAYS at Yehudi \nWEEKLY EVENT FOR JEWISH YP’S \nYEHUDI HUB MIAMI BEACH \nAGES – 22-32 \nMenu:  POKE\, CHEESE & WINE \nCOME EARLY FOR EXTRA INSPIRATION! \nNEW PRE-EVENT CLASSES @ 7:15 \n 
URL:https://zushislist.com/single-event/tuesdays-at-yehudi/2030-09-24/
LOCATION:YEHUDI HUB MIAMI BEACH\, United States
CATEGORIES:Young Professionals
ATTACH;FMTTYPE=image/png:https://zushislist.com/wp-content/uploads/2026/04/Every-tuesday.png
END:VEVENT
BEGIN:VEVENT
DTSTART;TZID=America/New_York:20301001T191500
DTEND;TZID=America/New_York:20301001T210000
DTSTAMP:20260424T061920
CREATED:20260422T171726Z
LAST-MODIFIED:20260422T171726Z
UID:10015389-1917112500-1917118800@zushislist.com
SUMMARY:TUESDAYS at Yehudi
DESCRIPTION:TUESDAYS at Yehudi \nWEEKLY EVENT FOR JEWISH YP’S \nYEHUDI HUB MIAMI BEACH \nAGES – 22-32 \nMenu:  POKE\, CHEESE & WINE \nCOME EARLY FOR EXTRA INSPIRATION! \nNEW PRE-EVENT CLASSES @ 7:15 \n 
URL:https://zushislist.com/single-event/tuesdays-at-yehudi/2030-10-01/
LOCATION:YEHUDI HUB MIAMI BEACH\, United States
CATEGORIES:Young Professionals
ATTACH;FMTTYPE=image/png:https://zushislist.com/wp-content/uploads/2026/04/Every-tuesday.png
END:VEVENT
BEGIN:VEVENT
DTSTART;TZID=America/New_York:20301008T191500
DTEND;TZID=America/New_York:20301008T210000
DTSTAMP:20260424T061920
CREATED:20260422T171726Z
LAST-MODIFIED:20260422T171726Z
UID:10015390-1917717300-1917723600@zushislist.com
SUMMARY:TUESDAYS at Yehudi
DESCRIPTION:TUESDAYS at Yehudi \nWEEKLY EVENT FOR JEWISH YP’S \nYEHUDI HUB MIAMI BEACH \nAGES – 22-32 \nMenu:  POKE\, CHEESE & WINE \nCOME EARLY FOR EXTRA INSPIRATION! \nNEW PRE-EVENT CLASSES @ 7:15 \n 
URL:https://zushislist.com/single-event/tuesdays-at-yehudi/2030-10-08/
LOCATION:YEHUDI HUB MIAMI BEACH\, United States
CATEGORIES:Young Professionals
ATTACH;FMTTYPE=image/png:https://zushislist.com/wp-content/uploads/2026/04/Every-tuesday.png
END:VEVENT
BEGIN:VEVENT
DTSTART;TZID=America/New_York:20301015T191500
DTEND;TZID=America/New_York:20301015T210000
DTSTAMP:20260424T061920
CREATED:20260422T171726Z
LAST-MODIFIED:20260422T171726Z
UID:10015391-1918322100-1918328400@zushislist.com
SUMMARY:TUESDAYS at Yehudi
DESCRIPTION:TUESDAYS at Yehudi \nWEEKLY EVENT FOR JEWISH YP’S \nYEHUDI HUB MIAMI BEACH \nAGES – 22-32 \nMenu:  POKE\, CHEESE & WINE \nCOME EARLY FOR EXTRA INSPIRATION! \nNEW PRE-EVENT CLASSES @ 7:15 \n 
URL:https://zushislist.com/single-event/tuesdays-at-yehudi/2030-10-15/
LOCATION:YEHUDI HUB MIAMI BEACH\, United States
CATEGORIES:Young Professionals
ATTACH;FMTTYPE=image/png:https://zushislist.com/wp-content/uploads/2026/04/Every-tuesday.png
END:VEVENT
BEGIN:VEVENT
DTSTART;TZID=America/New_York:20301022T191500
DTEND;TZID=America/New_York:20301022T210000
DTSTAMP:20260424T061920
CREATED:20260422T171726Z
LAST-MODIFIED:20260422T171726Z
UID:10015392-1918926900-1918933200@zushislist.com
SUMMARY:TUESDAYS at Yehudi
DESCRIPTION:TUESDAYS at Yehudi \nWEEKLY EVENT FOR JEWISH YP’S \nYEHUDI HUB MIAMI BEACH \nAGES – 22-32 \nMenu:  POKE\, CHEESE & WINE \nCOME EARLY FOR EXTRA INSPIRATION! \nNEW PRE-EVENT CLASSES @ 7:15 \n 
URL:https://zushislist.com/single-event/tuesdays-at-yehudi/2030-10-22/
LOCATION:YEHUDI HUB MIAMI BEACH\, United States
CATEGORIES:Young Professionals
ATTACH;FMTTYPE=image/png:https://zushislist.com/wp-content/uploads/2026/04/Every-tuesday.png
END:VEVENT
BEGIN:VEVENT
DTSTART;TZID=America/New_York:20301029T191500
DTEND;TZID=America/New_York:20301029T210000
DTSTAMP:20260424T061920
CREATED:20260422T171726Z
LAST-MODIFIED:20260422T171726Z
UID:10015393-1919531700-1919538000@zushislist.com
SUMMARY:TUESDAYS at Yehudi
DESCRIPTION:TUESDAYS at Yehudi \nWEEKLY EVENT FOR JEWISH YP’S \nYEHUDI HUB MIAMI BEACH \nAGES – 22-32 \nMenu:  POKE\, CHEESE & WINE \nCOME EARLY FOR EXTRA INSPIRATION! \nNEW PRE-EVENT CLASSES @ 7:15 \n 
URL:https://zushislist.com/single-event/tuesdays-at-yehudi/2030-10-29/
LOCATION:YEHUDI HUB MIAMI BEACH\, United States
CATEGORIES:Young Professionals
ATTACH;FMTTYPE=image/png:https://zushislist.com/wp-content/uploads/2026/04/Every-tuesday.png
END:VEVENT
BEGIN:VEVENT
DTSTART;TZID=America/New_York:20301105T191500
DTEND;TZID=America/New_York:20301105T210000
DTSTAMP:20260424T061920
CREATED:20260422T171726Z
LAST-MODIFIED:20260422T171726Z
UID:10015394-1920136500-1920142800@zushislist.com
SUMMARY:TUESDAYS at Yehudi
DESCRIPTION:TUESDAYS at Yehudi \nWEEKLY EVENT FOR JEWISH YP’S \nYEHUDI HUB MIAMI BEACH \nAGES – 22-32 \nMenu:  POKE\, CHEESE & WINE \nCOME EARLY FOR EXTRA INSPIRATION! \nNEW PRE-EVENT CLASSES @ 7:15 \n 
URL:https://zushislist.com/single-event/tuesdays-at-yehudi/2030-11-05/
LOCATION:YEHUDI HUB MIAMI BEACH\, United States
CATEGORIES:Young Professionals
ATTACH;FMTTYPE=image/png:https://zushislist.com/wp-content/uploads/2026/04/Every-tuesday.png
END:VEVENT
BEGIN:VEVENT
DTSTART;TZID=America/New_York:20301112T191500
DTEND;TZID=America/New_York:20301112T210000
DTSTAMP:20260424T061920
CREATED:20260422T171726Z
LAST-MODIFIED:20260422T171726Z
UID:10015395-1920741300-1920747600@zushislist.com
SUMMARY:TUESDAYS at Yehudi
DESCRIPTION:TUESDAYS at Yehudi \nWEEKLY EVENT FOR JEWISH YP’S \nYEHUDI HUB MIAMI BEACH \nAGES – 22-32 \nMenu:  POKE\, CHEESE & WINE \nCOME EARLY FOR EXTRA INSPIRATION! \nNEW PRE-EVENT CLASSES @ 7:15 \n 
URL:https://zushislist.com/single-event/tuesdays-at-yehudi/2030-11-12/
LOCATION:YEHUDI HUB MIAMI BEACH\, United States
CATEGORIES:Young Professionals
ATTACH;FMTTYPE=image/png:https://zushislist.com/wp-content/uploads/2026/04/Every-tuesday.png
END:VEVENT
BEGIN:VEVENT
DTSTART;TZID=America/New_York:20301119T191500
DTEND;TZID=America/New_York:20301119T210000
DTSTAMP:20260424T061920
CREATED:20260422T171726Z
LAST-MODIFIED:20260422T171726Z
UID:10015396-1921346100-1921352400@zushislist.com
SUMMARY:TUESDAYS at Yehudi
DESCRIPTION:TUESDAYS at Yehudi \nWEEKLY EVENT FOR JEWISH YP’S \nYEHUDI HUB MIAMI BEACH \nAGES – 22-32 \nMenu:  POKE\, CHEESE & WINE \nCOME EARLY FOR EXTRA INSPIRATION! \nNEW PRE-EVENT CLASSES @ 7:15 \n 
URL:https://zushislist.com/single-event/tuesdays-at-yehudi/2030-11-19/
LOCATION:YEHUDI HUB MIAMI BEACH\, United States
CATEGORIES:Young Professionals
ATTACH;FMTTYPE=image/png:https://zushislist.com/wp-content/uploads/2026/04/Every-tuesday.png
END:VEVENT
BEGIN:VEVENT
DTSTART;TZID=America/New_York:20301126T191500
DTEND;TZID=America/New_York:20301126T210000
DTSTAMP:20260424T061920
CREATED:20260422T171726Z
LAST-MODIFIED:20260422T171726Z
UID:10015397-1921950900-1921957200@zushislist.com
SUMMARY:TUESDAYS at Yehudi
DESCRIPTION:TUESDAYS at Yehudi \nWEEKLY EVENT FOR JEWISH YP’S \nYEHUDI HUB MIAMI BEACH \nAGES – 22-32 \nMenu:  POKE\, CHEESE & WINE \nCOME EARLY FOR EXTRA INSPIRATION! \nNEW PRE-EVENT CLASSES @ 7:15 \n 
URL:https://zushislist.com/single-event/tuesdays-at-yehudi/2030-11-26/
LOCATION:YEHUDI HUB MIAMI BEACH\, United States
CATEGORIES:Young Professionals
ATTACH;FMTTYPE=image/png:https://zushislist.com/wp-content/uploads/2026/04/Every-tuesday.png
END:VEVENT
BEGIN:VEVENT
DTSTART;TZID=America/New_York:20301203T191500
DTEND;TZID=America/New_York:20301203T210000
DTSTAMP:20260424T061920
CREATED:20260422T171726Z
LAST-MODIFIED:20260422T171726Z
UID:10015398-1922555700-1922562000@zushislist.com
SUMMARY:TUESDAYS at Yehudi
DESCRIPTION:TUESDAYS at Yehudi \nWEEKLY EVENT FOR JEWISH YP’S \nYEHUDI HUB MIAMI BEACH \nAGES – 22-32 \nMenu:  POKE\, CHEESE & WINE \nCOME EARLY FOR EXTRA INSPIRATION! \nNEW PRE-EVENT CLASSES @ 7:15 \n 
URL:https://zushislist.com/single-event/tuesdays-at-yehudi/2030-12-03/
LOCATION:YEHUDI HUB MIAMI BEACH\, United States
CATEGORIES:Young Professionals
ATTACH;FMTTYPE=image/png:https://zushislist.com/wp-content/uploads/2026/04/Every-tuesday.png
END:VEVENT
BEGIN:VEVENT
DTSTART;TZID=America/New_York:20301210T191500
DTEND;TZID=America/New_York:20301210T210000
DTSTAMP:20260424T061920
CREATED:20260422T171726Z
LAST-MODIFIED:20260422T171726Z
UID:10015399-1923160500-1923166800@zushislist.com
SUMMARY:TUESDAYS at Yehudi
DESCRIPTION:TUESDAYS at Yehudi \nWEEKLY EVENT FOR JEWISH YP’S \nYEHUDI HUB MIAMI BEACH \nAGES – 22-32 \nMenu:  POKE\, CHEESE & WINE \nCOME EARLY FOR EXTRA INSPIRATION! \nNEW PRE-EVENT CLASSES @ 7:15 \n 
URL:https://zushislist.com/single-event/tuesdays-at-yehudi/2030-12-10/
LOCATION:YEHUDI HUB MIAMI BEACH\, United States
CATEGORIES:Young Professionals
ATTACH;FMTTYPE=image/png:https://zushislist.com/wp-content/uploads/2026/04/Every-tuesday.png
END:VEVENT
BEGIN:VEVENT
DTSTART;TZID=America/New_York:20301217T191500
DTEND;TZID=America/New_York:20301217T210000
DTSTAMP:20260424T061920
CREATED:20260422T171726Z
LAST-MODIFIED:20260422T171726Z
UID:10015400-1923765300-1923771600@zushislist.com
SUMMARY:TUESDAYS at Yehudi
DESCRIPTION:TUESDAYS at Yehudi \nWEEKLY EVENT FOR JEWISH YP’S \nYEHUDI HUB MIAMI BEACH \nAGES – 22-32 \nMenu:  POKE\, CHEESE & WINE \nCOME EARLY FOR EXTRA INSPIRATION! \nNEW PRE-EVENT CLASSES @ 7:15 \n 
URL:https://zushislist.com/single-event/tuesdays-at-yehudi/2030-12-17/
LOCATION:YEHUDI HUB MIAMI BEACH\, United States
CATEGORIES:Young Professionals
ATTACH;FMTTYPE=image/png:https://zushislist.com/wp-content/uploads/2026/04/Every-tuesday.png
END:VEVENT
BEGIN:VEVENT
DTSTART;TZID=America/New_York:20301224T191500
DTEND;TZID=America/New_York:20301224T210000
DTSTAMP:20260424T061920
CREATED:20260422T171726Z
LAST-MODIFIED:20260422T171726Z
UID:10015401-1924370100-1924376400@zushislist.com
SUMMARY:TUESDAYS at Yehudi
DESCRIPTION:TUESDAYS at Yehudi \nWEEKLY EVENT FOR JEWISH YP’S \nYEHUDI HUB MIAMI BEACH \nAGES – 22-32 \nMenu:  POKE\, CHEESE & WINE \nCOME EARLY FOR EXTRA INSPIRATION! \nNEW PRE-EVENT CLASSES @ 7:15 \n 
URL:https://zushislist.com/single-event/tuesdays-at-yehudi/2030-12-24/
LOCATION:YEHUDI HUB MIAMI BEACH\, United States
CATEGORIES:Young Professionals
ATTACH;FMTTYPE=image/png:https://zushislist.com/wp-content/uploads/2026/04/Every-tuesday.png
END:VEVENT
BEGIN:VEVENT
DTSTART;TZID=America/New_York:20301231T191500
DTEND;TZID=America/New_York:20301231T210000
DTSTAMP:20260424T061920
CREATED:20260422T171726Z
LAST-MODIFIED:20260422T171726Z
UID:10015402-1924974900-1924981200@zushislist.com
SUMMARY:TUESDAYS at Yehudi
DESCRIPTION:TUESDAYS at Yehudi \nWEEKLY EVENT FOR JEWISH YP’S \nYEHUDI HUB MIAMI BEACH \nAGES – 22-32 \nMenu:  POKE\, CHEESE & WINE \nCOME EARLY FOR EXTRA INSPIRATION! \nNEW PRE-EVENT CLASSES @ 7:15 \n 
URL:https://zushislist.com/single-event/tuesdays-at-yehudi/2030-12-31/
LOCATION:YEHUDI HUB MIAMI BEACH\, United States
CATEGORIES:Young Professionals
ATTACH;FMTTYPE=image/png:https://zushislist.com/wp-content/uploads/2026/04/Every-tuesday.png
END:VEVENT
BEGIN:VEVENT
DTSTART;TZID=America/New_York:20310107T191500
DTEND;TZID=America/New_York:20310107T210000
DTSTAMP:20260424T061920
CREATED:20260422T171726Z
LAST-MODIFIED:20260422T171726Z
UID:10015403-1925579700-1925586000@zushislist.com
SUMMARY:TUESDAYS at Yehudi
DESCRIPTION:TUESDAYS at Yehudi \nWEEKLY EVENT FOR JEWISH YP’S \nYEHUDI HUB MIAMI BEACH \nAGES – 22-32 \nMenu:  POKE\, CHEESE & WINE \nCOME EARLY FOR EXTRA INSPIRATION! \nNEW PRE-EVENT CLASSES @ 7:15 \n 
URL:https://zushislist.com/single-event/tuesdays-at-yehudi/2031-01-07/
LOCATION:YEHUDI HUB MIAMI BEACH\, United States
CATEGORIES:Young Professionals
ATTACH;FMTTYPE=image/png:https://zushislist.com/wp-content/uploads/2026/04/Every-tuesday.png
END:VEVENT
BEGIN:VEVENT
DTSTART;TZID=America/New_York:20310114T191500
DTEND;TZID=America/New_York:20310114T210000
DTSTAMP:20260424T061920
CREATED:20260422T171726Z
LAST-MODIFIED:20260422T171726Z
UID:10015404-1926184500-1926190800@zushislist.com
SUMMARY:TUESDAYS at Yehudi
DESCRIPTION:TUESDAYS at Yehudi \nWEEKLY EVENT FOR JEWISH YP’S \nYEHUDI HUB MIAMI BEACH \nAGES – 22-32 \nMenu:  POKE\, CHEESE & WINE \nCOME EARLY FOR EXTRA INSPIRATION! \nNEW PRE-EVENT CLASSES @ 7:15 \n 
URL:https://zushislist.com/single-event/tuesdays-at-yehudi/2031-01-14/
LOCATION:YEHUDI HUB MIAMI BEACH\, United States
CATEGORIES:Young Professionals
ATTACH;FMTTYPE=image/png:https://zushislist.com/wp-content/uploads/2026/04/Every-tuesday.png
END:VEVENT
BEGIN:VEVENT
DTSTART;TZID=America/New_York:20310121T191500
DTEND;TZID=America/New_York:20310121T210000
DTSTAMP:20260424T061920
CREATED:20260422T171726Z
LAST-MODIFIED:20260422T171726Z
UID:10015405-1926789300-1926795600@zushislist.com
SUMMARY:TUESDAYS at Yehudi
DESCRIPTION:TUESDAYS at Yehudi \nWEEKLY EVENT FOR JEWISH YP’S \nYEHUDI HUB MIAMI BEACH \nAGES – 22-32 \nMenu:  POKE\, CHEESE & WINE \nCOME EARLY FOR EXTRA INSPIRATION! \nNEW PRE-EVENT CLASSES @ 7:15 \n 
URL:https://zushislist.com/single-event/tuesdays-at-yehudi/2031-01-21/
LOCATION:YEHUDI HUB MIAMI BEACH\, United States
CATEGORIES:Young Professionals
ATTACH;FMTTYPE=image/png:https://zushislist.com/wp-content/uploads/2026/04/Every-tuesday.png
END:VEVENT
BEGIN:VEVENT
DTSTART;TZID=America/New_York:20310128T191500
DTEND;TZID=America/New_York:20310128T210000
DTSTAMP:20260424T061920
CREATED:20260422T171726Z
LAST-MODIFIED:20260422T171726Z
UID:10015406-1927394100-1927400400@zushislist.com
SUMMARY:TUESDAYS at Yehudi
DESCRIPTION:TUESDAYS at Yehudi \nWEEKLY EVENT FOR JEWISH YP’S \nYEHUDI HUB MIAMI BEACH \nAGES – 22-32 \nMenu:  POKE\, CHEESE & WINE \nCOME EARLY FOR EXTRA INSPIRATION! \nNEW PRE-EVENT CLASSES @ 7:15 \n 
URL:https://zushislist.com/single-event/tuesdays-at-yehudi/2031-01-28/
LOCATION:YEHUDI HUB MIAMI BEACH\, United States
CATEGORIES:Young Professionals
ATTACH;FMTTYPE=image/png:https://zushislist.com/wp-content/uploads/2026/04/Every-tuesday.png
END:VEVENT
BEGIN:VEVENT
DTSTART;TZID=America/New_York:20310204T191500
DTEND;TZID=America/New_York:20310204T210000
DTSTAMP:20260424T061920
CREATED:20260422T171726Z
LAST-MODIFIED:20260422T171726Z
UID:10015407-1927998900-1928005200@zushislist.com
SUMMARY:TUESDAYS at Yehudi
DESCRIPTION:TUESDAYS at Yehudi \nWEEKLY EVENT FOR JEWISH YP’S \nYEHUDI HUB MIAMI BEACH \nAGES – 22-32 \nMenu:  POKE\, CHEESE & WINE \nCOME EARLY FOR EXTRA INSPIRATION! \nNEW PRE-EVENT CLASSES @ 7:15 \n 
URL:https://zushislist.com/single-event/tuesdays-at-yehudi/2031-02-04/
LOCATION:YEHUDI HUB MIAMI BEACH\, United States
CATEGORIES:Young Professionals
ATTACH;FMTTYPE=image/png:https://zushislist.com/wp-content/uploads/2026/04/Every-tuesday.png
END:VEVENT
BEGIN:VEVENT
DTSTART;TZID=America/New_York:20310211T191500
DTEND;TZID=America/New_York:20310211T210000
DTSTAMP:20260424T061920
CREATED:20260422T171726Z
LAST-MODIFIED:20260422T171726Z
UID:10015408-1928603700-1928610000@zushislist.com
SUMMARY:TUESDAYS at Yehudi
DESCRIPTION:TUESDAYS at Yehudi \nWEEKLY EVENT FOR JEWISH YP’S \nYEHUDI HUB MIAMI BEACH \nAGES – 22-32 \nMenu:  POKE\, CHEESE & WINE \nCOME EARLY FOR EXTRA INSPIRATION! \nNEW PRE-EVENT CLASSES @ 7:15 \n 
URL:https://zushislist.com/single-event/tuesdays-at-yehudi/2031-02-11/
LOCATION:YEHUDI HUB MIAMI BEACH\, United States
CATEGORIES:Young Professionals
ATTACH;FMTTYPE=image/png:https://zushislist.com/wp-content/uploads/2026/04/Every-tuesday.png
END:VEVENT
BEGIN:VEVENT
DTSTART;TZID=America/New_York:20310218T191500
DTEND;TZID=America/New_York:20310218T210000
DTSTAMP:20260424T061920
CREATED:20260422T171726Z
LAST-MODIFIED:20260422T171726Z
UID:10015409-1929208500-1929214800@zushislist.com
SUMMARY:TUESDAYS at Yehudi
DESCRIPTION:TUESDAYS at Yehudi \nWEEKLY EVENT FOR JEWISH YP’S \nYEHUDI HUB MIAMI BEACH \nAGES – 22-32 \nMenu:  POKE\, CHEESE & WINE \nCOME EARLY FOR EXTRA INSPIRATION! \nNEW PRE-EVENT CLASSES @ 7:15 \n 
URL:https://zushislist.com/single-event/tuesdays-at-yehudi/2031-02-18/
LOCATION:YEHUDI HUB MIAMI BEACH\, United States
CATEGORIES:Young Professionals
ATTACH;FMTTYPE=image/png:https://zushislist.com/wp-content/uploads/2026/04/Every-tuesday.png
END:VEVENT
BEGIN:VEVENT
DTSTART;TZID=America/New_York:20310225T191500
DTEND;TZID=America/New_York:20310225T210000
DTSTAMP:20260424T061920
CREATED:20260422T171726Z
LAST-MODIFIED:20260422T171726Z
UID:10015410-1929813300-1929819600@zushislist.com
SUMMARY:TUESDAYS at Yehudi
DESCRIPTION:TUESDAYS at Yehudi \nWEEKLY EVENT FOR JEWISH YP’S \nYEHUDI HUB MIAMI BEACH \nAGES – 22-32 \nMenu:  POKE\, CHEESE & WINE \nCOME EARLY FOR EXTRA INSPIRATION! \nNEW PRE-EVENT CLASSES @ 7:15 \n 
URL:https://zushislist.com/single-event/tuesdays-at-yehudi/2031-02-25/
LOCATION:YEHUDI HUB MIAMI BEACH\, United States
CATEGORIES:Young Professionals
ATTACH;FMTTYPE=image/png:https://zushislist.com/wp-content/uploads/2026/04/Every-tuesday.png
END:VEVENT
BEGIN:VEVENT
DTSTART;TZID=America/New_York:20310304T191500
DTEND;TZID=America/New_York:20310304T210000
DTSTAMP:20260424T061920
CREATED:20260422T171726Z
LAST-MODIFIED:20260422T171726Z
UID:10015411-1930418100-1930424400@zushislist.com
SUMMARY:TUESDAYS at Yehudi
DESCRIPTION:TUESDAYS at Yehudi \nWEEKLY EVENT FOR JEWISH YP’S \nYEHUDI HUB MIAMI BEACH \nAGES – 22-32 \nMenu:  POKE\, CHEESE & WINE \nCOME EARLY FOR EXTRA INSPIRATION! \nNEW PRE-EVENT CLASSES @ 7:15 \n 
URL:https://zushislist.com/single-event/tuesdays-at-yehudi/2031-03-04/
LOCATION:YEHUDI HUB MIAMI BEACH\, United States
CATEGORIES:Young Professionals
ATTACH;FMTTYPE=image/png:https://zushislist.com/wp-content/uploads/2026/04/Every-tuesday.png
END:VEVENT
BEGIN:VEVENT
DTSTART;TZID=America/New_York:20310311T191500
DTEND;TZID=America/New_York:20310311T210000
DTSTAMP:20260424T061920
CREATED:20260422T171726Z
LAST-MODIFIED:20260422T171726Z
UID:10015412-1931022900-1931029200@zushislist.com
SUMMARY:TUESDAYS at Yehudi
DESCRIPTION:TUESDAYS at Yehudi \nWEEKLY EVENT FOR JEWISH YP’S \nYEHUDI HUB MIAMI BEACH \nAGES – 22-32 \nMenu:  POKE\, CHEESE & WINE \nCOME EARLY FOR EXTRA INSPIRATION! \nNEW PRE-EVENT CLASSES @ 7:15 \n 
URL:https://zushislist.com/single-event/tuesdays-at-yehudi/2031-03-11/
LOCATION:YEHUDI HUB MIAMI BEACH\, United States
CATEGORIES:Young Professionals
ATTACH;FMTTYPE=image/png:https://zushislist.com/wp-content/uploads/2026/04/Every-tuesday.png
END:VEVENT
END:VCALENDAR