BEGIN:VCALENDAR
VERSION:2.0
PRODID:-//Zushi&#039;s List - ECPv6.15.20//NONSGML v1.0//EN
CALSCALE:GREGORIAN
METHOD:PUBLISH
X-WR-CALNAME:Zushi&#039;s List
X-ORIGINAL-URL:https://zushislist.com
X-WR-CALDESC:Events for Zushi&#039;s List
REFRESH-INTERVAL;VALUE=DURATION:PT1H
X-Robots-Tag:noindex
X-PUBLISHED-TTL:PT1H
BEGIN:VTIMEZONE
TZID:America/New_York
BEGIN:DAYLIGHT
TZOFFSETFROM:-0500
TZOFFSETTO:-0400
TZNAME:EDT
DTSTART:20260308T070000
END:DAYLIGHT
BEGIN:STANDARD
TZOFFSETFROM:-0400
TZOFFSETTO:-0500
TZNAME:EST
DTSTART:20261101T060000
END:STANDARD
BEGIN:DAYLIGHT
TZOFFSETFROM:-0500
TZOFFSETTO:-0400
TZNAME:EDT
DTSTART:20270314T070000
END:DAYLIGHT
BEGIN:STANDARD
TZOFFSETFROM:-0400
TZOFFSETTO:-0500
TZNAME:EST
DTSTART:20271107T060000
END:STANDARD
BEGIN:DAYLIGHT
TZOFFSETFROM:-0500
TZOFFSETTO:-0400
TZNAME:EDT
DTSTART:20280312T070000
END:DAYLIGHT
BEGIN:STANDARD
TZOFFSETFROM:-0400
TZOFFSETTO:-0500
TZNAME:EST
DTSTART:20281105T060000
END:STANDARD
END:VTIMEZONE
BEGIN:VEVENT
DTSTART;TZID=America/New_York:20270413T191500
DTEND;TZID=America/New_York:20270413T210000
DTSTAMP:20260423T173546
CREATED:20260422T171726Z
LAST-MODIFIED:20260422T171726Z
UID:10015208-1807643700-1807650000@zushislist.com
SUMMARY:TUESDAYS at Yehudi
DESCRIPTION:TUESDAYS at Yehudi \nWEEKLY EVENT FOR JEWISH YP’S \nYEHUDI HUB MIAMI BEACH \nAGES – 22-32 \nMenu:  POKE\, CHEESE & WINE \nCOME EARLY FOR EXTRA INSPIRATION! \nNEW PRE-EVENT CLASSES @ 7:15 \n 
URL:https://zushislist.com/single-event/tuesdays-at-yehudi/2027-04-13/
LOCATION:YEHUDI HUB MIAMI BEACH\, United States
CATEGORIES:Young Professionals
ATTACH;FMTTYPE=image/png:https://zushislist.com/wp-content/uploads/2026/04/Every-tuesday.png
END:VEVENT
BEGIN:VEVENT
DTSTART;TZID=America/New_York:20270420T191500
DTEND;TZID=America/New_York:20270420T210000
DTSTAMP:20260423T173546
CREATED:20260422T171726Z
LAST-MODIFIED:20260422T171726Z
UID:10015209-1808248500-1808254800@zushislist.com
SUMMARY:TUESDAYS at Yehudi
DESCRIPTION:TUESDAYS at Yehudi \nWEEKLY EVENT FOR JEWISH YP’S \nYEHUDI HUB MIAMI BEACH \nAGES – 22-32 \nMenu:  POKE\, CHEESE & WINE \nCOME EARLY FOR EXTRA INSPIRATION! \nNEW PRE-EVENT CLASSES @ 7:15 \n 
URL:https://zushislist.com/single-event/tuesdays-at-yehudi/2027-04-20/
LOCATION:YEHUDI HUB MIAMI BEACH\, United States
CATEGORIES:Young Professionals
ATTACH;FMTTYPE=image/png:https://zushislist.com/wp-content/uploads/2026/04/Every-tuesday.png
END:VEVENT
BEGIN:VEVENT
DTSTART;TZID=America/New_York:20270427T191500
DTEND;TZID=America/New_York:20270427T210000
DTSTAMP:20260423T173546
CREATED:20260422T171726Z
LAST-MODIFIED:20260422T171726Z
UID:10015210-1808853300-1808859600@zushislist.com
SUMMARY:TUESDAYS at Yehudi
DESCRIPTION:TUESDAYS at Yehudi \nWEEKLY EVENT FOR JEWISH YP’S \nYEHUDI HUB MIAMI BEACH \nAGES – 22-32 \nMenu:  POKE\, CHEESE & WINE \nCOME EARLY FOR EXTRA INSPIRATION! \nNEW PRE-EVENT CLASSES @ 7:15 \n 
URL:https://zushislist.com/single-event/tuesdays-at-yehudi/2027-04-27/
LOCATION:YEHUDI HUB MIAMI BEACH\, United States
CATEGORIES:Young Professionals
ATTACH;FMTTYPE=image/png:https://zushislist.com/wp-content/uploads/2026/04/Every-tuesday.png
END:VEVENT
BEGIN:VEVENT
DTSTART;TZID=America/New_York:20270504T191500
DTEND;TZID=America/New_York:20270504T210000
DTSTAMP:20260423T173546
CREATED:20260422T171726Z
LAST-MODIFIED:20260422T171726Z
UID:10015211-1809458100-1809464400@zushislist.com
SUMMARY:TUESDAYS at Yehudi
DESCRIPTION:TUESDAYS at Yehudi \nWEEKLY EVENT FOR JEWISH YP’S \nYEHUDI HUB MIAMI BEACH \nAGES – 22-32 \nMenu:  POKE\, CHEESE & WINE \nCOME EARLY FOR EXTRA INSPIRATION! \nNEW PRE-EVENT CLASSES @ 7:15 \n 
URL:https://zushislist.com/single-event/tuesdays-at-yehudi/2027-05-04/
LOCATION:YEHUDI HUB MIAMI BEACH\, United States
CATEGORIES:Young Professionals
ATTACH;FMTTYPE=image/png:https://zushislist.com/wp-content/uploads/2026/04/Every-tuesday.png
END:VEVENT
BEGIN:VEVENT
DTSTART;TZID=America/New_York:20270511T191500
DTEND;TZID=America/New_York:20270511T210000
DTSTAMP:20260423T173546
CREATED:20260422T171726Z
LAST-MODIFIED:20260422T171726Z
UID:10015212-1810062900-1810069200@zushislist.com
SUMMARY:TUESDAYS at Yehudi
DESCRIPTION:TUESDAYS at Yehudi \nWEEKLY EVENT FOR JEWISH YP’S \nYEHUDI HUB MIAMI BEACH \nAGES – 22-32 \nMenu:  POKE\, CHEESE & WINE \nCOME EARLY FOR EXTRA INSPIRATION! \nNEW PRE-EVENT CLASSES @ 7:15 \n 
URL:https://zushislist.com/single-event/tuesdays-at-yehudi/2027-05-11/
LOCATION:YEHUDI HUB MIAMI BEACH\, United States
CATEGORIES:Young Professionals
ATTACH;FMTTYPE=image/png:https://zushislist.com/wp-content/uploads/2026/04/Every-tuesday.png
END:VEVENT
BEGIN:VEVENT
DTSTART;TZID=America/New_York:20270518T191500
DTEND;TZID=America/New_York:20270518T210000
DTSTAMP:20260423T173546
CREATED:20260422T171726Z
LAST-MODIFIED:20260422T171726Z
UID:10015213-1810667700-1810674000@zushislist.com
SUMMARY:TUESDAYS at Yehudi
DESCRIPTION:TUESDAYS at Yehudi \nWEEKLY EVENT FOR JEWISH YP’S \nYEHUDI HUB MIAMI BEACH \nAGES – 22-32 \nMenu:  POKE\, CHEESE & WINE \nCOME EARLY FOR EXTRA INSPIRATION! \nNEW PRE-EVENT CLASSES @ 7:15 \n 
URL:https://zushislist.com/single-event/tuesdays-at-yehudi/2027-05-18/
LOCATION:YEHUDI HUB MIAMI BEACH\, United States
CATEGORIES:Young Professionals
ATTACH;FMTTYPE=image/png:https://zushislist.com/wp-content/uploads/2026/04/Every-tuesday.png
END:VEVENT
BEGIN:VEVENT
DTSTART;TZID=America/New_York:20270525T191500
DTEND;TZID=America/New_York:20270525T210000
DTSTAMP:20260423T173546
CREATED:20260422T171726Z
LAST-MODIFIED:20260422T171726Z
UID:10015214-1811272500-1811278800@zushislist.com
SUMMARY:TUESDAYS at Yehudi
DESCRIPTION:TUESDAYS at Yehudi \nWEEKLY EVENT FOR JEWISH YP’S \nYEHUDI HUB MIAMI BEACH \nAGES – 22-32 \nMenu:  POKE\, CHEESE & WINE \nCOME EARLY FOR EXTRA INSPIRATION! \nNEW PRE-EVENT CLASSES @ 7:15 \n 
URL:https://zushislist.com/single-event/tuesdays-at-yehudi/2027-05-25/
LOCATION:YEHUDI HUB MIAMI BEACH\, United States
CATEGORIES:Young Professionals
ATTACH;FMTTYPE=image/png:https://zushislist.com/wp-content/uploads/2026/04/Every-tuesday.png
END:VEVENT
BEGIN:VEVENT
DTSTART;TZID=America/New_York:20270601T191500
DTEND;TZID=America/New_York:20270601T210000
DTSTAMP:20260423T173546
CREATED:20260422T171726Z
LAST-MODIFIED:20260422T171726Z
UID:10015215-1811877300-1811883600@zushislist.com
SUMMARY:TUESDAYS at Yehudi
DESCRIPTION:TUESDAYS at Yehudi \nWEEKLY EVENT FOR JEWISH YP’S \nYEHUDI HUB MIAMI BEACH \nAGES – 22-32 \nMenu:  POKE\, CHEESE & WINE \nCOME EARLY FOR EXTRA INSPIRATION! \nNEW PRE-EVENT CLASSES @ 7:15 \n 
URL:https://zushislist.com/single-event/tuesdays-at-yehudi/2027-06-01/
LOCATION:YEHUDI HUB MIAMI BEACH\, United States
CATEGORIES:Young Professionals
ATTACH;FMTTYPE=image/png:https://zushislist.com/wp-content/uploads/2026/04/Every-tuesday.png
END:VEVENT
BEGIN:VEVENT
DTSTART;TZID=America/New_York:20270608T191500
DTEND;TZID=America/New_York:20270608T210000
DTSTAMP:20260423T173546
CREATED:20260422T171726Z
LAST-MODIFIED:20260422T171726Z
UID:10015216-1812482100-1812488400@zushislist.com
SUMMARY:TUESDAYS at Yehudi
DESCRIPTION:TUESDAYS at Yehudi \nWEEKLY EVENT FOR JEWISH YP’S \nYEHUDI HUB MIAMI BEACH \nAGES – 22-32 \nMenu:  POKE\, CHEESE & WINE \nCOME EARLY FOR EXTRA INSPIRATION! \nNEW PRE-EVENT CLASSES @ 7:15 \n 
URL:https://zushislist.com/single-event/tuesdays-at-yehudi/2027-06-08/
LOCATION:YEHUDI HUB MIAMI BEACH\, United States
CATEGORIES:Young Professionals
ATTACH;FMTTYPE=image/png:https://zushislist.com/wp-content/uploads/2026/04/Every-tuesday.png
END:VEVENT
BEGIN:VEVENT
DTSTART;TZID=America/New_York:20270615T191500
DTEND;TZID=America/New_York:20270615T210000
DTSTAMP:20260423T173546
CREATED:20260422T171726Z
LAST-MODIFIED:20260422T171726Z
UID:10015217-1813086900-1813093200@zushislist.com
SUMMARY:TUESDAYS at Yehudi
DESCRIPTION:TUESDAYS at Yehudi \nWEEKLY EVENT FOR JEWISH YP’S \nYEHUDI HUB MIAMI BEACH \nAGES – 22-32 \nMenu:  POKE\, CHEESE & WINE \nCOME EARLY FOR EXTRA INSPIRATION! \nNEW PRE-EVENT CLASSES @ 7:15 \n 
URL:https://zushislist.com/single-event/tuesdays-at-yehudi/2027-06-15/
LOCATION:YEHUDI HUB MIAMI BEACH\, United States
CATEGORIES:Young Professionals
ATTACH;FMTTYPE=image/png:https://zushislist.com/wp-content/uploads/2026/04/Every-tuesday.png
END:VEVENT
BEGIN:VEVENT
DTSTART;TZID=America/New_York:20270622T191500
DTEND;TZID=America/New_York:20270622T210000
DTSTAMP:20260423T173546
CREATED:20260422T171726Z
LAST-MODIFIED:20260422T171726Z
UID:10015218-1813691700-1813698000@zushislist.com
SUMMARY:TUESDAYS at Yehudi
DESCRIPTION:TUESDAYS at Yehudi \nWEEKLY EVENT FOR JEWISH YP’S \nYEHUDI HUB MIAMI BEACH \nAGES – 22-32 \nMenu:  POKE\, CHEESE & WINE \nCOME EARLY FOR EXTRA INSPIRATION! \nNEW PRE-EVENT CLASSES @ 7:15 \n 
URL:https://zushislist.com/single-event/tuesdays-at-yehudi/2027-06-22/
LOCATION:YEHUDI HUB MIAMI BEACH\, United States
CATEGORIES:Young Professionals
ATTACH;FMTTYPE=image/png:https://zushislist.com/wp-content/uploads/2026/04/Every-tuesday.png
END:VEVENT
BEGIN:VEVENT
DTSTART;TZID=America/New_York:20270629T191500
DTEND;TZID=America/New_York:20270629T210000
DTSTAMP:20260423T173546
CREATED:20260422T171726Z
LAST-MODIFIED:20260422T171726Z
UID:10015219-1814296500-1814302800@zushislist.com
SUMMARY:TUESDAYS at Yehudi
DESCRIPTION:TUESDAYS at Yehudi \nWEEKLY EVENT FOR JEWISH YP’S \nYEHUDI HUB MIAMI BEACH \nAGES – 22-32 \nMenu:  POKE\, CHEESE & WINE \nCOME EARLY FOR EXTRA INSPIRATION! \nNEW PRE-EVENT CLASSES @ 7:15 \n 
URL:https://zushislist.com/single-event/tuesdays-at-yehudi/2027-06-29/
LOCATION:YEHUDI HUB MIAMI BEACH\, United States
CATEGORIES:Young Professionals
ATTACH;FMTTYPE=image/png:https://zushislist.com/wp-content/uploads/2026/04/Every-tuesday.png
END:VEVENT
BEGIN:VEVENT
DTSTART;TZID=America/New_York:20270706T191500
DTEND;TZID=America/New_York:20270706T210000
DTSTAMP:20260423T173546
CREATED:20260422T171726Z
LAST-MODIFIED:20260422T171726Z
UID:10015220-1814901300-1814907600@zushislist.com
SUMMARY:TUESDAYS at Yehudi
DESCRIPTION:TUESDAYS at Yehudi \nWEEKLY EVENT FOR JEWISH YP’S \nYEHUDI HUB MIAMI BEACH \nAGES – 22-32 \nMenu:  POKE\, CHEESE & WINE \nCOME EARLY FOR EXTRA INSPIRATION! \nNEW PRE-EVENT CLASSES @ 7:15 \n 
URL:https://zushislist.com/single-event/tuesdays-at-yehudi/2027-07-06/
LOCATION:YEHUDI HUB MIAMI BEACH\, United States
CATEGORIES:Young Professionals
ATTACH;FMTTYPE=image/png:https://zushislist.com/wp-content/uploads/2026/04/Every-tuesday.png
END:VEVENT
BEGIN:VEVENT
DTSTART;TZID=America/New_York:20270713T191500
DTEND;TZID=America/New_York:20270713T210000
DTSTAMP:20260423T173546
CREATED:20260422T171726Z
LAST-MODIFIED:20260422T171726Z
UID:10015221-1815506100-1815512400@zushislist.com
SUMMARY:TUESDAYS at Yehudi
DESCRIPTION:TUESDAYS at Yehudi \nWEEKLY EVENT FOR JEWISH YP’S \nYEHUDI HUB MIAMI BEACH \nAGES – 22-32 \nMenu:  POKE\, CHEESE & WINE \nCOME EARLY FOR EXTRA INSPIRATION! \nNEW PRE-EVENT CLASSES @ 7:15 \n 
URL:https://zushislist.com/single-event/tuesdays-at-yehudi/2027-07-13/
LOCATION:YEHUDI HUB MIAMI BEACH\, United States
CATEGORIES:Young Professionals
ATTACH;FMTTYPE=image/png:https://zushislist.com/wp-content/uploads/2026/04/Every-tuesday.png
END:VEVENT
BEGIN:VEVENT
DTSTART;TZID=America/New_York:20270720T191500
DTEND;TZID=America/New_York:20270720T210000
DTSTAMP:20260423T173546
CREATED:20260422T171726Z
LAST-MODIFIED:20260422T171726Z
UID:10015222-1816110900-1816117200@zushislist.com
SUMMARY:TUESDAYS at Yehudi
DESCRIPTION:TUESDAYS at Yehudi \nWEEKLY EVENT FOR JEWISH YP’S \nYEHUDI HUB MIAMI BEACH \nAGES – 22-32 \nMenu:  POKE\, CHEESE & WINE \nCOME EARLY FOR EXTRA INSPIRATION! \nNEW PRE-EVENT CLASSES @ 7:15 \n 
URL:https://zushislist.com/single-event/tuesdays-at-yehudi/2027-07-20/
LOCATION:YEHUDI HUB MIAMI BEACH\, United States
CATEGORIES:Young Professionals
ATTACH;FMTTYPE=image/png:https://zushislist.com/wp-content/uploads/2026/04/Every-tuesday.png
END:VEVENT
BEGIN:VEVENT
DTSTART;TZID=America/New_York:20270727T191500
DTEND;TZID=America/New_York:20270727T210000
DTSTAMP:20260423T173546
CREATED:20260422T171726Z
LAST-MODIFIED:20260422T171726Z
UID:10015223-1816715700-1816722000@zushislist.com
SUMMARY:TUESDAYS at Yehudi
DESCRIPTION:TUESDAYS at Yehudi \nWEEKLY EVENT FOR JEWISH YP’S \nYEHUDI HUB MIAMI BEACH \nAGES – 22-32 \nMenu:  POKE\, CHEESE & WINE \nCOME EARLY FOR EXTRA INSPIRATION! \nNEW PRE-EVENT CLASSES @ 7:15 \n 
URL:https://zushislist.com/single-event/tuesdays-at-yehudi/2027-07-27/
LOCATION:YEHUDI HUB MIAMI BEACH\, United States
CATEGORIES:Young Professionals
ATTACH;FMTTYPE=image/png:https://zushislist.com/wp-content/uploads/2026/04/Every-tuesday.png
END:VEVENT
BEGIN:VEVENT
DTSTART;TZID=America/New_York:20270803T191500
DTEND;TZID=America/New_York:20270803T210000
DTSTAMP:20260423T173546
CREATED:20260422T171726Z
LAST-MODIFIED:20260422T171726Z
UID:10015224-1817320500-1817326800@zushislist.com
SUMMARY:TUESDAYS at Yehudi
DESCRIPTION:TUESDAYS at Yehudi \nWEEKLY EVENT FOR JEWISH YP’S \nYEHUDI HUB MIAMI BEACH \nAGES – 22-32 \nMenu:  POKE\, CHEESE & WINE \nCOME EARLY FOR EXTRA INSPIRATION! \nNEW PRE-EVENT CLASSES @ 7:15 \n 
URL:https://zushislist.com/single-event/tuesdays-at-yehudi/2027-08-03/
LOCATION:YEHUDI HUB MIAMI BEACH\, United States
CATEGORIES:Young Professionals
ATTACH;FMTTYPE=image/png:https://zushislist.com/wp-content/uploads/2026/04/Every-tuesday.png
END:VEVENT
BEGIN:VEVENT
DTSTART;TZID=America/New_York:20270810T191500
DTEND;TZID=America/New_York:20270810T210000
DTSTAMP:20260423T173546
CREATED:20260422T171726Z
LAST-MODIFIED:20260422T171726Z
UID:10015225-1817925300-1817931600@zushislist.com
SUMMARY:TUESDAYS at Yehudi
DESCRIPTION:TUESDAYS at Yehudi \nWEEKLY EVENT FOR JEWISH YP’S \nYEHUDI HUB MIAMI BEACH \nAGES – 22-32 \nMenu:  POKE\, CHEESE & WINE \nCOME EARLY FOR EXTRA INSPIRATION! \nNEW PRE-EVENT CLASSES @ 7:15 \n 
URL:https://zushislist.com/single-event/tuesdays-at-yehudi/2027-08-10/
LOCATION:YEHUDI HUB MIAMI BEACH\, United States
CATEGORIES:Young Professionals
ATTACH;FMTTYPE=image/png:https://zushislist.com/wp-content/uploads/2026/04/Every-tuesday.png
END:VEVENT
BEGIN:VEVENT
DTSTART;TZID=America/New_York:20270817T191500
DTEND;TZID=America/New_York:20270817T210000
DTSTAMP:20260423T173546
CREATED:20260422T171726Z
LAST-MODIFIED:20260422T171726Z
UID:10015226-1818530100-1818536400@zushislist.com
SUMMARY:TUESDAYS at Yehudi
DESCRIPTION:TUESDAYS at Yehudi \nWEEKLY EVENT FOR JEWISH YP’S \nYEHUDI HUB MIAMI BEACH \nAGES – 22-32 \nMenu:  POKE\, CHEESE & WINE \nCOME EARLY FOR EXTRA INSPIRATION! \nNEW PRE-EVENT CLASSES @ 7:15 \n 
URL:https://zushislist.com/single-event/tuesdays-at-yehudi/2027-08-17/
LOCATION:YEHUDI HUB MIAMI BEACH\, United States
CATEGORIES:Young Professionals
ATTACH;FMTTYPE=image/png:https://zushislist.com/wp-content/uploads/2026/04/Every-tuesday.png
END:VEVENT
BEGIN:VEVENT
DTSTART;TZID=America/New_York:20270824T191500
DTEND;TZID=America/New_York:20270824T210000
DTSTAMP:20260423T173546
CREATED:20260422T171726Z
LAST-MODIFIED:20260422T171726Z
UID:10015227-1819134900-1819141200@zushislist.com
SUMMARY:TUESDAYS at Yehudi
DESCRIPTION:TUESDAYS at Yehudi \nWEEKLY EVENT FOR JEWISH YP’S \nYEHUDI HUB MIAMI BEACH \nAGES – 22-32 \nMenu:  POKE\, CHEESE & WINE \nCOME EARLY FOR EXTRA INSPIRATION! \nNEW PRE-EVENT CLASSES @ 7:15 \n 
URL:https://zushislist.com/single-event/tuesdays-at-yehudi/2027-08-24/
LOCATION:YEHUDI HUB MIAMI BEACH\, United States
CATEGORIES:Young Professionals
ATTACH;FMTTYPE=image/png:https://zushislist.com/wp-content/uploads/2026/04/Every-tuesday.png
END:VEVENT
BEGIN:VEVENT
DTSTART;TZID=America/New_York:20270831T191500
DTEND;TZID=America/New_York:20270831T210000
DTSTAMP:20260423T173546
CREATED:20260422T171726Z
LAST-MODIFIED:20260422T171726Z
UID:10015228-1819739700-1819746000@zushislist.com
SUMMARY:TUESDAYS at Yehudi
DESCRIPTION:TUESDAYS at Yehudi \nWEEKLY EVENT FOR JEWISH YP’S \nYEHUDI HUB MIAMI BEACH \nAGES – 22-32 \nMenu:  POKE\, CHEESE & WINE \nCOME EARLY FOR EXTRA INSPIRATION! \nNEW PRE-EVENT CLASSES @ 7:15 \n 
URL:https://zushislist.com/single-event/tuesdays-at-yehudi/2027-08-31/
LOCATION:YEHUDI HUB MIAMI BEACH\, United States
CATEGORIES:Young Professionals
ATTACH;FMTTYPE=image/png:https://zushislist.com/wp-content/uploads/2026/04/Every-tuesday.png
END:VEVENT
BEGIN:VEVENT
DTSTART;TZID=America/New_York:20270907T191500
DTEND;TZID=America/New_York:20270907T210000
DTSTAMP:20260423T173546
CREATED:20260422T171726Z
LAST-MODIFIED:20260422T171726Z
UID:10015229-1820344500-1820350800@zushislist.com
SUMMARY:TUESDAYS at Yehudi
DESCRIPTION:TUESDAYS at Yehudi \nWEEKLY EVENT FOR JEWISH YP’S \nYEHUDI HUB MIAMI BEACH \nAGES – 22-32 \nMenu:  POKE\, CHEESE & WINE \nCOME EARLY FOR EXTRA INSPIRATION! \nNEW PRE-EVENT CLASSES @ 7:15 \n 
URL:https://zushislist.com/single-event/tuesdays-at-yehudi/2027-09-07/
LOCATION:YEHUDI HUB MIAMI BEACH\, United States
CATEGORIES:Young Professionals
ATTACH;FMTTYPE=image/png:https://zushislist.com/wp-content/uploads/2026/04/Every-tuesday.png
END:VEVENT
BEGIN:VEVENT
DTSTART;TZID=America/New_York:20270914T191500
DTEND;TZID=America/New_York:20270914T210000
DTSTAMP:20260423T173546
CREATED:20260422T171726Z
LAST-MODIFIED:20260422T171726Z
UID:10015230-1820949300-1820955600@zushislist.com
SUMMARY:TUESDAYS at Yehudi
DESCRIPTION:TUESDAYS at Yehudi \nWEEKLY EVENT FOR JEWISH YP’S \nYEHUDI HUB MIAMI BEACH \nAGES – 22-32 \nMenu:  POKE\, CHEESE & WINE \nCOME EARLY FOR EXTRA INSPIRATION! \nNEW PRE-EVENT CLASSES @ 7:15 \n 
URL:https://zushislist.com/single-event/tuesdays-at-yehudi/2027-09-14/
LOCATION:YEHUDI HUB MIAMI BEACH\, United States
CATEGORIES:Young Professionals
ATTACH;FMTTYPE=image/png:https://zushislist.com/wp-content/uploads/2026/04/Every-tuesday.png
END:VEVENT
BEGIN:VEVENT
DTSTART;TZID=America/New_York:20270921T191500
DTEND;TZID=America/New_York:20270921T210000
DTSTAMP:20260423T173546
CREATED:20260422T171726Z
LAST-MODIFIED:20260422T171726Z
UID:10015231-1821554100-1821560400@zushislist.com
SUMMARY:TUESDAYS at Yehudi
DESCRIPTION:TUESDAYS at Yehudi \nWEEKLY EVENT FOR JEWISH YP’S \nYEHUDI HUB MIAMI BEACH \nAGES – 22-32 \nMenu:  POKE\, CHEESE & WINE \nCOME EARLY FOR EXTRA INSPIRATION! \nNEW PRE-EVENT CLASSES @ 7:15 \n 
URL:https://zushislist.com/single-event/tuesdays-at-yehudi/2027-09-21/
LOCATION:YEHUDI HUB MIAMI BEACH\, United States
CATEGORIES:Young Professionals
ATTACH;FMTTYPE=image/png:https://zushislist.com/wp-content/uploads/2026/04/Every-tuesday.png
END:VEVENT
BEGIN:VEVENT
DTSTART;TZID=America/New_York:20270928T191500
DTEND;TZID=America/New_York:20270928T210000
DTSTAMP:20260423T173546
CREATED:20260422T171726Z
LAST-MODIFIED:20260422T171726Z
UID:10015232-1822158900-1822165200@zushislist.com
SUMMARY:TUESDAYS at Yehudi
DESCRIPTION:TUESDAYS at Yehudi \nWEEKLY EVENT FOR JEWISH YP’S \nYEHUDI HUB MIAMI BEACH \nAGES – 22-32 \nMenu:  POKE\, CHEESE & WINE \nCOME EARLY FOR EXTRA INSPIRATION! \nNEW PRE-EVENT CLASSES @ 7:15 \n 
URL:https://zushislist.com/single-event/tuesdays-at-yehudi/2027-09-28/
LOCATION:YEHUDI HUB MIAMI BEACH\, United States
CATEGORIES:Young Professionals
ATTACH;FMTTYPE=image/png:https://zushislist.com/wp-content/uploads/2026/04/Every-tuesday.png
END:VEVENT
BEGIN:VEVENT
DTSTART;TZID=America/New_York:20271005T191500
DTEND;TZID=America/New_York:20271005T210000
DTSTAMP:20260423T173546
CREATED:20260422T171726Z
LAST-MODIFIED:20260422T171726Z
UID:10015233-1822763700-1822770000@zushislist.com
SUMMARY:TUESDAYS at Yehudi
DESCRIPTION:TUESDAYS at Yehudi \nWEEKLY EVENT FOR JEWISH YP’S \nYEHUDI HUB MIAMI BEACH \nAGES – 22-32 \nMenu:  POKE\, CHEESE & WINE \nCOME EARLY FOR EXTRA INSPIRATION! \nNEW PRE-EVENT CLASSES @ 7:15 \n 
URL:https://zushislist.com/single-event/tuesdays-at-yehudi/2027-10-05/
LOCATION:YEHUDI HUB MIAMI BEACH\, United States
CATEGORIES:Young Professionals
ATTACH;FMTTYPE=image/png:https://zushislist.com/wp-content/uploads/2026/04/Every-tuesday.png
END:VEVENT
BEGIN:VEVENT
DTSTART;TZID=America/New_York:20271012T191500
DTEND;TZID=America/New_York:20271012T210000
DTSTAMP:20260423T173547
CREATED:20260422T171726Z
LAST-MODIFIED:20260422T171726Z
UID:10015234-1823368500-1823374800@zushislist.com
SUMMARY:TUESDAYS at Yehudi
DESCRIPTION:TUESDAYS at Yehudi \nWEEKLY EVENT FOR JEWISH YP’S \nYEHUDI HUB MIAMI BEACH \nAGES – 22-32 \nMenu:  POKE\, CHEESE & WINE \nCOME EARLY FOR EXTRA INSPIRATION! \nNEW PRE-EVENT CLASSES @ 7:15 \n 
URL:https://zushislist.com/single-event/tuesdays-at-yehudi/2027-10-12/
LOCATION:YEHUDI HUB MIAMI BEACH\, United States
CATEGORIES:Young Professionals
ATTACH;FMTTYPE=image/png:https://zushislist.com/wp-content/uploads/2026/04/Every-tuesday.png
END:VEVENT
BEGIN:VEVENT
DTSTART;TZID=America/New_York:20271019T191500
DTEND;TZID=America/New_York:20271019T210000
DTSTAMP:20260423T173547
CREATED:20260422T171726Z
LAST-MODIFIED:20260422T171726Z
UID:10015235-1823973300-1823979600@zushislist.com
SUMMARY:TUESDAYS at Yehudi
DESCRIPTION:TUESDAYS at Yehudi \nWEEKLY EVENT FOR JEWISH YP’S \nYEHUDI HUB MIAMI BEACH \nAGES – 22-32 \nMenu:  POKE\, CHEESE & WINE \nCOME EARLY FOR EXTRA INSPIRATION! \nNEW PRE-EVENT CLASSES @ 7:15 \n 
URL:https://zushislist.com/single-event/tuesdays-at-yehudi/2027-10-19/
LOCATION:YEHUDI HUB MIAMI BEACH\, United States
CATEGORIES:Young Professionals
ATTACH;FMTTYPE=image/png:https://zushislist.com/wp-content/uploads/2026/04/Every-tuesday.png
END:VEVENT
BEGIN:VEVENT
DTSTART;TZID=America/New_York:20271026T191500
DTEND;TZID=America/New_York:20271026T210000
DTSTAMP:20260423T173547
CREATED:20260422T171726Z
LAST-MODIFIED:20260422T171726Z
UID:10015236-1824578100-1824584400@zushislist.com
SUMMARY:TUESDAYS at Yehudi
DESCRIPTION:TUESDAYS at Yehudi \nWEEKLY EVENT FOR JEWISH YP’S \nYEHUDI HUB MIAMI BEACH \nAGES – 22-32 \nMenu:  POKE\, CHEESE & WINE \nCOME EARLY FOR EXTRA INSPIRATION! \nNEW PRE-EVENT CLASSES @ 7:15 \n 
URL:https://zushislist.com/single-event/tuesdays-at-yehudi/2027-10-26/
LOCATION:YEHUDI HUB MIAMI BEACH\, United States
CATEGORIES:Young Professionals
ATTACH;FMTTYPE=image/png:https://zushislist.com/wp-content/uploads/2026/04/Every-tuesday.png
END:VEVENT
BEGIN:VEVENT
DTSTART;TZID=America/New_York:20271102T191500
DTEND;TZID=America/New_York:20271102T210000
DTSTAMP:20260423T173547
CREATED:20260422T171726Z
LAST-MODIFIED:20260422T171726Z
UID:10015237-1825182900-1825189200@zushislist.com
SUMMARY:TUESDAYS at Yehudi
DESCRIPTION:TUESDAYS at Yehudi \nWEEKLY EVENT FOR JEWISH YP’S \nYEHUDI HUB MIAMI BEACH \nAGES – 22-32 \nMenu:  POKE\, CHEESE & WINE \nCOME EARLY FOR EXTRA INSPIRATION! \nNEW PRE-EVENT CLASSES @ 7:15 \n 
URL:https://zushislist.com/single-event/tuesdays-at-yehudi/2027-11-02/
LOCATION:YEHUDI HUB MIAMI BEACH\, United States
CATEGORIES:Young Professionals
ATTACH;FMTTYPE=image/png:https://zushislist.com/wp-content/uploads/2026/04/Every-tuesday.png
END:VEVENT
END:VCALENDAR