BEGIN:VCALENDAR
VERSION:2.0
PRODID:-//Zushi&#039;s List - ECPv6.15.20//NONSGML v1.0//EN
CALSCALE:GREGORIAN
METHOD:PUBLISH
X-ORIGINAL-URL:https://zushislist.com
X-WR-CALDESC:Events for Zushi&#039;s List
REFRESH-INTERVAL;VALUE=DURATION:PT1H
X-Robots-Tag:noindex
X-PUBLISHED-TTL:PT1H
BEGIN:VTIMEZONE
TZID:America/New_York
BEGIN:DAYLIGHT
TZOFFSETFROM:-0500
TZOFFSETTO:-0400
TZNAME:EDT
DTSTART:20260308T070000
END:DAYLIGHT
BEGIN:STANDARD
TZOFFSETFROM:-0400
TZOFFSETTO:-0500
TZNAME:EST
DTSTART:20261101T060000
END:STANDARD
BEGIN:DAYLIGHT
TZOFFSETFROM:-0500
TZOFFSETTO:-0400
TZNAME:EDT
DTSTART:20270314T070000
END:DAYLIGHT
BEGIN:STANDARD
TZOFFSETFROM:-0400
TZOFFSETTO:-0500
TZNAME:EST
DTSTART:20271107T060000
END:STANDARD
BEGIN:DAYLIGHT
TZOFFSETFROM:-0500
TZOFFSETTO:-0400
TZNAME:EDT
DTSTART:20280312T070000
END:DAYLIGHT
BEGIN:STANDARD
TZOFFSETFROM:-0400
TZOFFSETTO:-0500
TZNAME:EST
DTSTART:20281105T060000
END:STANDARD
BEGIN:DAYLIGHT
TZOFFSETFROM:-0500
TZOFFSETTO:-0400
TZNAME:EDT
DTSTART:20290311T070000
END:DAYLIGHT
BEGIN:STANDARD
TZOFFSETFROM:-0400
TZOFFSETTO:-0500
TZNAME:EST
DTSTART:20291104T060000
END:STANDARD
END:VTIMEZONE
BEGIN:VEVENT
DTSTART;TZID=America/New_York:20271005T191500
DTEND;TZID=America/New_York:20271005T210000
DTSTAMP:20260423T191314
CREATED:20260422T171726Z
LAST-MODIFIED:20260422T171726Z
UID:10015233-1822763700-1822770000@zushislist.com
SUMMARY:TUESDAYS at Yehudi
DESCRIPTION:TUESDAYS at Yehudi \nWEEKLY EVENT FOR JEWISH YP’S \nYEHUDI HUB MIAMI BEACH \nAGES – 22-32 \nMenu:  POKE\, CHEESE & WINE \nCOME EARLY FOR EXTRA INSPIRATION! \nNEW PRE-EVENT CLASSES @ 7:15 \n 
URL:https://zushislist.com/single-event/tuesdays-at-yehudi/2027-10-05/
LOCATION:YEHUDI HUB MIAMI BEACH\, United States
CATEGORIES:Young Professionals
ATTACH;FMTTYPE=image/png:https://zushislist.com/wp-content/uploads/2026/04/Every-tuesday.png
END:VEVENT
BEGIN:VEVENT
DTSTART;TZID=America/New_York:20271012T191500
DTEND;TZID=America/New_York:20271012T210000
DTSTAMP:20260423T191314
CREATED:20260422T171726Z
LAST-MODIFIED:20260422T171726Z
UID:10015234-1823368500-1823374800@zushislist.com
SUMMARY:TUESDAYS at Yehudi
DESCRIPTION:TUESDAYS at Yehudi \nWEEKLY EVENT FOR JEWISH YP’S \nYEHUDI HUB MIAMI BEACH \nAGES – 22-32 \nMenu:  POKE\, CHEESE & WINE \nCOME EARLY FOR EXTRA INSPIRATION! \nNEW PRE-EVENT CLASSES @ 7:15 \n 
URL:https://zushislist.com/single-event/tuesdays-at-yehudi/2027-10-12/
LOCATION:YEHUDI HUB MIAMI BEACH\, United States
CATEGORIES:Young Professionals
ATTACH;FMTTYPE=image/png:https://zushislist.com/wp-content/uploads/2026/04/Every-tuesday.png
END:VEVENT
BEGIN:VEVENT
DTSTART;TZID=America/New_York:20271019T191500
DTEND;TZID=America/New_York:20271019T210000
DTSTAMP:20260423T191314
CREATED:20260422T171726Z
LAST-MODIFIED:20260422T171726Z
UID:10015235-1823973300-1823979600@zushislist.com
SUMMARY:TUESDAYS at Yehudi
DESCRIPTION:TUESDAYS at Yehudi \nWEEKLY EVENT FOR JEWISH YP’S \nYEHUDI HUB MIAMI BEACH \nAGES – 22-32 \nMenu:  POKE\, CHEESE & WINE \nCOME EARLY FOR EXTRA INSPIRATION! \nNEW PRE-EVENT CLASSES @ 7:15 \n 
URL:https://zushislist.com/single-event/tuesdays-at-yehudi/2027-10-19/
LOCATION:YEHUDI HUB MIAMI BEACH\, United States
CATEGORIES:Young Professionals
ATTACH;FMTTYPE=image/png:https://zushislist.com/wp-content/uploads/2026/04/Every-tuesday.png
END:VEVENT
BEGIN:VEVENT
DTSTART;TZID=America/New_York:20271026T191500
DTEND;TZID=America/New_York:20271026T210000
DTSTAMP:20260423T191314
CREATED:20260422T171726Z
LAST-MODIFIED:20260422T171726Z
UID:10015236-1824578100-1824584400@zushislist.com
SUMMARY:TUESDAYS at Yehudi
DESCRIPTION:TUESDAYS at Yehudi \nWEEKLY EVENT FOR JEWISH YP’S \nYEHUDI HUB MIAMI BEACH \nAGES – 22-32 \nMenu:  POKE\, CHEESE & WINE \nCOME EARLY FOR EXTRA INSPIRATION! \nNEW PRE-EVENT CLASSES @ 7:15 \n 
URL:https://zushislist.com/single-event/tuesdays-at-yehudi/2027-10-26/
LOCATION:YEHUDI HUB MIAMI BEACH\, United States
CATEGORIES:Young Professionals
ATTACH;FMTTYPE=image/png:https://zushislist.com/wp-content/uploads/2026/04/Every-tuesday.png
END:VEVENT
BEGIN:VEVENT
DTSTART;TZID=America/New_York:20271102T191500
DTEND;TZID=America/New_York:20271102T210000
DTSTAMP:20260423T191314
CREATED:20260422T171726Z
LAST-MODIFIED:20260422T171726Z
UID:10015237-1825182900-1825189200@zushislist.com
SUMMARY:TUESDAYS at Yehudi
DESCRIPTION:TUESDAYS at Yehudi \nWEEKLY EVENT FOR JEWISH YP’S \nYEHUDI HUB MIAMI BEACH \nAGES – 22-32 \nMenu:  POKE\, CHEESE & WINE \nCOME EARLY FOR EXTRA INSPIRATION! \nNEW PRE-EVENT CLASSES @ 7:15 \n 
URL:https://zushislist.com/single-event/tuesdays-at-yehudi/2027-11-02/
LOCATION:YEHUDI HUB MIAMI BEACH\, United States
CATEGORIES:Young Professionals
ATTACH;FMTTYPE=image/png:https://zushislist.com/wp-content/uploads/2026/04/Every-tuesday.png
END:VEVENT
BEGIN:VEVENT
DTSTART;TZID=America/New_York:20271109T191500
DTEND;TZID=America/New_York:20271109T210000
DTSTAMP:20260423T191314
CREATED:20260422T171726Z
LAST-MODIFIED:20260422T171726Z
UID:10015238-1825787700-1825794000@zushislist.com
SUMMARY:TUESDAYS at Yehudi
DESCRIPTION:TUESDAYS at Yehudi \nWEEKLY EVENT FOR JEWISH YP’S \nYEHUDI HUB MIAMI BEACH \nAGES – 22-32 \nMenu:  POKE\, CHEESE & WINE \nCOME EARLY FOR EXTRA INSPIRATION! \nNEW PRE-EVENT CLASSES @ 7:15 \n 
URL:https://zushislist.com/single-event/tuesdays-at-yehudi/2027-11-09/
LOCATION:YEHUDI HUB MIAMI BEACH\, United States
CATEGORIES:Young Professionals
ATTACH;FMTTYPE=image/png:https://zushislist.com/wp-content/uploads/2026/04/Every-tuesday.png
END:VEVENT
BEGIN:VEVENT
DTSTART;TZID=America/New_York:20271116T191500
DTEND;TZID=America/New_York:20271116T210000
DTSTAMP:20260423T191314
CREATED:20260422T171726Z
LAST-MODIFIED:20260422T171726Z
UID:10015239-1826392500-1826398800@zushislist.com
SUMMARY:TUESDAYS at Yehudi
DESCRIPTION:TUESDAYS at Yehudi \nWEEKLY EVENT FOR JEWISH YP’S \nYEHUDI HUB MIAMI BEACH \nAGES – 22-32 \nMenu:  POKE\, CHEESE & WINE \nCOME EARLY FOR EXTRA INSPIRATION! \nNEW PRE-EVENT CLASSES @ 7:15 \n 
URL:https://zushislist.com/single-event/tuesdays-at-yehudi/2027-11-16/
LOCATION:YEHUDI HUB MIAMI BEACH\, United States
CATEGORIES:Young Professionals
ATTACH;FMTTYPE=image/png:https://zushislist.com/wp-content/uploads/2026/04/Every-tuesday.png
END:VEVENT
BEGIN:VEVENT
DTSTART;TZID=America/New_York:20271123T191500
DTEND;TZID=America/New_York:20271123T210000
DTSTAMP:20260423T191314
CREATED:20260422T171726Z
LAST-MODIFIED:20260422T171726Z
UID:10015240-1826997300-1827003600@zushislist.com
SUMMARY:TUESDAYS at Yehudi
DESCRIPTION:TUESDAYS at Yehudi \nWEEKLY EVENT FOR JEWISH YP’S \nYEHUDI HUB MIAMI BEACH \nAGES – 22-32 \nMenu:  POKE\, CHEESE & WINE \nCOME EARLY FOR EXTRA INSPIRATION! \nNEW PRE-EVENT CLASSES @ 7:15 \n 
URL:https://zushislist.com/single-event/tuesdays-at-yehudi/2027-11-23/
LOCATION:YEHUDI HUB MIAMI BEACH\, United States
CATEGORIES:Young Professionals
ATTACH;FMTTYPE=image/png:https://zushislist.com/wp-content/uploads/2026/04/Every-tuesday.png
END:VEVENT
BEGIN:VEVENT
DTSTART;TZID=America/New_York:20271130T191500
DTEND;TZID=America/New_York:20271130T210000
DTSTAMP:20260423T191314
CREATED:20260422T171726Z
LAST-MODIFIED:20260422T171726Z
UID:10015241-1827602100-1827608400@zushislist.com
SUMMARY:TUESDAYS at Yehudi
DESCRIPTION:TUESDAYS at Yehudi \nWEEKLY EVENT FOR JEWISH YP’S \nYEHUDI HUB MIAMI BEACH \nAGES – 22-32 \nMenu:  POKE\, CHEESE & WINE \nCOME EARLY FOR EXTRA INSPIRATION! \nNEW PRE-EVENT CLASSES @ 7:15 \n 
URL:https://zushislist.com/single-event/tuesdays-at-yehudi/2027-11-30/
LOCATION:YEHUDI HUB MIAMI BEACH\, United States
CATEGORIES:Young Professionals
ATTACH;FMTTYPE=image/png:https://zushislist.com/wp-content/uploads/2026/04/Every-tuesday.png
END:VEVENT
BEGIN:VEVENT
DTSTART;TZID=America/New_York:20271207T191500
DTEND;TZID=America/New_York:20271207T210000
DTSTAMP:20260423T191314
CREATED:20260422T171726Z
LAST-MODIFIED:20260422T171726Z
UID:10015242-1828206900-1828213200@zushislist.com
SUMMARY:TUESDAYS at Yehudi
DESCRIPTION:TUESDAYS at Yehudi \nWEEKLY EVENT FOR JEWISH YP’S \nYEHUDI HUB MIAMI BEACH \nAGES – 22-32 \nMenu:  POKE\, CHEESE & WINE \nCOME EARLY FOR EXTRA INSPIRATION! \nNEW PRE-EVENT CLASSES @ 7:15 \n 
URL:https://zushislist.com/single-event/tuesdays-at-yehudi/2027-12-07/
LOCATION:YEHUDI HUB MIAMI BEACH\, United States
CATEGORIES:Young Professionals
ATTACH;FMTTYPE=image/png:https://zushislist.com/wp-content/uploads/2026/04/Every-tuesday.png
END:VEVENT
BEGIN:VEVENT
DTSTART;TZID=America/New_York:20271214T191500
DTEND;TZID=America/New_York:20271214T210000
DTSTAMP:20260423T191314
CREATED:20260422T171726Z
LAST-MODIFIED:20260422T171726Z
UID:10015243-1828811700-1828818000@zushislist.com
SUMMARY:TUESDAYS at Yehudi
DESCRIPTION:TUESDAYS at Yehudi \nWEEKLY EVENT FOR JEWISH YP’S \nYEHUDI HUB MIAMI BEACH \nAGES – 22-32 \nMenu:  POKE\, CHEESE & WINE \nCOME EARLY FOR EXTRA INSPIRATION! \nNEW PRE-EVENT CLASSES @ 7:15 \n 
URL:https://zushislist.com/single-event/tuesdays-at-yehudi/2027-12-14/
LOCATION:YEHUDI HUB MIAMI BEACH\, United States
CATEGORIES:Young Professionals
ATTACH;FMTTYPE=image/png:https://zushislist.com/wp-content/uploads/2026/04/Every-tuesday.png
END:VEVENT
BEGIN:VEVENT
DTSTART;TZID=America/New_York:20271221T191500
DTEND;TZID=America/New_York:20271221T210000
DTSTAMP:20260423T191314
CREATED:20260422T171726Z
LAST-MODIFIED:20260422T171726Z
UID:10015244-1829416500-1829422800@zushislist.com
SUMMARY:TUESDAYS at Yehudi
DESCRIPTION:TUESDAYS at Yehudi \nWEEKLY EVENT FOR JEWISH YP’S \nYEHUDI HUB MIAMI BEACH \nAGES – 22-32 \nMenu:  POKE\, CHEESE & WINE \nCOME EARLY FOR EXTRA INSPIRATION! \nNEW PRE-EVENT CLASSES @ 7:15 \n 
URL:https://zushislist.com/single-event/tuesdays-at-yehudi/2027-12-21/
LOCATION:YEHUDI HUB MIAMI BEACH\, United States
CATEGORIES:Young Professionals
ATTACH;FMTTYPE=image/png:https://zushislist.com/wp-content/uploads/2026/04/Every-tuesday.png
END:VEVENT
BEGIN:VEVENT
DTSTART;TZID=America/New_York:20271228T191500
DTEND;TZID=America/New_York:20271228T210000
DTSTAMP:20260423T191314
CREATED:20260422T171726Z
LAST-MODIFIED:20260422T171726Z
UID:10015245-1830021300-1830027600@zushislist.com
SUMMARY:TUESDAYS at Yehudi
DESCRIPTION:TUESDAYS at Yehudi \nWEEKLY EVENT FOR JEWISH YP’S \nYEHUDI HUB MIAMI BEACH \nAGES – 22-32 \nMenu:  POKE\, CHEESE & WINE \nCOME EARLY FOR EXTRA INSPIRATION! \nNEW PRE-EVENT CLASSES @ 7:15 \n 
URL:https://zushislist.com/single-event/tuesdays-at-yehudi/2027-12-28/
LOCATION:YEHUDI HUB MIAMI BEACH\, United States
CATEGORIES:Young Professionals
ATTACH;FMTTYPE=image/png:https://zushislist.com/wp-content/uploads/2026/04/Every-tuesday.png
END:VEVENT
BEGIN:VEVENT
DTSTART;TZID=America/New_York:20280104T191500
DTEND;TZID=America/New_York:20280104T210000
DTSTAMP:20260423T191314
CREATED:20260422T171726Z
LAST-MODIFIED:20260422T171726Z
UID:10015246-1830626100-1830632400@zushislist.com
SUMMARY:TUESDAYS at Yehudi
DESCRIPTION:TUESDAYS at Yehudi \nWEEKLY EVENT FOR JEWISH YP’S \nYEHUDI HUB MIAMI BEACH \nAGES – 22-32 \nMenu:  POKE\, CHEESE & WINE \nCOME EARLY FOR EXTRA INSPIRATION! \nNEW PRE-EVENT CLASSES @ 7:15 \n 
URL:https://zushislist.com/single-event/tuesdays-at-yehudi/2028-01-04/
LOCATION:YEHUDI HUB MIAMI BEACH\, United States
CATEGORIES:Young Professionals
ATTACH;FMTTYPE=image/png:https://zushislist.com/wp-content/uploads/2026/04/Every-tuesday.png
END:VEVENT
BEGIN:VEVENT
DTSTART;TZID=America/New_York:20280111T191500
DTEND;TZID=America/New_York:20280111T210000
DTSTAMP:20260423T191314
CREATED:20260422T171726Z
LAST-MODIFIED:20260422T171726Z
UID:10015247-1831230900-1831237200@zushislist.com
SUMMARY:TUESDAYS at Yehudi
DESCRIPTION:TUESDAYS at Yehudi \nWEEKLY EVENT FOR JEWISH YP’S \nYEHUDI HUB MIAMI BEACH \nAGES – 22-32 \nMenu:  POKE\, CHEESE & WINE \nCOME EARLY FOR EXTRA INSPIRATION! \nNEW PRE-EVENT CLASSES @ 7:15 \n 
URL:https://zushislist.com/single-event/tuesdays-at-yehudi/2028-01-11/
LOCATION:YEHUDI HUB MIAMI BEACH\, United States
CATEGORIES:Young Professionals
ATTACH;FMTTYPE=image/png:https://zushislist.com/wp-content/uploads/2026/04/Every-tuesday.png
END:VEVENT
BEGIN:VEVENT
DTSTART;TZID=America/New_York:20280118T191500
DTEND;TZID=America/New_York:20280118T210000
DTSTAMP:20260423T191314
CREATED:20260422T171726Z
LAST-MODIFIED:20260422T171726Z
UID:10015248-1831835700-1831842000@zushislist.com
SUMMARY:TUESDAYS at Yehudi
DESCRIPTION:TUESDAYS at Yehudi \nWEEKLY EVENT FOR JEWISH YP’S \nYEHUDI HUB MIAMI BEACH \nAGES – 22-32 \nMenu:  POKE\, CHEESE & WINE \nCOME EARLY FOR EXTRA INSPIRATION! \nNEW PRE-EVENT CLASSES @ 7:15 \n 
URL:https://zushislist.com/single-event/tuesdays-at-yehudi/2028-01-18/
LOCATION:YEHUDI HUB MIAMI BEACH\, United States
CATEGORIES:Young Professionals
ATTACH;FMTTYPE=image/png:https://zushislist.com/wp-content/uploads/2026/04/Every-tuesday.png
END:VEVENT
BEGIN:VEVENT
DTSTART;TZID=America/New_York:20280125T191500
DTEND;TZID=America/New_York:20280125T210000
DTSTAMP:20260423T191314
CREATED:20260422T171726Z
LAST-MODIFIED:20260422T171726Z
UID:10015249-1832440500-1832446800@zushislist.com
SUMMARY:TUESDAYS at Yehudi
DESCRIPTION:TUESDAYS at Yehudi \nWEEKLY EVENT FOR JEWISH YP’S \nYEHUDI HUB MIAMI BEACH \nAGES – 22-32 \nMenu:  POKE\, CHEESE & WINE \nCOME EARLY FOR EXTRA INSPIRATION! \nNEW PRE-EVENT CLASSES @ 7:15 \n 
URL:https://zushislist.com/single-event/tuesdays-at-yehudi/2028-01-25/
LOCATION:YEHUDI HUB MIAMI BEACH\, United States
CATEGORIES:Young Professionals
ATTACH;FMTTYPE=image/png:https://zushislist.com/wp-content/uploads/2026/04/Every-tuesday.png
END:VEVENT
BEGIN:VEVENT
DTSTART;TZID=America/New_York:20280201T191500
DTEND;TZID=America/New_York:20280201T210000
DTSTAMP:20260423T191314
CREATED:20260422T171726Z
LAST-MODIFIED:20260422T171726Z
UID:10015250-1833045300-1833051600@zushislist.com
SUMMARY:TUESDAYS at Yehudi
DESCRIPTION:TUESDAYS at Yehudi \nWEEKLY EVENT FOR JEWISH YP’S \nYEHUDI HUB MIAMI BEACH \nAGES – 22-32 \nMenu:  POKE\, CHEESE & WINE \nCOME EARLY FOR EXTRA INSPIRATION! \nNEW PRE-EVENT CLASSES @ 7:15 \n 
URL:https://zushislist.com/single-event/tuesdays-at-yehudi/2028-02-01/
LOCATION:YEHUDI HUB MIAMI BEACH\, United States
CATEGORIES:Young Professionals
ATTACH;FMTTYPE=image/png:https://zushislist.com/wp-content/uploads/2026/04/Every-tuesday.png
END:VEVENT
BEGIN:VEVENT
DTSTART;TZID=America/New_York:20280208T191500
DTEND;TZID=America/New_York:20280208T210000
DTSTAMP:20260423T191314
CREATED:20260422T171726Z
LAST-MODIFIED:20260422T171726Z
UID:10015251-1833650100-1833656400@zushislist.com
SUMMARY:TUESDAYS at Yehudi
DESCRIPTION:TUESDAYS at Yehudi \nWEEKLY EVENT FOR JEWISH YP’S \nYEHUDI HUB MIAMI BEACH \nAGES – 22-32 \nMenu:  POKE\, CHEESE & WINE \nCOME EARLY FOR EXTRA INSPIRATION! \nNEW PRE-EVENT CLASSES @ 7:15 \n 
URL:https://zushislist.com/single-event/tuesdays-at-yehudi/2028-02-08/
LOCATION:YEHUDI HUB MIAMI BEACH\, United States
CATEGORIES:Young Professionals
ATTACH;FMTTYPE=image/png:https://zushislist.com/wp-content/uploads/2026/04/Every-tuesday.png
END:VEVENT
BEGIN:VEVENT
DTSTART;TZID=America/New_York:20280215T191500
DTEND;TZID=America/New_York:20280215T210000
DTSTAMP:20260423T191314
CREATED:20260422T171726Z
LAST-MODIFIED:20260422T171726Z
UID:10015252-1834254900-1834261200@zushislist.com
SUMMARY:TUESDAYS at Yehudi
DESCRIPTION:TUESDAYS at Yehudi \nWEEKLY EVENT FOR JEWISH YP’S \nYEHUDI HUB MIAMI BEACH \nAGES – 22-32 \nMenu:  POKE\, CHEESE & WINE \nCOME EARLY FOR EXTRA INSPIRATION! \nNEW PRE-EVENT CLASSES @ 7:15 \n 
URL:https://zushislist.com/single-event/tuesdays-at-yehudi/2028-02-15/
LOCATION:YEHUDI HUB MIAMI BEACH\, United States
CATEGORIES:Young Professionals
ATTACH;FMTTYPE=image/png:https://zushislist.com/wp-content/uploads/2026/04/Every-tuesday.png
END:VEVENT
BEGIN:VEVENT
DTSTART;TZID=America/New_York:20280222T191500
DTEND;TZID=America/New_York:20280222T210000
DTSTAMP:20260423T191314
CREATED:20260422T171726Z
LAST-MODIFIED:20260422T171726Z
UID:10015253-1834859700-1834866000@zushislist.com
SUMMARY:TUESDAYS at Yehudi
DESCRIPTION:TUESDAYS at Yehudi \nWEEKLY EVENT FOR JEWISH YP’S \nYEHUDI HUB MIAMI BEACH \nAGES – 22-32 \nMenu:  POKE\, CHEESE & WINE \nCOME EARLY FOR EXTRA INSPIRATION! \nNEW PRE-EVENT CLASSES @ 7:15 \n 
URL:https://zushislist.com/single-event/tuesdays-at-yehudi/2028-02-22/
LOCATION:YEHUDI HUB MIAMI BEACH\, United States
CATEGORIES:Young Professionals
ATTACH;FMTTYPE=image/png:https://zushislist.com/wp-content/uploads/2026/04/Every-tuesday.png
END:VEVENT
BEGIN:VEVENT
DTSTART;TZID=America/New_York:20280229T191500
DTEND;TZID=America/New_York:20280229T210000
DTSTAMP:20260423T191314
CREATED:20260422T171726Z
LAST-MODIFIED:20260422T171726Z
UID:10015254-1835464500-1835470800@zushislist.com
SUMMARY:TUESDAYS at Yehudi
DESCRIPTION:TUESDAYS at Yehudi \nWEEKLY EVENT FOR JEWISH YP’S \nYEHUDI HUB MIAMI BEACH \nAGES – 22-32 \nMenu:  POKE\, CHEESE & WINE \nCOME EARLY FOR EXTRA INSPIRATION! \nNEW PRE-EVENT CLASSES @ 7:15 \n 
URL:https://zushislist.com/single-event/tuesdays-at-yehudi/2028-02-29/
LOCATION:YEHUDI HUB MIAMI BEACH\, United States
CATEGORIES:Young Professionals
ATTACH;FMTTYPE=image/png:https://zushislist.com/wp-content/uploads/2026/04/Every-tuesday.png
END:VEVENT
BEGIN:VEVENT
DTSTART;TZID=America/New_York:20280307T191500
DTEND;TZID=America/New_York:20280307T210000
DTSTAMP:20260423T191314
CREATED:20260422T171726Z
LAST-MODIFIED:20260422T171726Z
UID:10015255-1836069300-1836075600@zushislist.com
SUMMARY:TUESDAYS at Yehudi
DESCRIPTION:TUESDAYS at Yehudi \nWEEKLY EVENT FOR JEWISH YP’S \nYEHUDI HUB MIAMI BEACH \nAGES – 22-32 \nMenu:  POKE\, CHEESE & WINE \nCOME EARLY FOR EXTRA INSPIRATION! \nNEW PRE-EVENT CLASSES @ 7:15 \n 
URL:https://zushislist.com/single-event/tuesdays-at-yehudi/2028-03-07/
LOCATION:YEHUDI HUB MIAMI BEACH\, United States
CATEGORIES:Young Professionals
ATTACH;FMTTYPE=image/png:https://zushislist.com/wp-content/uploads/2026/04/Every-tuesday.png
END:VEVENT
BEGIN:VEVENT
DTSTART;TZID=America/New_York:20280314T191500
DTEND;TZID=America/New_York:20280314T210000
DTSTAMP:20260423T191314
CREATED:20260422T171726Z
LAST-MODIFIED:20260422T171726Z
UID:10015256-1836674100-1836680400@zushislist.com
SUMMARY:TUESDAYS at Yehudi
DESCRIPTION:TUESDAYS at Yehudi \nWEEKLY EVENT FOR JEWISH YP’S \nYEHUDI HUB MIAMI BEACH \nAGES – 22-32 \nMenu:  POKE\, CHEESE & WINE \nCOME EARLY FOR EXTRA INSPIRATION! \nNEW PRE-EVENT CLASSES @ 7:15 \n 
URL:https://zushislist.com/single-event/tuesdays-at-yehudi/2028-03-14/
LOCATION:YEHUDI HUB MIAMI BEACH\, United States
CATEGORIES:Young Professionals
ATTACH;FMTTYPE=image/png:https://zushislist.com/wp-content/uploads/2026/04/Every-tuesday.png
END:VEVENT
BEGIN:VEVENT
DTSTART;TZID=America/New_York:20280321T191500
DTEND;TZID=America/New_York:20280321T210000
DTSTAMP:20260423T191314
CREATED:20260422T171726Z
LAST-MODIFIED:20260422T171726Z
UID:10015257-1837278900-1837285200@zushislist.com
SUMMARY:TUESDAYS at Yehudi
DESCRIPTION:TUESDAYS at Yehudi \nWEEKLY EVENT FOR JEWISH YP’S \nYEHUDI HUB MIAMI BEACH \nAGES – 22-32 \nMenu:  POKE\, CHEESE & WINE \nCOME EARLY FOR EXTRA INSPIRATION! \nNEW PRE-EVENT CLASSES @ 7:15 \n 
URL:https://zushislist.com/single-event/tuesdays-at-yehudi/2028-03-21/
LOCATION:YEHUDI HUB MIAMI BEACH\, United States
CATEGORIES:Young Professionals
ATTACH;FMTTYPE=image/png:https://zushislist.com/wp-content/uploads/2026/04/Every-tuesday.png
END:VEVENT
BEGIN:VEVENT
DTSTART;TZID=America/New_York:20280328T191500
DTEND;TZID=America/New_York:20280328T210000
DTSTAMP:20260423T191314
CREATED:20260422T171726Z
LAST-MODIFIED:20260422T171726Z
UID:10015258-1837883700-1837890000@zushislist.com
SUMMARY:TUESDAYS at Yehudi
DESCRIPTION:TUESDAYS at Yehudi \nWEEKLY EVENT FOR JEWISH YP’S \nYEHUDI HUB MIAMI BEACH \nAGES – 22-32 \nMenu:  POKE\, CHEESE & WINE \nCOME EARLY FOR EXTRA INSPIRATION! \nNEW PRE-EVENT CLASSES @ 7:15 \n 
URL:https://zushislist.com/single-event/tuesdays-at-yehudi/2028-03-28/
LOCATION:YEHUDI HUB MIAMI BEACH\, United States
CATEGORIES:Young Professionals
ATTACH;FMTTYPE=image/png:https://zushislist.com/wp-content/uploads/2026/04/Every-tuesday.png
END:VEVENT
BEGIN:VEVENT
DTSTART;TZID=America/New_York:20280404T191500
DTEND;TZID=America/New_York:20280404T210000
DTSTAMP:20260423T191314
CREATED:20260422T171726Z
LAST-MODIFIED:20260422T171726Z
UID:10015259-1838488500-1838494800@zushislist.com
SUMMARY:TUESDAYS at Yehudi
DESCRIPTION:TUESDAYS at Yehudi \nWEEKLY EVENT FOR JEWISH YP’S \nYEHUDI HUB MIAMI BEACH \nAGES – 22-32 \nMenu:  POKE\, CHEESE & WINE \nCOME EARLY FOR EXTRA INSPIRATION! \nNEW PRE-EVENT CLASSES @ 7:15 \n 
URL:https://zushislist.com/single-event/tuesdays-at-yehudi/2028-04-04/
LOCATION:YEHUDI HUB MIAMI BEACH\, United States
CATEGORIES:Young Professionals
ATTACH;FMTTYPE=image/png:https://zushislist.com/wp-content/uploads/2026/04/Every-tuesday.png
END:VEVENT
BEGIN:VEVENT
DTSTART;TZID=America/New_York:20280411T191500
DTEND;TZID=America/New_York:20280411T210000
DTSTAMP:20260423T191314
CREATED:20260422T171726Z
LAST-MODIFIED:20260422T171726Z
UID:10015260-1839093300-1839099600@zushislist.com
SUMMARY:TUESDAYS at Yehudi
DESCRIPTION:TUESDAYS at Yehudi \nWEEKLY EVENT FOR JEWISH YP’S \nYEHUDI HUB MIAMI BEACH \nAGES – 22-32 \nMenu:  POKE\, CHEESE & WINE \nCOME EARLY FOR EXTRA INSPIRATION! \nNEW PRE-EVENT CLASSES @ 7:15 \n 
URL:https://zushislist.com/single-event/tuesdays-at-yehudi/2028-04-11/
LOCATION:YEHUDI HUB MIAMI BEACH\, United States
CATEGORIES:Young Professionals
ATTACH;FMTTYPE=image/png:https://zushislist.com/wp-content/uploads/2026/04/Every-tuesday.png
END:VEVENT
BEGIN:VEVENT
DTSTART;TZID=America/New_York:20280418T191500
DTEND;TZID=America/New_York:20280418T210000
DTSTAMP:20260423T191314
CREATED:20260422T171726Z
LAST-MODIFIED:20260422T171726Z
UID:10015261-1839698100-1839704400@zushislist.com
SUMMARY:TUESDAYS at Yehudi
DESCRIPTION:TUESDAYS at Yehudi \nWEEKLY EVENT FOR JEWISH YP’S \nYEHUDI HUB MIAMI BEACH \nAGES – 22-32 \nMenu:  POKE\, CHEESE & WINE \nCOME EARLY FOR EXTRA INSPIRATION! \nNEW PRE-EVENT CLASSES @ 7:15 \n 
URL:https://zushislist.com/single-event/tuesdays-at-yehudi/2028-04-18/
LOCATION:YEHUDI HUB MIAMI BEACH\, United States
CATEGORIES:Young Professionals
ATTACH;FMTTYPE=image/png:https://zushislist.com/wp-content/uploads/2026/04/Every-tuesday.png
END:VEVENT
BEGIN:VEVENT
DTSTART;TZID=America/New_York:20280425T191500
DTEND;TZID=America/New_York:20280425T210000
DTSTAMP:20260423T191314
CREATED:20260422T171726Z
LAST-MODIFIED:20260422T171726Z
UID:10015262-1840302900-1840309200@zushislist.com
SUMMARY:TUESDAYS at Yehudi
DESCRIPTION:TUESDAYS at Yehudi \nWEEKLY EVENT FOR JEWISH YP’S \nYEHUDI HUB MIAMI BEACH \nAGES – 22-32 \nMenu:  POKE\, CHEESE & WINE \nCOME EARLY FOR EXTRA INSPIRATION! \nNEW PRE-EVENT CLASSES @ 7:15 \n 
URL:https://zushislist.com/single-event/tuesdays-at-yehudi/2028-04-25/
LOCATION:YEHUDI HUB MIAMI BEACH\, United States
CATEGORIES:Young Professionals
ATTACH;FMTTYPE=image/png:https://zushislist.com/wp-content/uploads/2026/04/Every-tuesday.png
END:VEVENT
END:VCALENDAR