BEGIN:VCALENDAR
VERSION:2.0
PRODID:-//Zushi&#039;s List - ECPv6.15.20//NONSGML v1.0//EN
CALSCALE:GREGORIAN
METHOD:PUBLISH
X-ORIGINAL-URL:https://zushislist.com
X-WR-CALDESC:Events for Zushi&#039;s List
REFRESH-INTERVAL;VALUE=DURATION:PT1H
X-Robots-Tag:noindex
X-PUBLISHED-TTL:PT1H
BEGIN:VTIMEZONE
TZID:America/New_York
BEGIN:DAYLIGHT
TZOFFSETFROM:-0500
TZOFFSETTO:-0400
TZNAME:EDT
DTSTART:20280312T070000
END:DAYLIGHT
BEGIN:STANDARD
TZOFFSETFROM:-0400
TZOFFSETTO:-0500
TZNAME:EST
DTSTART:20281105T060000
END:STANDARD
BEGIN:DAYLIGHT
TZOFFSETFROM:-0500
TZOFFSETTO:-0400
TZNAME:EDT
DTSTART:20290311T070000
END:DAYLIGHT
BEGIN:STANDARD
TZOFFSETFROM:-0400
TZOFFSETTO:-0500
TZNAME:EST
DTSTART:20291104T060000
END:STANDARD
BEGIN:DAYLIGHT
TZOFFSETFROM:-0500
TZOFFSETTO:-0400
TZNAME:EDT
DTSTART:20300310T070000
END:DAYLIGHT
BEGIN:STANDARD
TZOFFSETFROM:-0400
TZOFFSETTO:-0500
TZNAME:EST
DTSTART:20301103T060000
END:STANDARD
END:VTIMEZONE
BEGIN:VEVENT
DTSTART;TZID=America/New_York:20290313T191500
DTEND;TZID=America/New_York:20290313T210000
DTSTAMP:20260424T001224
CREATED:20260422T171726Z
LAST-MODIFIED:20260422T171726Z
UID:10015308-1868123700-1868130000@zushislist.com
SUMMARY:TUESDAYS at Yehudi
DESCRIPTION:TUESDAYS at Yehudi \nWEEKLY EVENT FOR JEWISH YP’S \nYEHUDI HUB MIAMI BEACH \nAGES – 22-32 \nMenu:  POKE\, CHEESE & WINE \nCOME EARLY FOR EXTRA INSPIRATION! \nNEW PRE-EVENT CLASSES @ 7:15 \n 
URL:https://zushislist.com/single-event/tuesdays-at-yehudi/2029-03-13/
LOCATION:YEHUDI HUB MIAMI BEACH\, United States
CATEGORIES:Young Professionals
ATTACH;FMTTYPE=image/png:https://zushislist.com/wp-content/uploads/2026/04/Every-tuesday.png
END:VEVENT
BEGIN:VEVENT
DTSTART;TZID=America/New_York:20290320T191500
DTEND;TZID=America/New_York:20290320T210000
DTSTAMP:20260424T001224
CREATED:20260422T171726Z
LAST-MODIFIED:20260422T171726Z
UID:10015309-1868728500-1868734800@zushislist.com
SUMMARY:TUESDAYS at Yehudi
DESCRIPTION:TUESDAYS at Yehudi \nWEEKLY EVENT FOR JEWISH YP’S \nYEHUDI HUB MIAMI BEACH \nAGES – 22-32 \nMenu:  POKE\, CHEESE & WINE \nCOME EARLY FOR EXTRA INSPIRATION! \nNEW PRE-EVENT CLASSES @ 7:15 \n 
URL:https://zushislist.com/single-event/tuesdays-at-yehudi/2029-03-20/
LOCATION:YEHUDI HUB MIAMI BEACH\, United States
CATEGORIES:Young Professionals
ATTACH;FMTTYPE=image/png:https://zushislist.com/wp-content/uploads/2026/04/Every-tuesday.png
END:VEVENT
BEGIN:VEVENT
DTSTART;TZID=America/New_York:20290327T191500
DTEND;TZID=America/New_York:20290327T210000
DTSTAMP:20260424T001224
CREATED:20260422T171726Z
LAST-MODIFIED:20260422T171726Z
UID:10015310-1869333300-1869339600@zushislist.com
SUMMARY:TUESDAYS at Yehudi
DESCRIPTION:TUESDAYS at Yehudi \nWEEKLY EVENT FOR JEWISH YP’S \nYEHUDI HUB MIAMI BEACH \nAGES – 22-32 \nMenu:  POKE\, CHEESE & WINE \nCOME EARLY FOR EXTRA INSPIRATION! \nNEW PRE-EVENT CLASSES @ 7:15 \n 
URL:https://zushislist.com/single-event/tuesdays-at-yehudi/2029-03-27/
LOCATION:YEHUDI HUB MIAMI BEACH\, United States
CATEGORIES:Young Professionals
ATTACH;FMTTYPE=image/png:https://zushislist.com/wp-content/uploads/2026/04/Every-tuesday.png
END:VEVENT
BEGIN:VEVENT
DTSTART;TZID=America/New_York:20290403T191500
DTEND;TZID=America/New_York:20290403T210000
DTSTAMP:20260424T001224
CREATED:20260422T171726Z
LAST-MODIFIED:20260422T171726Z
UID:10015311-1869938100-1869944400@zushislist.com
SUMMARY:TUESDAYS at Yehudi
DESCRIPTION:TUESDAYS at Yehudi \nWEEKLY EVENT FOR JEWISH YP’S \nYEHUDI HUB MIAMI BEACH \nAGES – 22-32 \nMenu:  POKE\, CHEESE & WINE \nCOME EARLY FOR EXTRA INSPIRATION! \nNEW PRE-EVENT CLASSES @ 7:15 \n 
URL:https://zushislist.com/single-event/tuesdays-at-yehudi/2029-04-03/
LOCATION:YEHUDI HUB MIAMI BEACH\, United States
CATEGORIES:Young Professionals
ATTACH;FMTTYPE=image/png:https://zushislist.com/wp-content/uploads/2026/04/Every-tuesday.png
END:VEVENT
BEGIN:VEVENT
DTSTART;TZID=America/New_York:20290410T191500
DTEND;TZID=America/New_York:20290410T210000
DTSTAMP:20260424T001224
CREATED:20260422T171726Z
LAST-MODIFIED:20260422T171726Z
UID:10015312-1870542900-1870549200@zushislist.com
SUMMARY:TUESDAYS at Yehudi
DESCRIPTION:TUESDAYS at Yehudi \nWEEKLY EVENT FOR JEWISH YP’S \nYEHUDI HUB MIAMI BEACH \nAGES – 22-32 \nMenu:  POKE\, CHEESE & WINE \nCOME EARLY FOR EXTRA INSPIRATION! \nNEW PRE-EVENT CLASSES @ 7:15 \n 
URL:https://zushislist.com/single-event/tuesdays-at-yehudi/2029-04-10/
LOCATION:YEHUDI HUB MIAMI BEACH\, United States
CATEGORIES:Young Professionals
ATTACH;FMTTYPE=image/png:https://zushislist.com/wp-content/uploads/2026/04/Every-tuesday.png
END:VEVENT
BEGIN:VEVENT
DTSTART;TZID=America/New_York:20290417T191500
DTEND;TZID=America/New_York:20290417T210000
DTSTAMP:20260424T001224
CREATED:20260422T171726Z
LAST-MODIFIED:20260422T171726Z
UID:10015313-1871147700-1871154000@zushislist.com
SUMMARY:TUESDAYS at Yehudi
DESCRIPTION:TUESDAYS at Yehudi \nWEEKLY EVENT FOR JEWISH YP’S \nYEHUDI HUB MIAMI BEACH \nAGES – 22-32 \nMenu:  POKE\, CHEESE & WINE \nCOME EARLY FOR EXTRA INSPIRATION! \nNEW PRE-EVENT CLASSES @ 7:15 \n 
URL:https://zushislist.com/single-event/tuesdays-at-yehudi/2029-04-17/
LOCATION:YEHUDI HUB MIAMI BEACH\, United States
CATEGORIES:Young Professionals
ATTACH;FMTTYPE=image/png:https://zushislist.com/wp-content/uploads/2026/04/Every-tuesday.png
END:VEVENT
BEGIN:VEVENT
DTSTART;TZID=America/New_York:20290424T191500
DTEND;TZID=America/New_York:20290424T210000
DTSTAMP:20260424T001224
CREATED:20260422T171726Z
LAST-MODIFIED:20260422T171726Z
UID:10015314-1871752500-1871758800@zushislist.com
SUMMARY:TUESDAYS at Yehudi
DESCRIPTION:TUESDAYS at Yehudi \nWEEKLY EVENT FOR JEWISH YP’S \nYEHUDI HUB MIAMI BEACH \nAGES – 22-32 \nMenu:  POKE\, CHEESE & WINE \nCOME EARLY FOR EXTRA INSPIRATION! \nNEW PRE-EVENT CLASSES @ 7:15 \n 
URL:https://zushislist.com/single-event/tuesdays-at-yehudi/2029-04-24/
LOCATION:YEHUDI HUB MIAMI BEACH\, United States
CATEGORIES:Young Professionals
ATTACH;FMTTYPE=image/png:https://zushislist.com/wp-content/uploads/2026/04/Every-tuesday.png
END:VEVENT
BEGIN:VEVENT
DTSTART;TZID=America/New_York:20290501T191500
DTEND;TZID=America/New_York:20290501T210000
DTSTAMP:20260424T001224
CREATED:20260422T171726Z
LAST-MODIFIED:20260422T171726Z
UID:10015315-1872357300-1872363600@zushislist.com
SUMMARY:TUESDAYS at Yehudi
DESCRIPTION:TUESDAYS at Yehudi \nWEEKLY EVENT FOR JEWISH YP’S \nYEHUDI HUB MIAMI BEACH \nAGES – 22-32 \nMenu:  POKE\, CHEESE & WINE \nCOME EARLY FOR EXTRA INSPIRATION! \nNEW PRE-EVENT CLASSES @ 7:15 \n 
URL:https://zushislist.com/single-event/tuesdays-at-yehudi/2029-05-01/
LOCATION:YEHUDI HUB MIAMI BEACH\, United States
CATEGORIES:Young Professionals
ATTACH;FMTTYPE=image/png:https://zushislist.com/wp-content/uploads/2026/04/Every-tuesday.png
END:VEVENT
BEGIN:VEVENT
DTSTART;TZID=America/New_York:20290508T191500
DTEND;TZID=America/New_York:20290508T210000
DTSTAMP:20260424T001224
CREATED:20260422T171726Z
LAST-MODIFIED:20260422T171726Z
UID:10015316-1872962100-1872968400@zushislist.com
SUMMARY:TUESDAYS at Yehudi
DESCRIPTION:TUESDAYS at Yehudi \nWEEKLY EVENT FOR JEWISH YP’S \nYEHUDI HUB MIAMI BEACH \nAGES – 22-32 \nMenu:  POKE\, CHEESE & WINE \nCOME EARLY FOR EXTRA INSPIRATION! \nNEW PRE-EVENT CLASSES @ 7:15 \n 
URL:https://zushislist.com/single-event/tuesdays-at-yehudi/2029-05-08/
LOCATION:YEHUDI HUB MIAMI BEACH\, United States
CATEGORIES:Young Professionals
ATTACH;FMTTYPE=image/png:https://zushislist.com/wp-content/uploads/2026/04/Every-tuesday.png
END:VEVENT
BEGIN:VEVENT
DTSTART;TZID=America/New_York:20290515T191500
DTEND;TZID=America/New_York:20290515T210000
DTSTAMP:20260424T001224
CREATED:20260422T171726Z
LAST-MODIFIED:20260422T171726Z
UID:10015317-1873566900-1873573200@zushislist.com
SUMMARY:TUESDAYS at Yehudi
DESCRIPTION:TUESDAYS at Yehudi \nWEEKLY EVENT FOR JEWISH YP’S \nYEHUDI HUB MIAMI BEACH \nAGES – 22-32 \nMenu:  POKE\, CHEESE & WINE \nCOME EARLY FOR EXTRA INSPIRATION! \nNEW PRE-EVENT CLASSES @ 7:15 \n 
URL:https://zushislist.com/single-event/tuesdays-at-yehudi/2029-05-15/
LOCATION:YEHUDI HUB MIAMI BEACH\, United States
CATEGORIES:Young Professionals
ATTACH;FMTTYPE=image/png:https://zushislist.com/wp-content/uploads/2026/04/Every-tuesday.png
END:VEVENT
BEGIN:VEVENT
DTSTART;TZID=America/New_York:20290522T191500
DTEND;TZID=America/New_York:20290522T210000
DTSTAMP:20260424T001224
CREATED:20260422T171726Z
LAST-MODIFIED:20260422T171726Z
UID:10015318-1874171700-1874178000@zushislist.com
SUMMARY:TUESDAYS at Yehudi
DESCRIPTION:TUESDAYS at Yehudi \nWEEKLY EVENT FOR JEWISH YP’S \nYEHUDI HUB MIAMI BEACH \nAGES – 22-32 \nMenu:  POKE\, CHEESE & WINE \nCOME EARLY FOR EXTRA INSPIRATION! \nNEW PRE-EVENT CLASSES @ 7:15 \n 
URL:https://zushislist.com/single-event/tuesdays-at-yehudi/2029-05-22/
LOCATION:YEHUDI HUB MIAMI BEACH\, United States
CATEGORIES:Young Professionals
ATTACH;FMTTYPE=image/png:https://zushislist.com/wp-content/uploads/2026/04/Every-tuesday.png
END:VEVENT
BEGIN:VEVENT
DTSTART;TZID=America/New_York:20290529T191500
DTEND;TZID=America/New_York:20290529T210000
DTSTAMP:20260424T001224
CREATED:20260422T171726Z
LAST-MODIFIED:20260422T171726Z
UID:10015319-1874776500-1874782800@zushislist.com
SUMMARY:TUESDAYS at Yehudi
DESCRIPTION:TUESDAYS at Yehudi \nWEEKLY EVENT FOR JEWISH YP’S \nYEHUDI HUB MIAMI BEACH \nAGES – 22-32 \nMenu:  POKE\, CHEESE & WINE \nCOME EARLY FOR EXTRA INSPIRATION! \nNEW PRE-EVENT CLASSES @ 7:15 \n 
URL:https://zushislist.com/single-event/tuesdays-at-yehudi/2029-05-29/
LOCATION:YEHUDI HUB MIAMI BEACH\, United States
CATEGORIES:Young Professionals
ATTACH;FMTTYPE=image/png:https://zushislist.com/wp-content/uploads/2026/04/Every-tuesday.png
END:VEVENT
BEGIN:VEVENT
DTSTART;TZID=America/New_York:20290605T191500
DTEND;TZID=America/New_York:20290605T210000
DTSTAMP:20260424T001224
CREATED:20260422T171726Z
LAST-MODIFIED:20260422T171726Z
UID:10015320-1875381300-1875387600@zushislist.com
SUMMARY:TUESDAYS at Yehudi
DESCRIPTION:TUESDAYS at Yehudi \nWEEKLY EVENT FOR JEWISH YP’S \nYEHUDI HUB MIAMI BEACH \nAGES – 22-32 \nMenu:  POKE\, CHEESE & WINE \nCOME EARLY FOR EXTRA INSPIRATION! \nNEW PRE-EVENT CLASSES @ 7:15 \n 
URL:https://zushislist.com/single-event/tuesdays-at-yehudi/2029-06-05/
LOCATION:YEHUDI HUB MIAMI BEACH\, United States
CATEGORIES:Young Professionals
ATTACH;FMTTYPE=image/png:https://zushislist.com/wp-content/uploads/2026/04/Every-tuesday.png
END:VEVENT
BEGIN:VEVENT
DTSTART;TZID=America/New_York:20290612T191500
DTEND;TZID=America/New_York:20290612T210000
DTSTAMP:20260424T001224
CREATED:20260422T171726Z
LAST-MODIFIED:20260422T171726Z
UID:10015321-1875986100-1875992400@zushislist.com
SUMMARY:TUESDAYS at Yehudi
DESCRIPTION:TUESDAYS at Yehudi \nWEEKLY EVENT FOR JEWISH YP’S \nYEHUDI HUB MIAMI BEACH \nAGES – 22-32 \nMenu:  POKE\, CHEESE & WINE \nCOME EARLY FOR EXTRA INSPIRATION! \nNEW PRE-EVENT CLASSES @ 7:15 \n 
URL:https://zushislist.com/single-event/tuesdays-at-yehudi/2029-06-12/
LOCATION:YEHUDI HUB MIAMI BEACH\, United States
CATEGORIES:Young Professionals
ATTACH;FMTTYPE=image/png:https://zushislist.com/wp-content/uploads/2026/04/Every-tuesday.png
END:VEVENT
BEGIN:VEVENT
DTSTART;TZID=America/New_York:20290619T191500
DTEND;TZID=America/New_York:20290619T210000
DTSTAMP:20260424T001224
CREATED:20260422T171726Z
LAST-MODIFIED:20260422T171726Z
UID:10015322-1876590900-1876597200@zushislist.com
SUMMARY:TUESDAYS at Yehudi
DESCRIPTION:TUESDAYS at Yehudi \nWEEKLY EVENT FOR JEWISH YP’S \nYEHUDI HUB MIAMI BEACH \nAGES – 22-32 \nMenu:  POKE\, CHEESE & WINE \nCOME EARLY FOR EXTRA INSPIRATION! \nNEW PRE-EVENT CLASSES @ 7:15 \n 
URL:https://zushislist.com/single-event/tuesdays-at-yehudi/2029-06-19/
LOCATION:YEHUDI HUB MIAMI BEACH\, United States
CATEGORIES:Young Professionals
ATTACH;FMTTYPE=image/png:https://zushislist.com/wp-content/uploads/2026/04/Every-tuesday.png
END:VEVENT
BEGIN:VEVENT
DTSTART;TZID=America/New_York:20290626T191500
DTEND;TZID=America/New_York:20290626T210000
DTSTAMP:20260424T001224
CREATED:20260422T171726Z
LAST-MODIFIED:20260422T171726Z
UID:10015323-1877195700-1877202000@zushislist.com
SUMMARY:TUESDAYS at Yehudi
DESCRIPTION:TUESDAYS at Yehudi \nWEEKLY EVENT FOR JEWISH YP’S \nYEHUDI HUB MIAMI BEACH \nAGES – 22-32 \nMenu:  POKE\, CHEESE & WINE \nCOME EARLY FOR EXTRA INSPIRATION! \nNEW PRE-EVENT CLASSES @ 7:15 \n 
URL:https://zushislist.com/single-event/tuesdays-at-yehudi/2029-06-26/
LOCATION:YEHUDI HUB MIAMI BEACH\, United States
CATEGORIES:Young Professionals
ATTACH;FMTTYPE=image/png:https://zushislist.com/wp-content/uploads/2026/04/Every-tuesday.png
END:VEVENT
BEGIN:VEVENT
DTSTART;TZID=America/New_York:20290703T191500
DTEND;TZID=America/New_York:20290703T210000
DTSTAMP:20260424T001224
CREATED:20260422T171726Z
LAST-MODIFIED:20260422T171726Z
UID:10015324-1877800500-1877806800@zushislist.com
SUMMARY:TUESDAYS at Yehudi
DESCRIPTION:TUESDAYS at Yehudi \nWEEKLY EVENT FOR JEWISH YP’S \nYEHUDI HUB MIAMI BEACH \nAGES – 22-32 \nMenu:  POKE\, CHEESE & WINE \nCOME EARLY FOR EXTRA INSPIRATION! \nNEW PRE-EVENT CLASSES @ 7:15 \n 
URL:https://zushislist.com/single-event/tuesdays-at-yehudi/2029-07-03/
LOCATION:YEHUDI HUB MIAMI BEACH\, United States
CATEGORIES:Young Professionals
ATTACH;FMTTYPE=image/png:https://zushislist.com/wp-content/uploads/2026/04/Every-tuesday.png
END:VEVENT
BEGIN:VEVENT
DTSTART;TZID=America/New_York:20290710T191500
DTEND;TZID=America/New_York:20290710T210000
DTSTAMP:20260424T001224
CREATED:20260422T171726Z
LAST-MODIFIED:20260422T171726Z
UID:10015325-1878405300-1878411600@zushislist.com
SUMMARY:TUESDAYS at Yehudi
DESCRIPTION:TUESDAYS at Yehudi \nWEEKLY EVENT FOR JEWISH YP’S \nYEHUDI HUB MIAMI BEACH \nAGES – 22-32 \nMenu:  POKE\, CHEESE & WINE \nCOME EARLY FOR EXTRA INSPIRATION! \nNEW PRE-EVENT CLASSES @ 7:15 \n 
URL:https://zushislist.com/single-event/tuesdays-at-yehudi/2029-07-10/
LOCATION:YEHUDI HUB MIAMI BEACH\, United States
CATEGORIES:Young Professionals
ATTACH;FMTTYPE=image/png:https://zushislist.com/wp-content/uploads/2026/04/Every-tuesday.png
END:VEVENT
BEGIN:VEVENT
DTSTART;TZID=America/New_York:20290717T191500
DTEND;TZID=America/New_York:20290717T210000
DTSTAMP:20260424T001224
CREATED:20260422T171726Z
LAST-MODIFIED:20260422T171726Z
UID:10015326-1879010100-1879016400@zushislist.com
SUMMARY:TUESDAYS at Yehudi
DESCRIPTION:TUESDAYS at Yehudi \nWEEKLY EVENT FOR JEWISH YP’S \nYEHUDI HUB MIAMI BEACH \nAGES – 22-32 \nMenu:  POKE\, CHEESE & WINE \nCOME EARLY FOR EXTRA INSPIRATION! \nNEW PRE-EVENT CLASSES @ 7:15 \n 
URL:https://zushislist.com/single-event/tuesdays-at-yehudi/2029-07-17/
LOCATION:YEHUDI HUB MIAMI BEACH\, United States
CATEGORIES:Young Professionals
ATTACH;FMTTYPE=image/png:https://zushislist.com/wp-content/uploads/2026/04/Every-tuesday.png
END:VEVENT
BEGIN:VEVENT
DTSTART;TZID=America/New_York:20290724T191500
DTEND;TZID=America/New_York:20290724T210000
DTSTAMP:20260424T001224
CREATED:20260422T171726Z
LAST-MODIFIED:20260422T171726Z
UID:10015327-1879614900-1879621200@zushislist.com
SUMMARY:TUESDAYS at Yehudi
DESCRIPTION:TUESDAYS at Yehudi \nWEEKLY EVENT FOR JEWISH YP’S \nYEHUDI HUB MIAMI BEACH \nAGES – 22-32 \nMenu:  POKE\, CHEESE & WINE \nCOME EARLY FOR EXTRA INSPIRATION! \nNEW PRE-EVENT CLASSES @ 7:15 \n 
URL:https://zushislist.com/single-event/tuesdays-at-yehudi/2029-07-24/
LOCATION:YEHUDI HUB MIAMI BEACH\, United States
CATEGORIES:Young Professionals
ATTACH;FMTTYPE=image/png:https://zushislist.com/wp-content/uploads/2026/04/Every-tuesday.png
END:VEVENT
BEGIN:VEVENT
DTSTART;TZID=America/New_York:20290731T191500
DTEND;TZID=America/New_York:20290731T210000
DTSTAMP:20260424T001224
CREATED:20260422T171726Z
LAST-MODIFIED:20260422T171726Z
UID:10015328-1880219700-1880226000@zushislist.com
SUMMARY:TUESDAYS at Yehudi
DESCRIPTION:TUESDAYS at Yehudi \nWEEKLY EVENT FOR JEWISH YP’S \nYEHUDI HUB MIAMI BEACH \nAGES – 22-32 \nMenu:  POKE\, CHEESE & WINE \nCOME EARLY FOR EXTRA INSPIRATION! \nNEW PRE-EVENT CLASSES @ 7:15 \n 
URL:https://zushislist.com/single-event/tuesdays-at-yehudi/2029-07-31/
LOCATION:YEHUDI HUB MIAMI BEACH\, United States
CATEGORIES:Young Professionals
ATTACH;FMTTYPE=image/png:https://zushislist.com/wp-content/uploads/2026/04/Every-tuesday.png
END:VEVENT
BEGIN:VEVENT
DTSTART;TZID=America/New_York:20290807T191500
DTEND;TZID=America/New_York:20290807T210000
DTSTAMP:20260424T001224
CREATED:20260422T171726Z
LAST-MODIFIED:20260422T171726Z
UID:10015329-1880824500-1880830800@zushislist.com
SUMMARY:TUESDAYS at Yehudi
DESCRIPTION:TUESDAYS at Yehudi \nWEEKLY EVENT FOR JEWISH YP’S \nYEHUDI HUB MIAMI BEACH \nAGES – 22-32 \nMenu:  POKE\, CHEESE & WINE \nCOME EARLY FOR EXTRA INSPIRATION! \nNEW PRE-EVENT CLASSES @ 7:15 \n 
URL:https://zushislist.com/single-event/tuesdays-at-yehudi/2029-08-07/
LOCATION:YEHUDI HUB MIAMI BEACH\, United States
CATEGORIES:Young Professionals
ATTACH;FMTTYPE=image/png:https://zushislist.com/wp-content/uploads/2026/04/Every-tuesday.png
END:VEVENT
BEGIN:VEVENT
DTSTART;TZID=America/New_York:20290814T191500
DTEND;TZID=America/New_York:20290814T210000
DTSTAMP:20260424T001224
CREATED:20260422T171726Z
LAST-MODIFIED:20260422T171726Z
UID:10015330-1881429300-1881435600@zushislist.com
SUMMARY:TUESDAYS at Yehudi
DESCRIPTION:TUESDAYS at Yehudi \nWEEKLY EVENT FOR JEWISH YP’S \nYEHUDI HUB MIAMI BEACH \nAGES – 22-32 \nMenu:  POKE\, CHEESE & WINE \nCOME EARLY FOR EXTRA INSPIRATION! \nNEW PRE-EVENT CLASSES @ 7:15 \n 
URL:https://zushislist.com/single-event/tuesdays-at-yehudi/2029-08-14/
LOCATION:YEHUDI HUB MIAMI BEACH\, United States
CATEGORIES:Young Professionals
ATTACH;FMTTYPE=image/png:https://zushislist.com/wp-content/uploads/2026/04/Every-tuesday.png
END:VEVENT
BEGIN:VEVENT
DTSTART;TZID=America/New_York:20290821T191500
DTEND;TZID=America/New_York:20290821T210000
DTSTAMP:20260424T001224
CREATED:20260422T171726Z
LAST-MODIFIED:20260422T171726Z
UID:10015331-1882034100-1882040400@zushislist.com
SUMMARY:TUESDAYS at Yehudi
DESCRIPTION:TUESDAYS at Yehudi \nWEEKLY EVENT FOR JEWISH YP’S \nYEHUDI HUB MIAMI BEACH \nAGES – 22-32 \nMenu:  POKE\, CHEESE & WINE \nCOME EARLY FOR EXTRA INSPIRATION! \nNEW PRE-EVENT CLASSES @ 7:15 \n 
URL:https://zushislist.com/single-event/tuesdays-at-yehudi/2029-08-21/
LOCATION:YEHUDI HUB MIAMI BEACH\, United States
CATEGORIES:Young Professionals
ATTACH;FMTTYPE=image/png:https://zushislist.com/wp-content/uploads/2026/04/Every-tuesday.png
END:VEVENT
BEGIN:VEVENT
DTSTART;TZID=America/New_York:20290828T191500
DTEND;TZID=America/New_York:20290828T210000
DTSTAMP:20260424T001224
CREATED:20260422T171726Z
LAST-MODIFIED:20260422T171726Z
UID:10015332-1882638900-1882645200@zushislist.com
SUMMARY:TUESDAYS at Yehudi
DESCRIPTION:TUESDAYS at Yehudi \nWEEKLY EVENT FOR JEWISH YP’S \nYEHUDI HUB MIAMI BEACH \nAGES – 22-32 \nMenu:  POKE\, CHEESE & WINE \nCOME EARLY FOR EXTRA INSPIRATION! \nNEW PRE-EVENT CLASSES @ 7:15 \n 
URL:https://zushislist.com/single-event/tuesdays-at-yehudi/2029-08-28/
LOCATION:YEHUDI HUB MIAMI BEACH\, United States
CATEGORIES:Young Professionals
ATTACH;FMTTYPE=image/png:https://zushislist.com/wp-content/uploads/2026/04/Every-tuesday.png
END:VEVENT
BEGIN:VEVENT
DTSTART;TZID=America/New_York:20290904T191500
DTEND;TZID=America/New_York:20290904T210000
DTSTAMP:20260424T001224
CREATED:20260422T171726Z
LAST-MODIFIED:20260422T171726Z
UID:10015333-1883243700-1883250000@zushislist.com
SUMMARY:TUESDAYS at Yehudi
DESCRIPTION:TUESDAYS at Yehudi \nWEEKLY EVENT FOR JEWISH YP’S \nYEHUDI HUB MIAMI BEACH \nAGES – 22-32 \nMenu:  POKE\, CHEESE & WINE \nCOME EARLY FOR EXTRA INSPIRATION! \nNEW PRE-EVENT CLASSES @ 7:15 \n 
URL:https://zushislist.com/single-event/tuesdays-at-yehudi/2029-09-04/
LOCATION:YEHUDI HUB MIAMI BEACH\, United States
CATEGORIES:Young Professionals
ATTACH;FMTTYPE=image/png:https://zushislist.com/wp-content/uploads/2026/04/Every-tuesday.png
END:VEVENT
BEGIN:VEVENT
DTSTART;TZID=America/New_York:20290911T191500
DTEND;TZID=America/New_York:20290911T210000
DTSTAMP:20260424T001224
CREATED:20260422T171726Z
LAST-MODIFIED:20260422T171726Z
UID:10015334-1883848500-1883854800@zushislist.com
SUMMARY:TUESDAYS at Yehudi
DESCRIPTION:TUESDAYS at Yehudi \nWEEKLY EVENT FOR JEWISH YP’S \nYEHUDI HUB MIAMI BEACH \nAGES – 22-32 \nMenu:  POKE\, CHEESE & WINE \nCOME EARLY FOR EXTRA INSPIRATION! \nNEW PRE-EVENT CLASSES @ 7:15 \n 
URL:https://zushislist.com/single-event/tuesdays-at-yehudi/2029-09-11/
LOCATION:YEHUDI HUB MIAMI BEACH\, United States
CATEGORIES:Young Professionals
ATTACH;FMTTYPE=image/png:https://zushislist.com/wp-content/uploads/2026/04/Every-tuesday.png
END:VEVENT
BEGIN:VEVENT
DTSTART;TZID=America/New_York:20290918T191500
DTEND;TZID=America/New_York:20290918T210000
DTSTAMP:20260424T001224
CREATED:20260422T171726Z
LAST-MODIFIED:20260422T171726Z
UID:10015335-1884453300-1884459600@zushislist.com
SUMMARY:TUESDAYS at Yehudi
DESCRIPTION:TUESDAYS at Yehudi \nWEEKLY EVENT FOR JEWISH YP’S \nYEHUDI HUB MIAMI BEACH \nAGES – 22-32 \nMenu:  POKE\, CHEESE & WINE \nCOME EARLY FOR EXTRA INSPIRATION! \nNEW PRE-EVENT CLASSES @ 7:15 \n 
URL:https://zushislist.com/single-event/tuesdays-at-yehudi/2029-09-18/
LOCATION:YEHUDI HUB MIAMI BEACH\, United States
CATEGORIES:Young Professionals
ATTACH;FMTTYPE=image/png:https://zushislist.com/wp-content/uploads/2026/04/Every-tuesday.png
END:VEVENT
BEGIN:VEVENT
DTSTART;TZID=America/New_York:20290925T191500
DTEND;TZID=America/New_York:20290925T210000
DTSTAMP:20260424T001224
CREATED:20260422T171726Z
LAST-MODIFIED:20260422T171726Z
UID:10015336-1885058100-1885064400@zushislist.com
SUMMARY:TUESDAYS at Yehudi
DESCRIPTION:TUESDAYS at Yehudi \nWEEKLY EVENT FOR JEWISH YP’S \nYEHUDI HUB MIAMI BEACH \nAGES – 22-32 \nMenu:  POKE\, CHEESE & WINE \nCOME EARLY FOR EXTRA INSPIRATION! \nNEW PRE-EVENT CLASSES @ 7:15 \n 
URL:https://zushislist.com/single-event/tuesdays-at-yehudi/2029-09-25/
LOCATION:YEHUDI HUB MIAMI BEACH\, United States
CATEGORIES:Young Professionals
ATTACH;FMTTYPE=image/png:https://zushislist.com/wp-content/uploads/2026/04/Every-tuesday.png
END:VEVENT
BEGIN:VEVENT
DTSTART;TZID=America/New_York:20291002T191500
DTEND;TZID=America/New_York:20291002T210000
DTSTAMP:20260424T001224
CREATED:20260422T171726Z
LAST-MODIFIED:20260422T171726Z
UID:10015337-1885662900-1885669200@zushislist.com
SUMMARY:TUESDAYS at Yehudi
DESCRIPTION:TUESDAYS at Yehudi \nWEEKLY EVENT FOR JEWISH YP’S \nYEHUDI HUB MIAMI BEACH \nAGES – 22-32 \nMenu:  POKE\, CHEESE & WINE \nCOME EARLY FOR EXTRA INSPIRATION! \nNEW PRE-EVENT CLASSES @ 7:15 \n 
URL:https://zushislist.com/single-event/tuesdays-at-yehudi/2029-10-02/
LOCATION:YEHUDI HUB MIAMI BEACH\, United States
CATEGORIES:Young Professionals
ATTACH;FMTTYPE=image/png:https://zushislist.com/wp-content/uploads/2026/04/Every-tuesday.png
END:VEVENT
END:VCALENDAR