BEGIN:VCALENDAR
VERSION:2.0
PRODID:-//Zushi&#039;s List - ECPv6.15.20//NONSGML v1.0//EN
CALSCALE:GREGORIAN
METHOD:PUBLISH
X-ORIGINAL-URL:https://zushislist.com
X-WR-CALDESC:Events for Zushi&#039;s List
REFRESH-INTERVAL;VALUE=DURATION:PT1H
X-Robots-Tag:noindex
X-PUBLISHED-TTL:PT1H
BEGIN:VTIMEZONE
TZID:America/New_York
BEGIN:DAYLIGHT
TZOFFSETFROM:-0500
TZOFFSETTO:-0400
TZNAME:EDT
DTSTART:20290311T070000
END:DAYLIGHT
BEGIN:STANDARD
TZOFFSETFROM:-0400
TZOFFSETTO:-0500
TZNAME:EST
DTSTART:20291104T060000
END:STANDARD
BEGIN:DAYLIGHT
TZOFFSETFROM:-0500
TZOFFSETTO:-0400
TZNAME:EDT
DTSTART:20300310T070000
END:DAYLIGHT
BEGIN:STANDARD
TZOFFSETFROM:-0400
TZOFFSETTO:-0500
TZNAME:EST
DTSTART:20301103T060000
END:STANDARD
BEGIN:DAYLIGHT
TZOFFSETFROM:-0500
TZOFFSETTO:-0400
TZNAME:EDT
DTSTART:20310309T070000
END:DAYLIGHT
BEGIN:STANDARD
TZOFFSETFROM:-0400
TZOFFSETTO:-0500
TZNAME:EST
DTSTART:20311102T060000
END:STANDARD
END:VTIMEZONE
BEGIN:VEVENT
DTSTART;TZID=America/New_York:20300226T191500
DTEND;TZID=America/New_York:20300226T210000
DTSTAMP:20260424T044137
CREATED:20260422T171726Z
LAST-MODIFIED:20260422T171726Z
UID:10015358-1898363700-1898370000@zushislist.com
SUMMARY:TUESDAYS at Yehudi
DESCRIPTION:TUESDAYS at Yehudi \nWEEKLY EVENT FOR JEWISH YP’S \nYEHUDI HUB MIAMI BEACH \nAGES – 22-32 \nMenu:  POKE\, CHEESE & WINE \nCOME EARLY FOR EXTRA INSPIRATION! \nNEW PRE-EVENT CLASSES @ 7:15 \n 
URL:https://zushislist.com/single-event/tuesdays-at-yehudi/2030-02-26/
LOCATION:YEHUDI HUB MIAMI BEACH\, United States
CATEGORIES:Young Professionals
ATTACH;FMTTYPE=image/png:https://zushislist.com/wp-content/uploads/2026/04/Every-tuesday.png
END:VEVENT
BEGIN:VEVENT
DTSTART;TZID=America/New_York:20300305T191500
DTEND;TZID=America/New_York:20300305T210000
DTSTAMP:20260424T044137
CREATED:20260422T171726Z
LAST-MODIFIED:20260422T171726Z
UID:10015359-1898968500-1898974800@zushislist.com
SUMMARY:TUESDAYS at Yehudi
DESCRIPTION:TUESDAYS at Yehudi \nWEEKLY EVENT FOR JEWISH YP’S \nYEHUDI HUB MIAMI BEACH \nAGES – 22-32 \nMenu:  POKE\, CHEESE & WINE \nCOME EARLY FOR EXTRA INSPIRATION! \nNEW PRE-EVENT CLASSES @ 7:15 \n 
URL:https://zushislist.com/single-event/tuesdays-at-yehudi/2030-03-05/
LOCATION:YEHUDI HUB MIAMI BEACH\, United States
CATEGORIES:Young Professionals
ATTACH;FMTTYPE=image/png:https://zushislist.com/wp-content/uploads/2026/04/Every-tuesday.png
END:VEVENT
BEGIN:VEVENT
DTSTART;TZID=America/New_York:20300312T191500
DTEND;TZID=America/New_York:20300312T210000
DTSTAMP:20260424T044137
CREATED:20260422T171726Z
LAST-MODIFIED:20260422T171726Z
UID:10015360-1899573300-1899579600@zushislist.com
SUMMARY:TUESDAYS at Yehudi
DESCRIPTION:TUESDAYS at Yehudi \nWEEKLY EVENT FOR JEWISH YP’S \nYEHUDI HUB MIAMI BEACH \nAGES – 22-32 \nMenu:  POKE\, CHEESE & WINE \nCOME EARLY FOR EXTRA INSPIRATION! \nNEW PRE-EVENT CLASSES @ 7:15 \n 
URL:https://zushislist.com/single-event/tuesdays-at-yehudi/2030-03-12/
LOCATION:YEHUDI HUB MIAMI BEACH\, United States
CATEGORIES:Young Professionals
ATTACH;FMTTYPE=image/png:https://zushislist.com/wp-content/uploads/2026/04/Every-tuesday.png
END:VEVENT
BEGIN:VEVENT
DTSTART;TZID=America/New_York:20300319T191500
DTEND;TZID=America/New_York:20300319T210000
DTSTAMP:20260424T044137
CREATED:20260422T171726Z
LAST-MODIFIED:20260422T171726Z
UID:10015361-1900178100-1900184400@zushislist.com
SUMMARY:TUESDAYS at Yehudi
DESCRIPTION:TUESDAYS at Yehudi \nWEEKLY EVENT FOR JEWISH YP’S \nYEHUDI HUB MIAMI BEACH \nAGES – 22-32 \nMenu:  POKE\, CHEESE & WINE \nCOME EARLY FOR EXTRA INSPIRATION! \nNEW PRE-EVENT CLASSES @ 7:15 \n 
URL:https://zushislist.com/single-event/tuesdays-at-yehudi/2030-03-19/
LOCATION:YEHUDI HUB MIAMI BEACH\, United States
CATEGORIES:Young Professionals
ATTACH;FMTTYPE=image/png:https://zushislist.com/wp-content/uploads/2026/04/Every-tuesday.png
END:VEVENT
BEGIN:VEVENT
DTSTART;TZID=America/New_York:20300326T191500
DTEND;TZID=America/New_York:20300326T210000
DTSTAMP:20260424T044137
CREATED:20260422T171726Z
LAST-MODIFIED:20260422T171726Z
UID:10015362-1900782900-1900789200@zushislist.com
SUMMARY:TUESDAYS at Yehudi
DESCRIPTION:TUESDAYS at Yehudi \nWEEKLY EVENT FOR JEWISH YP’S \nYEHUDI HUB MIAMI BEACH \nAGES – 22-32 \nMenu:  POKE\, CHEESE & WINE \nCOME EARLY FOR EXTRA INSPIRATION! \nNEW PRE-EVENT CLASSES @ 7:15 \n 
URL:https://zushislist.com/single-event/tuesdays-at-yehudi/2030-03-26/
LOCATION:YEHUDI HUB MIAMI BEACH\, United States
CATEGORIES:Young Professionals
ATTACH;FMTTYPE=image/png:https://zushislist.com/wp-content/uploads/2026/04/Every-tuesday.png
END:VEVENT
BEGIN:VEVENT
DTSTART;TZID=America/New_York:20300402T191500
DTEND;TZID=America/New_York:20300402T210000
DTSTAMP:20260424T044137
CREATED:20260422T171726Z
LAST-MODIFIED:20260422T171726Z
UID:10015363-1901387700-1901394000@zushislist.com
SUMMARY:TUESDAYS at Yehudi
DESCRIPTION:TUESDAYS at Yehudi \nWEEKLY EVENT FOR JEWISH YP’S \nYEHUDI HUB MIAMI BEACH \nAGES – 22-32 \nMenu:  POKE\, CHEESE & WINE \nCOME EARLY FOR EXTRA INSPIRATION! \nNEW PRE-EVENT CLASSES @ 7:15 \n 
URL:https://zushislist.com/single-event/tuesdays-at-yehudi/2030-04-02/
LOCATION:YEHUDI HUB MIAMI BEACH\, United States
CATEGORIES:Young Professionals
ATTACH;FMTTYPE=image/png:https://zushislist.com/wp-content/uploads/2026/04/Every-tuesday.png
END:VEVENT
BEGIN:VEVENT
DTSTART;TZID=America/New_York:20300409T191500
DTEND;TZID=America/New_York:20300409T210000
DTSTAMP:20260424T044137
CREATED:20260422T171726Z
LAST-MODIFIED:20260422T171726Z
UID:10015364-1901992500-1901998800@zushislist.com
SUMMARY:TUESDAYS at Yehudi
DESCRIPTION:TUESDAYS at Yehudi \nWEEKLY EVENT FOR JEWISH YP’S \nYEHUDI HUB MIAMI BEACH \nAGES – 22-32 \nMenu:  POKE\, CHEESE & WINE \nCOME EARLY FOR EXTRA INSPIRATION! \nNEW PRE-EVENT CLASSES @ 7:15 \n 
URL:https://zushislist.com/single-event/tuesdays-at-yehudi/2030-04-09/
LOCATION:YEHUDI HUB MIAMI BEACH\, United States
CATEGORIES:Young Professionals
ATTACH;FMTTYPE=image/png:https://zushislist.com/wp-content/uploads/2026/04/Every-tuesday.png
END:VEVENT
BEGIN:VEVENT
DTSTART;TZID=America/New_York:20300416T191500
DTEND;TZID=America/New_York:20300416T210000
DTSTAMP:20260424T044137
CREATED:20260422T171726Z
LAST-MODIFIED:20260422T171726Z
UID:10015365-1902597300-1902603600@zushislist.com
SUMMARY:TUESDAYS at Yehudi
DESCRIPTION:TUESDAYS at Yehudi \nWEEKLY EVENT FOR JEWISH YP’S \nYEHUDI HUB MIAMI BEACH \nAGES – 22-32 \nMenu:  POKE\, CHEESE & WINE \nCOME EARLY FOR EXTRA INSPIRATION! \nNEW PRE-EVENT CLASSES @ 7:15 \n 
URL:https://zushislist.com/single-event/tuesdays-at-yehudi/2030-04-16/
LOCATION:YEHUDI HUB MIAMI BEACH\, United States
CATEGORIES:Young Professionals
ATTACH;FMTTYPE=image/png:https://zushislist.com/wp-content/uploads/2026/04/Every-tuesday.png
END:VEVENT
BEGIN:VEVENT
DTSTART;TZID=America/New_York:20300423T191500
DTEND;TZID=America/New_York:20300423T210000
DTSTAMP:20260424T044137
CREATED:20260422T171726Z
LAST-MODIFIED:20260422T171726Z
UID:10015366-1903202100-1903208400@zushislist.com
SUMMARY:TUESDAYS at Yehudi
DESCRIPTION:TUESDAYS at Yehudi \nWEEKLY EVENT FOR JEWISH YP’S \nYEHUDI HUB MIAMI BEACH \nAGES – 22-32 \nMenu:  POKE\, CHEESE & WINE \nCOME EARLY FOR EXTRA INSPIRATION! \nNEW PRE-EVENT CLASSES @ 7:15 \n 
URL:https://zushislist.com/single-event/tuesdays-at-yehudi/2030-04-23/
LOCATION:YEHUDI HUB MIAMI BEACH\, United States
CATEGORIES:Young Professionals
ATTACH;FMTTYPE=image/png:https://zushislist.com/wp-content/uploads/2026/04/Every-tuesday.png
END:VEVENT
BEGIN:VEVENT
DTSTART;TZID=America/New_York:20300430T191500
DTEND;TZID=America/New_York:20300430T210000
DTSTAMP:20260424T044137
CREATED:20260422T171726Z
LAST-MODIFIED:20260422T171726Z
UID:10015367-1903806900-1903813200@zushislist.com
SUMMARY:TUESDAYS at Yehudi
DESCRIPTION:TUESDAYS at Yehudi \nWEEKLY EVENT FOR JEWISH YP’S \nYEHUDI HUB MIAMI BEACH \nAGES – 22-32 \nMenu:  POKE\, CHEESE & WINE \nCOME EARLY FOR EXTRA INSPIRATION! \nNEW PRE-EVENT CLASSES @ 7:15 \n 
URL:https://zushislist.com/single-event/tuesdays-at-yehudi/2030-04-30/
LOCATION:YEHUDI HUB MIAMI BEACH\, United States
CATEGORIES:Young Professionals
ATTACH;FMTTYPE=image/png:https://zushislist.com/wp-content/uploads/2026/04/Every-tuesday.png
END:VEVENT
BEGIN:VEVENT
DTSTART;TZID=America/New_York:20300507T191500
DTEND;TZID=America/New_York:20300507T210000
DTSTAMP:20260424T044137
CREATED:20260422T171726Z
LAST-MODIFIED:20260422T171726Z
UID:10015368-1904411700-1904418000@zushislist.com
SUMMARY:TUESDAYS at Yehudi
DESCRIPTION:TUESDAYS at Yehudi \nWEEKLY EVENT FOR JEWISH YP’S \nYEHUDI HUB MIAMI BEACH \nAGES – 22-32 \nMenu:  POKE\, CHEESE & WINE \nCOME EARLY FOR EXTRA INSPIRATION! \nNEW PRE-EVENT CLASSES @ 7:15 \n 
URL:https://zushislist.com/single-event/tuesdays-at-yehudi/2030-05-07/
LOCATION:YEHUDI HUB MIAMI BEACH\, United States
CATEGORIES:Young Professionals
ATTACH;FMTTYPE=image/png:https://zushislist.com/wp-content/uploads/2026/04/Every-tuesday.png
END:VEVENT
BEGIN:VEVENT
DTSTART;TZID=America/New_York:20300514T191500
DTEND;TZID=America/New_York:20300514T210000
DTSTAMP:20260424T044137
CREATED:20260422T171726Z
LAST-MODIFIED:20260422T171726Z
UID:10015369-1905016500-1905022800@zushislist.com
SUMMARY:TUESDAYS at Yehudi
DESCRIPTION:TUESDAYS at Yehudi \nWEEKLY EVENT FOR JEWISH YP’S \nYEHUDI HUB MIAMI BEACH \nAGES – 22-32 \nMenu:  POKE\, CHEESE & WINE \nCOME EARLY FOR EXTRA INSPIRATION! \nNEW PRE-EVENT CLASSES @ 7:15 \n 
URL:https://zushislist.com/single-event/tuesdays-at-yehudi/2030-05-14/
LOCATION:YEHUDI HUB MIAMI BEACH\, United States
CATEGORIES:Young Professionals
ATTACH;FMTTYPE=image/png:https://zushislist.com/wp-content/uploads/2026/04/Every-tuesday.png
END:VEVENT
BEGIN:VEVENT
DTSTART;TZID=America/New_York:20300521T191500
DTEND;TZID=America/New_York:20300521T210000
DTSTAMP:20260424T044137
CREATED:20260422T171726Z
LAST-MODIFIED:20260422T171726Z
UID:10015370-1905621300-1905627600@zushislist.com
SUMMARY:TUESDAYS at Yehudi
DESCRIPTION:TUESDAYS at Yehudi \nWEEKLY EVENT FOR JEWISH YP’S \nYEHUDI HUB MIAMI BEACH \nAGES – 22-32 \nMenu:  POKE\, CHEESE & WINE \nCOME EARLY FOR EXTRA INSPIRATION! \nNEW PRE-EVENT CLASSES @ 7:15 \n 
URL:https://zushislist.com/single-event/tuesdays-at-yehudi/2030-05-21/
LOCATION:YEHUDI HUB MIAMI BEACH\, United States
CATEGORIES:Young Professionals
ATTACH;FMTTYPE=image/png:https://zushislist.com/wp-content/uploads/2026/04/Every-tuesday.png
END:VEVENT
BEGIN:VEVENT
DTSTART;TZID=America/New_York:20300528T191500
DTEND;TZID=America/New_York:20300528T210000
DTSTAMP:20260424T044137
CREATED:20260422T171726Z
LAST-MODIFIED:20260422T171726Z
UID:10015371-1906226100-1906232400@zushislist.com
SUMMARY:TUESDAYS at Yehudi
DESCRIPTION:TUESDAYS at Yehudi \nWEEKLY EVENT FOR JEWISH YP’S \nYEHUDI HUB MIAMI BEACH \nAGES – 22-32 \nMenu:  POKE\, CHEESE & WINE \nCOME EARLY FOR EXTRA INSPIRATION! \nNEW PRE-EVENT CLASSES @ 7:15 \n 
URL:https://zushislist.com/single-event/tuesdays-at-yehudi/2030-05-28/
LOCATION:YEHUDI HUB MIAMI BEACH\, United States
CATEGORIES:Young Professionals
ATTACH;FMTTYPE=image/png:https://zushislist.com/wp-content/uploads/2026/04/Every-tuesday.png
END:VEVENT
BEGIN:VEVENT
DTSTART;TZID=America/New_York:20300604T191500
DTEND;TZID=America/New_York:20300604T210000
DTSTAMP:20260424T044137
CREATED:20260422T171726Z
LAST-MODIFIED:20260422T171726Z
UID:10015372-1906830900-1906837200@zushislist.com
SUMMARY:TUESDAYS at Yehudi
DESCRIPTION:TUESDAYS at Yehudi \nWEEKLY EVENT FOR JEWISH YP’S \nYEHUDI HUB MIAMI BEACH \nAGES – 22-32 \nMenu:  POKE\, CHEESE & WINE \nCOME EARLY FOR EXTRA INSPIRATION! \nNEW PRE-EVENT CLASSES @ 7:15 \n 
URL:https://zushislist.com/single-event/tuesdays-at-yehudi/2030-06-04/
LOCATION:YEHUDI HUB MIAMI BEACH\, United States
CATEGORIES:Young Professionals
ATTACH;FMTTYPE=image/png:https://zushislist.com/wp-content/uploads/2026/04/Every-tuesday.png
END:VEVENT
BEGIN:VEVENT
DTSTART;TZID=America/New_York:20300611T191500
DTEND;TZID=America/New_York:20300611T210000
DTSTAMP:20260424T044137
CREATED:20260422T171726Z
LAST-MODIFIED:20260422T171726Z
UID:10015373-1907435700-1907442000@zushislist.com
SUMMARY:TUESDAYS at Yehudi
DESCRIPTION:TUESDAYS at Yehudi \nWEEKLY EVENT FOR JEWISH YP’S \nYEHUDI HUB MIAMI BEACH \nAGES – 22-32 \nMenu:  POKE\, CHEESE & WINE \nCOME EARLY FOR EXTRA INSPIRATION! \nNEW PRE-EVENT CLASSES @ 7:15 \n 
URL:https://zushislist.com/single-event/tuesdays-at-yehudi/2030-06-11/
LOCATION:YEHUDI HUB MIAMI BEACH\, United States
CATEGORIES:Young Professionals
ATTACH;FMTTYPE=image/png:https://zushislist.com/wp-content/uploads/2026/04/Every-tuesday.png
END:VEVENT
BEGIN:VEVENT
DTSTART;TZID=America/New_York:20300618T191500
DTEND;TZID=America/New_York:20300618T210000
DTSTAMP:20260424T044137
CREATED:20260422T171726Z
LAST-MODIFIED:20260422T171726Z
UID:10015374-1908040500-1908046800@zushislist.com
SUMMARY:TUESDAYS at Yehudi
DESCRIPTION:TUESDAYS at Yehudi \nWEEKLY EVENT FOR JEWISH YP’S \nYEHUDI HUB MIAMI BEACH \nAGES – 22-32 \nMenu:  POKE\, CHEESE & WINE \nCOME EARLY FOR EXTRA INSPIRATION! \nNEW PRE-EVENT CLASSES @ 7:15 \n 
URL:https://zushislist.com/single-event/tuesdays-at-yehudi/2030-06-18/
LOCATION:YEHUDI HUB MIAMI BEACH\, United States
CATEGORIES:Young Professionals
ATTACH;FMTTYPE=image/png:https://zushislist.com/wp-content/uploads/2026/04/Every-tuesday.png
END:VEVENT
BEGIN:VEVENT
DTSTART;TZID=America/New_York:20300625T191500
DTEND;TZID=America/New_York:20300625T210000
DTSTAMP:20260424T044137
CREATED:20260422T171726Z
LAST-MODIFIED:20260422T171726Z
UID:10015375-1908645300-1908651600@zushislist.com
SUMMARY:TUESDAYS at Yehudi
DESCRIPTION:TUESDAYS at Yehudi \nWEEKLY EVENT FOR JEWISH YP’S \nYEHUDI HUB MIAMI BEACH \nAGES – 22-32 \nMenu:  POKE\, CHEESE & WINE \nCOME EARLY FOR EXTRA INSPIRATION! \nNEW PRE-EVENT CLASSES @ 7:15 \n 
URL:https://zushislist.com/single-event/tuesdays-at-yehudi/2030-06-25/
LOCATION:YEHUDI HUB MIAMI BEACH\, United States
CATEGORIES:Young Professionals
ATTACH;FMTTYPE=image/png:https://zushislist.com/wp-content/uploads/2026/04/Every-tuesday.png
END:VEVENT
BEGIN:VEVENT
DTSTART;TZID=America/New_York:20300702T191500
DTEND;TZID=America/New_York:20300702T210000
DTSTAMP:20260424T044137
CREATED:20260422T171726Z
LAST-MODIFIED:20260422T171726Z
UID:10015376-1909250100-1909256400@zushislist.com
SUMMARY:TUESDAYS at Yehudi
DESCRIPTION:TUESDAYS at Yehudi \nWEEKLY EVENT FOR JEWISH YP’S \nYEHUDI HUB MIAMI BEACH \nAGES – 22-32 \nMenu:  POKE\, CHEESE & WINE \nCOME EARLY FOR EXTRA INSPIRATION! \nNEW PRE-EVENT CLASSES @ 7:15 \n 
URL:https://zushislist.com/single-event/tuesdays-at-yehudi/2030-07-02/
LOCATION:YEHUDI HUB MIAMI BEACH\, United States
CATEGORIES:Young Professionals
ATTACH;FMTTYPE=image/png:https://zushislist.com/wp-content/uploads/2026/04/Every-tuesday.png
END:VEVENT
BEGIN:VEVENT
DTSTART;TZID=America/New_York:20300709T191500
DTEND;TZID=America/New_York:20300709T210000
DTSTAMP:20260424T044137
CREATED:20260422T171726Z
LAST-MODIFIED:20260422T171726Z
UID:10015377-1909854900-1909861200@zushislist.com
SUMMARY:TUESDAYS at Yehudi
DESCRIPTION:TUESDAYS at Yehudi \nWEEKLY EVENT FOR JEWISH YP’S \nYEHUDI HUB MIAMI BEACH \nAGES – 22-32 \nMenu:  POKE\, CHEESE & WINE \nCOME EARLY FOR EXTRA INSPIRATION! \nNEW PRE-EVENT CLASSES @ 7:15 \n 
URL:https://zushislist.com/single-event/tuesdays-at-yehudi/2030-07-09/
LOCATION:YEHUDI HUB MIAMI BEACH\, United States
CATEGORIES:Young Professionals
ATTACH;FMTTYPE=image/png:https://zushislist.com/wp-content/uploads/2026/04/Every-tuesday.png
END:VEVENT
BEGIN:VEVENT
DTSTART;TZID=America/New_York:20300716T191500
DTEND;TZID=America/New_York:20300716T210000
DTSTAMP:20260424T044137
CREATED:20260422T171726Z
LAST-MODIFIED:20260422T171726Z
UID:10015378-1910459700-1910466000@zushislist.com
SUMMARY:TUESDAYS at Yehudi
DESCRIPTION:TUESDAYS at Yehudi \nWEEKLY EVENT FOR JEWISH YP’S \nYEHUDI HUB MIAMI BEACH \nAGES – 22-32 \nMenu:  POKE\, CHEESE & WINE \nCOME EARLY FOR EXTRA INSPIRATION! \nNEW PRE-EVENT CLASSES @ 7:15 \n 
URL:https://zushislist.com/single-event/tuesdays-at-yehudi/2030-07-16/
LOCATION:YEHUDI HUB MIAMI BEACH\, United States
CATEGORIES:Young Professionals
ATTACH;FMTTYPE=image/png:https://zushislist.com/wp-content/uploads/2026/04/Every-tuesday.png
END:VEVENT
BEGIN:VEVENT
DTSTART;TZID=America/New_York:20300723T191500
DTEND;TZID=America/New_York:20300723T210000
DTSTAMP:20260424T044137
CREATED:20260422T171726Z
LAST-MODIFIED:20260422T171726Z
UID:10015379-1911064500-1911070800@zushislist.com
SUMMARY:TUESDAYS at Yehudi
DESCRIPTION:TUESDAYS at Yehudi \nWEEKLY EVENT FOR JEWISH YP’S \nYEHUDI HUB MIAMI BEACH \nAGES – 22-32 \nMenu:  POKE\, CHEESE & WINE \nCOME EARLY FOR EXTRA INSPIRATION! \nNEW PRE-EVENT CLASSES @ 7:15 \n 
URL:https://zushislist.com/single-event/tuesdays-at-yehudi/2030-07-23/
LOCATION:YEHUDI HUB MIAMI BEACH\, United States
CATEGORIES:Young Professionals
ATTACH;FMTTYPE=image/png:https://zushislist.com/wp-content/uploads/2026/04/Every-tuesday.png
END:VEVENT
BEGIN:VEVENT
DTSTART;TZID=America/New_York:20300730T191500
DTEND;TZID=America/New_York:20300730T210000
DTSTAMP:20260424T044137
CREATED:20260422T171726Z
LAST-MODIFIED:20260422T171726Z
UID:10015380-1911669300-1911675600@zushislist.com
SUMMARY:TUESDAYS at Yehudi
DESCRIPTION:TUESDAYS at Yehudi \nWEEKLY EVENT FOR JEWISH YP’S \nYEHUDI HUB MIAMI BEACH \nAGES – 22-32 \nMenu:  POKE\, CHEESE & WINE \nCOME EARLY FOR EXTRA INSPIRATION! \nNEW PRE-EVENT CLASSES @ 7:15 \n 
URL:https://zushislist.com/single-event/tuesdays-at-yehudi/2030-07-30/
LOCATION:YEHUDI HUB MIAMI BEACH\, United States
CATEGORIES:Young Professionals
ATTACH;FMTTYPE=image/png:https://zushislist.com/wp-content/uploads/2026/04/Every-tuesday.png
END:VEVENT
BEGIN:VEVENT
DTSTART;TZID=America/New_York:20300806T191500
DTEND;TZID=America/New_York:20300806T210000
DTSTAMP:20260424T044137
CREATED:20260422T171726Z
LAST-MODIFIED:20260422T171726Z
UID:10015381-1912274100-1912280400@zushislist.com
SUMMARY:TUESDAYS at Yehudi
DESCRIPTION:TUESDAYS at Yehudi \nWEEKLY EVENT FOR JEWISH YP’S \nYEHUDI HUB MIAMI BEACH \nAGES – 22-32 \nMenu:  POKE\, CHEESE & WINE \nCOME EARLY FOR EXTRA INSPIRATION! \nNEW PRE-EVENT CLASSES @ 7:15 \n 
URL:https://zushislist.com/single-event/tuesdays-at-yehudi/2030-08-06/
LOCATION:YEHUDI HUB MIAMI BEACH\, United States
CATEGORIES:Young Professionals
ATTACH;FMTTYPE=image/png:https://zushislist.com/wp-content/uploads/2026/04/Every-tuesday.png
END:VEVENT
BEGIN:VEVENT
DTSTART;TZID=America/New_York:20300813T191500
DTEND;TZID=America/New_York:20300813T210000
DTSTAMP:20260424T044137
CREATED:20260422T171726Z
LAST-MODIFIED:20260422T171726Z
UID:10015382-1912878900-1912885200@zushislist.com
SUMMARY:TUESDAYS at Yehudi
DESCRIPTION:TUESDAYS at Yehudi \nWEEKLY EVENT FOR JEWISH YP’S \nYEHUDI HUB MIAMI BEACH \nAGES – 22-32 \nMenu:  POKE\, CHEESE & WINE \nCOME EARLY FOR EXTRA INSPIRATION! \nNEW PRE-EVENT CLASSES @ 7:15 \n 
URL:https://zushislist.com/single-event/tuesdays-at-yehudi/2030-08-13/
LOCATION:YEHUDI HUB MIAMI BEACH\, United States
CATEGORIES:Young Professionals
ATTACH;FMTTYPE=image/png:https://zushislist.com/wp-content/uploads/2026/04/Every-tuesday.png
END:VEVENT
BEGIN:VEVENT
DTSTART;TZID=America/New_York:20300820T191500
DTEND;TZID=America/New_York:20300820T210000
DTSTAMP:20260424T044137
CREATED:20260422T171726Z
LAST-MODIFIED:20260422T171726Z
UID:10015383-1913483700-1913490000@zushislist.com
SUMMARY:TUESDAYS at Yehudi
DESCRIPTION:TUESDAYS at Yehudi \nWEEKLY EVENT FOR JEWISH YP’S \nYEHUDI HUB MIAMI BEACH \nAGES – 22-32 \nMenu:  POKE\, CHEESE & WINE \nCOME EARLY FOR EXTRA INSPIRATION! \nNEW PRE-EVENT CLASSES @ 7:15 \n 
URL:https://zushislist.com/single-event/tuesdays-at-yehudi/2030-08-20/
LOCATION:YEHUDI HUB MIAMI BEACH\, United States
CATEGORIES:Young Professionals
ATTACH;FMTTYPE=image/png:https://zushislist.com/wp-content/uploads/2026/04/Every-tuesday.png
END:VEVENT
BEGIN:VEVENT
DTSTART;TZID=America/New_York:20300827T191500
DTEND;TZID=America/New_York:20300827T210000
DTSTAMP:20260424T044137
CREATED:20260422T171726Z
LAST-MODIFIED:20260422T171726Z
UID:10015384-1914088500-1914094800@zushislist.com
SUMMARY:TUESDAYS at Yehudi
DESCRIPTION:TUESDAYS at Yehudi \nWEEKLY EVENT FOR JEWISH YP’S \nYEHUDI HUB MIAMI BEACH \nAGES – 22-32 \nMenu:  POKE\, CHEESE & WINE \nCOME EARLY FOR EXTRA INSPIRATION! \nNEW PRE-EVENT CLASSES @ 7:15 \n 
URL:https://zushislist.com/single-event/tuesdays-at-yehudi/2030-08-27/
LOCATION:YEHUDI HUB MIAMI BEACH\, United States
CATEGORIES:Young Professionals
ATTACH;FMTTYPE=image/png:https://zushislist.com/wp-content/uploads/2026/04/Every-tuesday.png
END:VEVENT
BEGIN:VEVENT
DTSTART;TZID=America/New_York:20300903T191500
DTEND;TZID=America/New_York:20300903T210000
DTSTAMP:20260424T044137
CREATED:20260422T171726Z
LAST-MODIFIED:20260422T171726Z
UID:10015385-1914693300-1914699600@zushislist.com
SUMMARY:TUESDAYS at Yehudi
DESCRIPTION:TUESDAYS at Yehudi \nWEEKLY EVENT FOR JEWISH YP’S \nYEHUDI HUB MIAMI BEACH \nAGES – 22-32 \nMenu:  POKE\, CHEESE & WINE \nCOME EARLY FOR EXTRA INSPIRATION! \nNEW PRE-EVENT CLASSES @ 7:15 \n 
URL:https://zushislist.com/single-event/tuesdays-at-yehudi/2030-09-03/
LOCATION:YEHUDI HUB MIAMI BEACH\, United States
CATEGORIES:Young Professionals
ATTACH;FMTTYPE=image/png:https://zushislist.com/wp-content/uploads/2026/04/Every-tuesday.png
END:VEVENT
BEGIN:VEVENT
DTSTART;TZID=America/New_York:20300910T191500
DTEND;TZID=America/New_York:20300910T210000
DTSTAMP:20260424T044137
CREATED:20260422T171726Z
LAST-MODIFIED:20260422T171726Z
UID:10015386-1915298100-1915304400@zushislist.com
SUMMARY:TUESDAYS at Yehudi
DESCRIPTION:TUESDAYS at Yehudi \nWEEKLY EVENT FOR JEWISH YP’S \nYEHUDI HUB MIAMI BEACH \nAGES – 22-32 \nMenu:  POKE\, CHEESE & WINE \nCOME EARLY FOR EXTRA INSPIRATION! \nNEW PRE-EVENT CLASSES @ 7:15 \n 
URL:https://zushislist.com/single-event/tuesdays-at-yehudi/2030-09-10/
LOCATION:YEHUDI HUB MIAMI BEACH\, United States
CATEGORIES:Young Professionals
ATTACH;FMTTYPE=image/png:https://zushislist.com/wp-content/uploads/2026/04/Every-tuesday.png
END:VEVENT
BEGIN:VEVENT
DTSTART;TZID=America/New_York:20300917T191500
DTEND;TZID=America/New_York:20300917T210000
DTSTAMP:20260424T044137
CREATED:20260422T171726Z
LAST-MODIFIED:20260422T171726Z
UID:10015387-1915902900-1915909200@zushislist.com
SUMMARY:TUESDAYS at Yehudi
DESCRIPTION:TUESDAYS at Yehudi \nWEEKLY EVENT FOR JEWISH YP’S \nYEHUDI HUB MIAMI BEACH \nAGES – 22-32 \nMenu:  POKE\, CHEESE & WINE \nCOME EARLY FOR EXTRA INSPIRATION! \nNEW PRE-EVENT CLASSES @ 7:15 \n 
URL:https://zushislist.com/single-event/tuesdays-at-yehudi/2030-09-17/
LOCATION:YEHUDI HUB MIAMI BEACH\, United States
CATEGORIES:Young Professionals
ATTACH;FMTTYPE=image/png:https://zushislist.com/wp-content/uploads/2026/04/Every-tuesday.png
END:VEVENT
END:VCALENDAR